BEGIN:VCALENDAR
VERSION:2.0
PRODID:-//Evangelisches Forum Bonn - ECPv6.15.20//NONSGML v1.0//EN
CALSCALE:GREGORIAN
METHOD:PUBLISH
X-WR-CALNAME:Evangelisches Forum Bonn
X-ORIGINAL-URL:https://www.evforum-bonn.de
X-WR-CALDESC:Veranstaltungen für Evangelisches Forum Bonn
REFRESH-INTERVAL;VALUE=DURATION:PT1H
X-Robots-Tag:noindex
X-PUBLISHED-TTL:PT1H
BEGIN:VTIMEZONE
TZID:Europe/Berlin
BEGIN:DAYLIGHT
TZOFFSETFROM:+0100
TZOFFSETTO:+0200
TZNAME:CEST
DTSTART:20240331T010000
END:DAYLIGHT
BEGIN:STANDARD
TZOFFSETFROM:+0200
TZOFFSETTO:+0100
TZNAME:CET
DTSTART:20241027T010000
END:STANDARD
BEGIN:DAYLIGHT
TZOFFSETFROM:+0100
TZOFFSETTO:+0200
TZNAME:CEST
DTSTART:20250330T010000
END:DAYLIGHT
BEGIN:STANDARD
TZOFFSETFROM:+0200
TZOFFSETTO:+0100
TZNAME:CET
DTSTART:20251026T010000
END:STANDARD
BEGIN:DAYLIGHT
TZOFFSETFROM:+0100
TZOFFSETTO:+0200
TZNAME:CEST
DTSTART:20260329T010000
END:DAYLIGHT
BEGIN:STANDARD
TZOFFSETFROM:+0200
TZOFFSETTO:+0100
TZNAME:CET
DTSTART:20261025T010000
END:STANDARD
END:VTIMEZONE
BEGIN:VEVENT
DTSTART;TZID=Europe/Berlin:20250220T180000
DTEND;TZID=Europe/Berlin:20250220T210000
DTSTAMP:20260423T120727
CREATED:20250115T103726Z
LAST-MODIFIED:20250313T094623Z
UID:10005167-1740074400-1740085200@www.evforum-bonn.de
SUMMARY:Workshop - Haltung zeigen!
DESCRIPTION:20.02.2025 – ab 18 Uhr im Haus der Ev. Kirche – Anmeldung bei anne.rempel-grunwaldt@ekbgv.de \, Tel. 0228-30787-0\nDer Beitrag der Kirche zu einer wehrhaften Demokratie\nBonn. Der für seine klare Haltung gegen Rechtsextremismus bekannte Theologe Dr. Dr. h.c. Markus Dröge\, Bischof i.R. der Evangelischen Kirche Berlin-Brandenburg-schlesische Oberlausitz beschreibt den “Beitrag der Kirche zu einer wehrhaften Demokratie” vor dem Hintergrund seiner Erfahrungen und Reflexionen aus einer Ostdeutschen Kirche. Das Evangelische Forum Bonn lädt gemeinsam mit einem ökumenischen Bündnis aus Bonn und der Region zu dieser Veranstaltung am 20. Februar ab 18 Uhr im Haus der Evangelischen Kirche Bonn ein.\n\nDr. Dr. h.c. M. Dröge \nDr. Dr. h.c. Markus Dröge: „Die Zeiten sind vorbei\, in denen wir meinten\, uns in unserer Gesellschaft auf einen Grundkonsens der Werte verlassen zu können. Jetzt muss die Kirche wieder neu zu einer klar bekennenden Kirche werden. Nur so kann sie glaubwürdig ihren Teil zu einer wehrhaften Demokratie beitragen.“ \nEintreten für die Demokratie und Raum für Austausch schaffen\, das ist der Fokus der Veranstaltungs-Reihe „Haltung zeigen“: \n“In der interkulturellen Arbeit sehen wir immer wieder\, dass es so viele Zwischenräume gibt und die aktuelle Debatte vieles verkürzt darstellt. Als kirchliche Akteure können wir genau diese Zwischenräume beleuchten und Menschen Hoffnung geben”\, \nsagt Mitorganisatorin Verica Dominic-Bernard\, Aktion Neue Nachbarn\, Caritas Bonn.\nAus einem christlichen Menschenbild heraus wollen sich die Veranstalter*innen in Bonn einsetzen für Lösungen\, die alle Perspektiven mitdenken. Im April wird es Kommunikationstrainings geben\, um zu lernen\, sich nicht von populistischen Argumenten treiben zu lassen. Gute Beispiele von gemeinschaftlichen Initiativen für ein tolerantes Miteinander werden dann bei einem großen Austausch im Mai präsentiert. \n2025-02-20 Rückblick_Proaktiv für unsere Demokratie einstehen \n02.04.2025 \nKommunikationstrainings: Für Kirchengemeinden und Privatpersonen\nHaus der Kirche\, Adenauerallee 37\, Bonn\nStart um 18 Uhr mit Imbiss\, bis 21 Uhr \n14.05.2025\nAustausch: Was tun für Zusammenhalt?\nGute Beispiele aus Kirche & Gesellschaft\nKirchenpavillon\, Kaiserplatz 1\, Bonn\nStart um 18 Uhr mit Imbiss\, bis 21 Uhr\n \nDie Workshops sind kostenlos und können zusammenhängend oder einzeln besucht werden.\n \nProgramm und Informationen – hier!
URL:https://www.evforum-bonn.de/veranstaltung/workshop-haltung-zeigen/
LOCATION:Haus der Ev. Kirche Bonn\, Adenauerallee 37\, Bonn\, NRW\, 53113\, Germany
CATEGORIES:Aktuelles,Haus der Ev. Kirche Bonn,Philosophisch-psychologische Kaffeehausgespräche,Veranstaltungsreihen,Wissenschaftsstadt,Zentralprogramm
ATTACH;FMTTYPE=image/png:https://www.evforum-bonn.de/wp-content/uploads/2025/01/Haltung-zeigen-e1737385295616.png
ORGANIZER;CN="Evangelisches Forum Bonn":MAILTO:info@evforum-bonn.de
END:VEVENT
BEGIN:VEVENT
DTSTART;TZID=Europe/Berlin:20250219T100000
DTEND;TZID=Europe/Berlin:20250219T113000
DTSTAMP:20260423T120727
CREATED:20250114T120203Z
LAST-MODIFIED:20250114T120244Z
UID:10005163-1739959200-1739964600@www.evforum-bonn.de
SUMMARY:KÖNNEN wir diskutieren?! Drei Lektüretreffen im Haus der Kirche
DESCRIPTION:19.02.2025 – Anmeldung formlos per Mail an info@stiftung-informationskompetenz \n  \nTeil 1: Lektüretreffen (drei Termine\, kostenfreie Teilnahme)\nIn dem Buch „Wider die Verrohung“ schreibt Ingrid Brodnig über gezielte Zerstörung öffentlicher Debatten und erklärt Strategien\, um auf Emotionalisierung und Desinformation besser antworten zu können. Brodnig formulierte: „Dieses Buch will Rüstzeug geben – zur Abwehr von Spaltungsversuchen und zur Verteidigung fair geführter\, demokratischer Diskussionen.“\nDie Teilnehmenden werden gebeten\, das Buch zu erwerben und für sich zu lesen. Bei den moderierten Treffen werden Auszüge aus dem Buch gemeinsam gelesen\, der Schwerpunkt liegt auf Austausch und Diskussion. Beim Bucherwerb kann es finanzielle Unterstützung geben. \nAngaben zum Buch: Brodnig\, Ingrid: Wider die Verrohung. Brandstätter Verlag\, Wien 2024. 22 Euro. \n  \nEin Buch – drei Termine \n\nDrei Lektüretreffen online : „KÖNNEN wir diskutieren?!“\, Do\, 23. Januar\, 6. Februar\, 20. Februar\, jeweils 19.30 bis 21 Uhr. Moderation Dr. Bettina Förster\, Anmeldung hier.\nDrei Lektüretreffen im Kirchenpavillon am Abend : „KÖNNEN wir diskutieren?!\, Kirchenpavillon Bonn (Kaiserpl. 1a\, 53113 Bonn)\, Di\, 4. Februar\, 11. Februar und 18. Februar\, jeweils 19 bis 20.30 Uhr. Moderation Dr. Anne-Kathrin Quaas\, Anmeldung: Formlose E-Mail an info@stiftung-informationskompetenz. Anmeldung bis 31. Januar 2025.\nDrei Lektüretreffen im Haus der Kirche vormittags : „KÖNNEN wir diskutieren?!“\, Haus der Kirche (Adenauerallee 37\, 53113 Bonn)\, Mi\, 5. Februar\, 12. Februar und 19. Februar\, jeweils 10 bis 11.30 Uhr. Moderation Dr. Susannah Cremer-Bermbach\, Anmeldung: Formlose E-Mail an info@stiftung-informationskompetenz. Anmeldung bis 31. Januar 2025.\n\nInformationen zur Veranstaltungsreihe
URL:https://www.evforum-bonn.de/veranstaltung/koennen-wir-diskutieren-drei-lektueretreffen-hdk19-02/
LOCATION:Haus der Ev. Kirche Bonn\, Adenauerallee 37\, Bonn\, NRW\, 53113\, Germany
CATEGORIES:Aktuelles,Haus der Ev. Kirche Bonn,Philosophisch-psychologische Kaffeehausgespräche,Veranstaltungsreihen,Wissenschaftsstadt,Zentralprogramm
ATTACH;FMTTYPE=image/jpeg:https://www.evforum-bonn.de/wp-content/uploads/2025/01/widerdieverrohung.jpg
ORGANIZER;CN="Ev. Akademie im Rheinland":MAILTO:info@akademie.ekir.de
END:VEVENT
BEGIN:VEVENT
DTSTART;TZID=Europe/Berlin:20250218T193000
DTEND;TZID=Europe/Berlin:20250218T203000
DTSTAMP:20260423T120727
CREATED:20250114T114341Z
LAST-MODIFIED:20250115T073248Z
UID:10005160-1739907000-1739910600@www.evforum-bonn.de
SUMMARY:KÖNNEN wir diskutieren?! Drei Lektüretreffen im Kirchenpavillon
DESCRIPTION:18.02.2025 – Anmeldung formlos per Mail an info@stiftung-informationskompetenz.de \n  \nTeil 1: Lektüretreffen (drei Termine\, kostenfreie Teilnahme)\nIn dem Buch „Wider die Verrohung“ schreibt Ingrid Brodnig über gezielte Zerstörung öffentlicher Debatten und erklärt Strategien\, um auf Emotionalisierung und Desinformation besser antworten zu können. Brodnig formulierte: „Dieses Buch will Rüstzeug geben – zur Abwehr von Spaltungsversuchen und zur Verteidigung fair geführter\, demokratischer Diskussionen.“\nDie Teilnehmenden werden gebeten\, das Buch zu erwerben und für sich zu lesen. Bei den moderierten Treffen werden Auszüge aus dem Buch gemeinsam gelesen\, der Schwerpunkt liegt auf Austausch und Diskussion. Beim Bucherwerb kann es finanzielle Unterstützung geben. \nAngaben zum Buch: Brodnig\, Ingrid: Wider die Verrohung. Brandstätter Verlag\, Wien 2024. 22 Euro. \n  \nEin Buch – drei Termine \n\nDrei Lektüretreffen online : „KÖNNEN wir diskutieren?!“\, Do\, 23. Januar\, 6. Februar\, 20. Februar\, jeweils 19.30 bis 21 Uhr. Moderation Dr. Bettina Förster\, Anmeldung hier.\nDrei Lektüretreffen im Kirchenpavillon am Abend : „KÖNNEN wir diskutieren?!\, Kirchenpavillon Bonn (Kaiserpl. 1a\, 53113 Bonn)\, Di\, 4. Februar\, 11. Februar und 18. Februar\, jeweils 19 bis 20.30 Uhr. Moderation Dr. Anne-Kathrin Quaas\, Anmeldung: Formlose E-Mail an info@stiftung-informationskompetenz. Anmeldung bis 31. Januar 2025.\nDrei Lektüretreffen im Haus der Kirche vormittags : „KÖNNEN wir diskutieren?!“\, Haus der Kirche (Adenauerallee 37\, 53113 Bonn)\, Mi\, 5. Februar\, 12. Februar und 19. Februar\, jeweils 10 bis 11.30 Uhr. Moderation Dr. Susannah Cremer-Bermbach\, Anmeldung: Formlose E-Mail an info@stiftung-informationskompetenz. Anmeldung bis 31. Januar 2025.\n\nInformationen zur Veranstaltungsreihe
URL:https://www.evforum-bonn.de/veranstaltung/koennen-wir-diskutieren-drei-lektueretreffen-kipa-18-02/
LOCATION:Ev. Kirchenpavillon Bonn\, Kaiserplatz 1a\, Bonn\, NRW\, 53113\, Germany
CATEGORIES:Aktuelles,Kirchenpavillon,Philosophisch-psychologische Kaffeehausgespräche,Veranstaltungsreihen,Wissenschaftsstadt,Zentralprogramm
ATTACH;FMTTYPE=image/jpeg:https://www.evforum-bonn.de/wp-content/uploads/2025/01/widerdieverrohung.jpg
ORGANIZER;CN="Ev. Akademie im Rheinland":MAILTO:info@akademie.ekir.de
END:VEVENT
BEGIN:VEVENT
DTSTART;TZID=Europe/Berlin:20250212T100000
DTEND;TZID=Europe/Berlin:20250212T113000
DTSTAMP:20260423T120727
CREATED:20250114T115733Z
LAST-MODIFIED:20250114T115824Z
UID:10005162-1739354400-1739359800@www.evforum-bonn.de
SUMMARY:KÖNNEN wir diskutieren?! Drei Lektüretreffen im Haus der Kirche
DESCRIPTION:12.02.2025 – Anmeldung formlos per Mail an info@stiftung-informationskompetenz \n  \nTeil 1: Lektüretreffen (drei Termine\, kostenfreie Teilnahme)\nIn dem Buch „Wider die Verrohung“ schreibt Ingrid Brodnig über gezielte Zerstörung öffentlicher Debatten und erklärt Strategien\, um auf Emotionalisierung und Desinformation besser antworten zu können. Brodnig formulierte: „Dieses Buch will Rüstzeug geben – zur Abwehr von Spaltungsversuchen und zur Verteidigung fair geführter\, demokratischer Diskussionen.“\nDie Teilnehmenden werden gebeten\, das Buch zu erwerben und für sich zu lesen. Bei den moderierten Treffen werden Auszüge aus dem Buch gemeinsam gelesen\, der Schwerpunkt liegt auf Austausch und Diskussion. Beim Bucherwerb kann es finanzielle Unterstützung geben. \nAngaben zum Buch: Brodnig\, Ingrid: Wider die Verrohung. Brandstätter Verlag\, Wien 2024. 22 Euro. \n  \nEin Buch – drei Termine \n\nDrei Lektüretreffen online : „KÖNNEN wir diskutieren?!“\, Do\, 23. Januar\, 6. Februar\, 20. Februar\, jeweils 19.30 bis 21 Uhr. Moderation Dr. Bettina Förster\, Anmeldung hier.\nDrei Lektüretreffen im Kirchenpavillon am Abend : „KÖNNEN wir diskutieren?!\, Kirchenpavillon Bonn (Kaiserpl. 1a\, 53113 Bonn)\, Di\, 4. Februar\, 11. Februar und 18. Februar\, jeweils 19 bis 20.30 Uhr. Moderation Dr. Anne-Kathrin Quaas\, Anmeldung: Formlose E-Mail an info@stiftung-informationskompetenz. Anmeldung bis 31. Januar 2025.\nDrei Lektüretreffen im Haus der Kirche vormittags : „KÖNNEN wir diskutieren?!“\, Haus der Kirche (Adenauerallee 37\, 53113 Bonn)\, Mi\, 5. Februar\, 12. Februar und 19. Februar\, jeweils 10 bis 11.30 Uhr. Moderation Dr. Susannah Cremer-Bermbach\, Anmeldung: Formlose E-Mail an info@stiftung-informationskompetenz. Anmeldung bis 31. Januar 2025.\n\nInformationen zur Veranstaltungsreihe
URL:https://www.evforum-bonn.de/veranstaltung/koennen-wir-diskutieren-drei-lektueretreffen-hdk12-02/
LOCATION:Haus der Ev. Kirche Bonn\, Adenauerallee 37\, Bonn\, NRW\, 53113\, Germany
CATEGORIES:Aktuelles,Haus der Ev. Kirche Bonn,Philosophisch-psychologische Kaffeehausgespräche,Veranstaltungsreihen,Wissenschaftsstadt,Zentralprogramm
ATTACH;FMTTYPE=image/jpeg:https://www.evforum-bonn.de/wp-content/uploads/2025/01/widerdieverrohung.jpg
ORGANIZER;CN="Ev. Akademie im Rheinland":MAILTO:info@akademie.ekir.de
END:VEVENT
BEGIN:VEVENT
DTSTART;TZID=Europe/Berlin:20250211T193000
DTEND;TZID=Europe/Berlin:20250211T203000
DTSTAMP:20260423T120727
CREATED:20250114T114031Z
LAST-MODIFIED:20250115T072815Z
UID:10005159-1739302200-1739305800@www.evforum-bonn.de
SUMMARY:KÖNNEN wir diskutieren?! Drei Lektüretreffen im Kirchenpavillon
DESCRIPTION:11.02.2025 – Anmeldung formlos per Mail an info@stiftung-informationskompetenz.de \n  \nTeil 1: Lektüretreffen (drei Termine\, kostenfreie Teilnahme)\nIn dem Buch „Wider die Verrohung“ schreibt Ingrid Brodnig über gezielte Zerstörung öffentlicher Debatten und erklärt Strategien\, um auf Emotionalisierung und Desinformation besser antworten zu können. Brodnig formulierte: „Dieses Buch will Rüstzeug geben – zur Abwehr von Spaltungsversuchen und zur Verteidigung fair geführter\, demokratischer Diskussionen.“\nDie Teilnehmenden werden gebeten\, das Buch zu erwerben und für sich zu lesen. Bei den moderierten Treffen werden Auszüge aus dem Buch gemeinsam gelesen\, der Schwerpunkt liegt auf Austausch und Diskussion. Beim Bucherwerb kann es finanzielle Unterstützung geben. \nAngaben zum Buch: Brodnig\, Ingrid: Wider die Verrohung. Brandstätter Verlag\, Wien 2024. 22 Euro. \n  \nEin Buch – drei Termine \n\nDrei Lektüretreffen online : „KÖNNEN wir diskutieren?!“\, Do\, 23. Januar\, 6. Februar\, 20. Februar\, jeweils 19.30 bis 21 Uhr. Moderation Dr. Bettina Förster\, Anmeldung hier.\nDrei Lektüretreffen im Kirchenpavillon am Abend : „KÖNNEN wir diskutieren?!\, Kirchenpavillon Bonn (Kaiserpl. 1a\, 53113 Bonn)\, Di\, 4. Februar\, 11. Februar und 18. Februar\, jeweils 19 bis 20.30 Uhr. Moderation Dr. Anne-Kathrin Quaas\, Anmeldung: Formlose E-Mail an info@stiftung-informationskompetenz. Anmeldung bis 31. Januar 2025.\nDrei Lektüretreffen im Haus der Kirche vormittags : „KÖNNEN wir diskutieren?!“\, Haus der Kirche (Adenauerallee 37\, 53113 Bonn)\, Mi\, 5. Februar\, 12. Februar und 19. Februar\, jeweils 10 bis 11.30 Uhr. Moderation Dr. Susannah Cremer-Bermbach\, Anmeldung: Formlose E-Mail an info@stiftung-informationskompetenz. Anmeldung bis 31. Januar 2025.\n\nInformationen zur Veranstaltungsreihe
URL:https://www.evforum-bonn.de/veranstaltung/koennen-wir-diskutieren-drei-lektueretreffen-kipa-11-02-1/
LOCATION:Ev. Kirchenpavillon Bonn\, Kaiserplatz 1a\, Bonn\, NRW\, 53113\, Germany
CATEGORIES:Aktuelles,Kirchenpavillon,Philosophisch-psychologische Kaffeehausgespräche,Veranstaltungsreihen,Wissenschaftsstadt,Zentralprogramm
ATTACH;FMTTYPE=image/jpeg:https://www.evforum-bonn.de/wp-content/uploads/2025/01/widerdieverrohung.jpg
ORGANIZER;CN="Ev. Akademie im Rheinland":MAILTO:info@akademie.ekir.de
END:VEVENT
BEGIN:VEVENT
DTSTART;TZID=Europe/Berlin:20250206T193000
DTEND;TZID=Europe/Berlin:20250206T210000
DTSTAMP:20260423T120727
CREATED:20250114T113040Z
LAST-MODIFIED:20250114T113205Z
UID:10005156-1738870200-1738875600@www.evforum-bonn.de
SUMMARY:KÖNNEN wir diskutieren?! Drei Lektüretreffen online
DESCRIPTION:Anmeldung Do\, 6. Februar: https://ekir.zoom.us/meeting/register/u5Itf–pqDwtEt1pYxEGocidcURJ_kQ4iod_ \n  \nTeil 1: Lektüretreffen (drei Termine\, kostenfreie Teilnahme)\nIn dem Buch „Wider die Verrohung“ schreibt Ingrid Brodnig über gezielte Zerstörung öffentlicher Debatten und erklärt Strategien\, um auf Emotionalisierung und Desinformation besser antworten zu können. Brodnig formulierte: „Dieses Buch will Rüstzeug geben – zur Abwehr von Spaltungsversuchen und zur Verteidigung fair geführter\, demokratischer Diskussionen.“\nDie Teilnehmenden werden gebeten\, das Buch zu erwerben und für sich zu lesen. Bei den moderierten Treffen werden Auszüge aus dem Buch gemeinsam gelesen\, der Schwerpunkt liegt auf Austausch und Diskussion. Beim Bucherwerb kann es finanzielle Unterstützung geben. \nAngaben zum Buch: Brodnig\, Ingrid: Wider die Verrohung. Brandstätter Verlag\, Wien 2024. 22 Euro. \n  \nEin Buch – drei Termine \n\nDrei Lektüretreffen online : „KÖNNEN wir diskutieren?!“\, Do\, 23. Januar\, 6. Februar\, 20. Februar\, jeweils 19.30 bis 21 Uhr. Moderation Dr. Bettina Förster\, Anmeldung hier.\nDrei Lektüretreffen im Kirchenpavillon am Abend : „KÖNNEN wir diskutieren?!\, Kirchenpavillon Bonn (Kaiserpl. 1a\, 53113 Bonn)\, Di\, 4. Februar\, 11. Februar und 18. Februar\, jeweils 19 bis 20.30 Uhr. Moderation Dr. Anne-Kathrin Quaas\, Anmeldung: Formlose E-Mail an info@stiftung-informationskompetenz. Anmeldung bis 31. Januar 2025.\nDrei Lektüretreffen im Haus der Kirche vormittags : „KÖNNEN wir diskutieren?!“\, Haus der Kirche (Adenauerallee 37\, 53113 Bonn)\, Mi\, 5. Februar\, 12. Februar und 19. Februar\, jeweils 10 bis 11.30 Uhr. Moderation Dr. Susannah Cremer-Bermbach\, Anmeldung: Formlose E-Mail an info@stiftung-informationskompetenz. Anmeldung bis 31. Januar 2025.\n\nInformationen zur Veranstaltungsreihe
URL:https://www.evforum-bonn.de/veranstaltung/koennen-wir-diskutieren-drei-lektueretreffen-online_06-02/
LOCATION:ONLINE via Zoom\, externer Zoom Link\, Germany
CATEGORIES:Aktuelles,Philosophisch-psychologische Kaffeehausgespräche,Veranstaltungsreihen,Wissenschaftsstadt,Zentralprogramm
ATTACH;FMTTYPE=image/jpeg:https://www.evforum-bonn.de/wp-content/uploads/2025/01/widerdieverrohung.jpg
ORGANIZER;CN="Ev. Akademie im Rheinland":MAILTO:info@akademie.ekir.de
END:VEVENT
BEGIN:VEVENT
DTSTART;TZID=Europe/Berlin:20250205T100000
DTEND;TZID=Europe/Berlin:20250205T113000
DTSTAMP:20260423T120727
CREATED:20250114T115537Z
LAST-MODIFIED:20250114T115904Z
UID:10005161-1738749600-1738755000@www.evforum-bonn.de
SUMMARY:KÖNNEN wir diskutieren?! Drei Lektüretreffen im Haus der Kirche
DESCRIPTION:05.02.2025 – Anmeldung formlos per Mail an info@stiftung-informationskompetenz \n  \nTeil 1: Lektüretreffen (drei Termine\, kostenfreie Teilnahme)\nIn dem Buch „Wider die Verrohung“ schreibt Ingrid Brodnig über gezielte Zerstörung öffentlicher Debatten und erklärt Strategien\, um auf Emotionalisierung und Desinformation besser antworten zu können. Brodnig formulierte: „Dieses Buch will Rüstzeug geben – zur Abwehr von Spaltungsversuchen und zur Verteidigung fair geführter\, demokratischer Diskussionen.“\nDie Teilnehmenden werden gebeten\, das Buch zu erwerben und für sich zu lesen. Bei den moderierten Treffen werden Auszüge aus dem Buch gemeinsam gelesen\, der Schwerpunkt liegt auf Austausch und Diskussion. Beim Bucherwerb kann es finanzielle Unterstützung geben. \nAngaben zum Buch: Brodnig\, Ingrid: Wider die Verrohung. Brandstätter Verlag\, Wien 2024. 22 Euro. \n  \nEin Buch – drei Termine \n\nDrei Lektüretreffen online : „KÖNNEN wir diskutieren?!“\, Do\, 23. Januar\, 6. Februar\, 20. Februar\, jeweils 19.30 bis 21 Uhr. Moderation Dr. Bettina Förster\, Anmeldung hier.\nDrei Lektüretreffen im Kirchenpavillon am Abend : „KÖNNEN wir diskutieren?!\, Kirchenpavillon Bonn (Kaiserpl. 1a\, 53113 Bonn)\, Di\, 4. Februar\, 11. Februar und 18. Februar\, jeweils 19 bis 20.30 Uhr. Moderation Dr. Anne-Kathrin Quaas\, Anmeldung: Formlose E-Mail an info@stiftung-informationskompetenz. Anmeldung bis 31. Januar 2025.\nDrei Lektüretreffen im Haus der Kirche vormittags : „KÖNNEN wir diskutieren?!“\, Haus der Kirche (Adenauerallee 37\, 53113 Bonn)\, Mi\, 5. Februar\, 12. Februar und 19. Februar\, jeweils 10 bis 11.30 Uhr. Moderation Dr. Susannah Cremer-Bermbach\, Anmeldung: Formlose E-Mail an info@stiftung-informationskompetenz. Anmeldung bis 31. Januar 2025.\n\nInformationen zur Veranstaltungsreihe
URL:https://www.evforum-bonn.de/veranstaltung/koennen-wir-diskutieren-drei-lektueretreffen-hdk05-02/
LOCATION:Haus der Ev. Kirche Bonn\, Adenauerallee 37\, Bonn\, NRW\, 53113\, Germany
CATEGORIES:Aktuelles,Haus der Ev. Kirche Bonn,Philosophisch-psychologische Kaffeehausgespräche,Veranstaltungsreihen,Wissenschaftsstadt,Zentralprogramm
ATTACH;FMTTYPE=image/jpeg:https://www.evforum-bonn.de/wp-content/uploads/2025/01/widerdieverrohung.jpg
ORGANIZER;CN="Ev. Akademie im Rheinland":MAILTO:info@akademie.ekir.de
END:VEVENT
BEGIN:VEVENT
DTSTART;TZID=Europe/Berlin:20250204T193000
DTEND;TZID=Europe/Berlin:20250204T203000
DTSTAMP:20260423T120727
CREATED:20250114T113404Z
LAST-MODIFIED:20250115T072712Z
UID:10005158-1738697400-1738701000@www.evforum-bonn.de
SUMMARY:KÖNNEN wir diskutieren?! Drei Lektüretreffen im Kirchenpavillon
DESCRIPTION:04.02.2025 – Anmeldung formlos per Mail an info@stiftung-informationskompetenz.de \n  \nTeil 1: Lektüretreffen (drei Termine\, kostenfreie Teilnahme)\nIn dem Buch „Wider die Verrohung“ schreibt Ingrid Brodnig über gezielte Zerstörung öffentlicher Debatten und erklärt Strategien\, um auf Emotionalisierung und Desinformation besser antworten zu können. Brodnig formulierte: „Dieses Buch will Rüstzeug geben – zur Abwehr von Spaltungsversuchen und zur Verteidigung fair geführter\, demokratischer Diskussionen.“\nDie Teilnehmenden werden gebeten\, das Buch zu erwerben und für sich zu lesen. Bei den moderierten Treffen werden Auszüge aus dem Buch gemeinsam gelesen\, der Schwerpunkt liegt auf Austausch und Diskussion. Beim Bucherwerb kann es finanzielle Unterstützung geben. \nAngaben zum Buch: Brodnig\, Ingrid: Wider die Verrohung. Brandstätter Verlag\, Wien 2024. 22 Euro. \n  \nEin Buch – drei Termine \n\nDrei Lektüretreffen online : „KÖNNEN wir diskutieren?!“\, Do\, 23. Januar\, 6. Februar\, 20. Februar\, jeweils 19.30 bis 21 Uhr. Moderation Dr. Bettina Förster\, Anmeldung hier.\nDrei Lektüretreffen im Kirchenpavillon am Abend : „KÖNNEN wir diskutieren?!\, Kirchenpavillon Bonn (Kaiserpl. 1a\, 53113 Bonn)\, Di\, 4. Februar\, 11. Februar und 18. Februar\, jeweils 19 bis 20.30 Uhr. Moderation Dr. Anne-Kathrin Quaas\, Anmeldung: Formlose E-Mail an info@stiftung-informationskompetenz. Anmeldung bis 31. Januar 2025.\nDrei Lektüretreffen im Haus der Kirche vormittags : „KÖNNEN wir diskutieren?!“\, Haus der Kirche (Adenauerallee 37\, 53113 Bonn)\, Mi\, 5. Februar\, 12. Februar und 19. Februar\, jeweils 10 bis 11.30 Uhr. Moderation Dr. Susannah Cremer-Bermbach\, Anmeldung: Formlose E-Mail an info@stiftung-informationskompetenz. Anmeldung bis 31. Januar 2025.\n\nInformationen zur Veranstaltungsreihe
URL:https://www.evforum-bonn.de/veranstaltung/koennen-wir-diskutieren-drei-lektueretreffen-kipa-04-02/
LOCATION:Ev. Kirchenpavillon Bonn\, Kaiserplatz 1a\, Bonn\, NRW\, 53113\, Germany
CATEGORIES:Aktuelles,Kirchenpavillon,Philosophisch-psychologische Kaffeehausgespräche,Veranstaltungsreihen,Wissenschaftsstadt,Zentralprogramm
ATTACH;FMTTYPE=image/jpeg:https://www.evforum-bonn.de/wp-content/uploads/2025/01/widerdieverrohung.jpg
ORGANIZER;CN="Ev. Akademie im Rheinland":MAILTO:info@akademie.ekir.de
END:VEVENT
BEGIN:VEVENT
DTSTART;TZID=Europe/Berlin:20250123T193000
DTEND;TZID=Europe/Berlin:20250123T210000
DTSTAMP:20260423T120727
CREATED:20250114T113017Z
LAST-MODIFIED:20250114T113017Z
UID:10005155-1737660600-1737666000@www.evforum-bonn.de
SUMMARY:KÖNNEN wir diskutieren?! Drei Lektüretreffen online
DESCRIPTION:Anmeldung Do\, 23. Januar: https://ekir.zoom.us/meeting/register/u5wqd-2vqT8rGdzbnPr4SSwYBIGpCfIOxAyf \n  \nTeil 1: Lektüretreffen (drei Termine\, kostenfreie Teilnahme)\nIn dem Buch „Wider die Verrohung“ schreibt Ingrid Brodnig über gezielte Zerstörung öffentlicher Debatten und erklärt Strategien\, um auf Emotionalisierung und Desinformation besser antworten zu können. Brodnig formulierte: „Dieses Buch will Rüstzeug geben – zur Abwehr von Spaltungsversuchen und zur Verteidigung fair geführter\, demokratischer Diskussionen.“\nDie Teilnehmenden werden gebeten\, das Buch zu erwerben und für sich zu lesen. Bei den moderierten Treffen werden Auszüge aus dem Buch gemeinsam gelesen\, der Schwerpunkt liegt auf Austausch und Diskussion. Beim Bucherwerb kann es finanzielle Unterstützung geben. \nAngaben zum Buch: Brodnig\, Ingrid: Wider die Verrohung. Brandstätter Verlag\, Wien 2024. 22 Euro. \n  \nEin Buch – drei Termine \n\nDrei Lektüretreffen online : „KÖNNEN wir diskutieren?!“\, Do\, 23. Januar\, 6. Februar\, 20. Februar\, jeweils 19.30 bis 21 Uhr. Moderation Dr. Bettina Förster\, Anmeldung hier.\nDrei Lektüretreffen im Kirchenpavillon am Abend : „KÖNNEN wir diskutieren?!\, Kirchenpavillon Bonn (Kaiserpl. 1a\, 53113 Bonn)\, Di\, 4. Februar\, 11. Februar und 18. Februar\, jeweils 19 bis 20.30 Uhr. Moderation Dr. Anne-Kathrin Quaas\, Anmeldung: Formlose E-Mail an info@stiftung-informationskompetenz. Anmeldung bis 31. Januar 2025.\nDrei Lektüretreffen im Haus der Kirche vormittags : „KÖNNEN wir diskutieren?!“\, Haus der Kirche (Adenauerallee 37\, 53113 Bonn)\, Mi\, 5. Februar\, 12. Februar und 19. Februar\, jeweils 10 bis 11.30 Uhr. Moderation Dr. Susannah Cremer-Bermbach\, Anmeldung: Formlose E-Mail an info@stiftung-informationskompetenz. Anmeldung bis 31. Januar 2025.\n\nInformationen zur Veranstaltungsreihe
URL:https://www.evforum-bonn.de/veranstaltung/koennen-wir-diskutieren-drei-lektueretreffen-online_23-01/
LOCATION:ONLINE via Zoom\, externer Zoom Link\, Germany
CATEGORIES:Aktuelles,Philosophisch-psychologische Kaffeehausgespräche,Veranstaltungsreihen,Wissenschaftsstadt,Zentralprogramm
ATTACH;FMTTYPE=image/jpeg:https://www.evforum-bonn.de/wp-content/uploads/2025/01/widerdieverrohung.jpg
ORGANIZER;CN="Ev. Akademie im Rheinland":MAILTO:info@akademie.ekir.de
END:VEVENT
END:VCALENDAR