BEGIN:VCALENDAR
VERSION:2.0
PRODID:-//Evangelisches Forum Bonn - ECPv6.15.20//NONSGML v1.0//EN
CALSCALE:GREGORIAN
METHOD:PUBLISH
X-WR-CALNAME:Evangelisches Forum Bonn
X-ORIGINAL-URL:https://www.evforum-bonn.de
X-WR-CALDESC:Veranstaltungen für Evangelisches Forum Bonn
REFRESH-INTERVAL;VALUE=DURATION:PT1H
X-Robots-Tag:noindex
X-PUBLISHED-TTL:PT1H
BEGIN:VTIMEZONE
TZID:Europe/Berlin
BEGIN:DAYLIGHT
TZOFFSETFROM:+0100
TZOFFSETTO:+0200
TZNAME:CEST
DTSTART:20240331T010000
END:DAYLIGHT
BEGIN:STANDARD
TZOFFSETFROM:+0200
TZOFFSETTO:+0100
TZNAME:CET
DTSTART:20241027T010000
END:STANDARD
BEGIN:DAYLIGHT
TZOFFSETFROM:+0100
TZOFFSETTO:+0200
TZNAME:CEST
DTSTART:20250330T010000
END:DAYLIGHT
BEGIN:STANDARD
TZOFFSETFROM:+0200
TZOFFSETTO:+0100
TZNAME:CET
DTSTART:20251026T010000
END:STANDARD
BEGIN:DAYLIGHT
TZOFFSETFROM:+0100
TZOFFSETTO:+0200
TZNAME:CEST
DTSTART:20260329T010000
END:DAYLIGHT
BEGIN:STANDARD
TZOFFSETFROM:+0200
TZOFFSETTO:+0100
TZNAME:CET
DTSTART:20261025T010000
END:STANDARD
END:VTIMEZONE
BEGIN:VEVENT
DTSTART;TZID=Europe/Berlin:20250920T093000
DTEND;TZID=Europe/Berlin:20250920T163000
DTSTAMP:20260423T121611
CREATED:20250219T102836Z
LAST-MODIFIED:20250703T081458Z
UID:10005516-1758360600-1758385800@www.evforum-bonn.de
SUMMARY:„Barcamp Kirche online West“ 2025
DESCRIPTION:Einladung zum Barcamp Kirche Online West 2025 am 20. September 2025 in Bonn\n\nLiebe Engagierte in der digitalen Kirche\, \nwir laden euch herzlich zum Barcamp Kirche Online West 2025 ein! Wir freuen uns\, Euch hier am 20. September 2025 begrüßen zu dürfen: \nHaus der Evangelischen Kirche\nAdenauerallee 37\n53113 Bonn \nVeranstalter sind in diesem Jahr die Evangelische Kirche von Westfalen\, die Evangelische Kirche im Rheinland\, die Evangelische Akademie im Rheinland und das Evangelische Forum Bonn. \nUnser Barcamp lebt von euren Ideen\, eurem Wissen und eurer Erfahrung. Wir starten – wie üblich – mit der Session-Planung. Ihr könnt eigene Themen mitbringen\, stellt sie vor und dann wird entschieden\, wann welche Session stattfindet. Ihr könnt aber natürlich auch gerne ohne eigenes Thema einfach nur so dabei sein. \nOb Content-Tipps für Social Media\, digitale Verkündigung\, hybride Gemeindeformen\, KI-Tools oder ethische Fragen der Digitalisierung – hier ist Raum für Austausch\, Inspiration und Vernetzung. Gerne könnt ihr schon vorab Vorschläge für Sessions einreichen und zwar auf dieser Seite.  \nDu warst noch nie bei einem Barcamp? Kein Problem. Dieses Video erklärt dir\, wie’s läuft! \nMeet and Greet am Vorabend \nFür alle\, die bereits am Vortag anreisen oder aus Bonn kommen\, starten wir am 19. September 2025 ab 18 Uhr mit einem Meet and Greet in einer Bonner Kneipe. Der genaue Ort wird noch bekanntgegeben. Eine gute Gelegenheit\, in entspannter Atmosphäre ins Gespräch zu kommen und sich auf das Barcamp einzustimmen. \nDie Infos im Überblick \nWann: 19./20. September 2025 \n19. Sep.: Ab 18 Uhr lockerer Austausch in einem Lokal. Du erkennst uns an Barcamp-Schildern auf dem Tisch. \n20. Sep.: Ab 9:00 Uhr Ankommen und erster Kaffee. \n10:00 Uhr: Programmstart mit Session-Planung. \n10:30 Uhr: Verschiedene Sessions parallel \n12:15 Uhr: Mittagessen \n13:00 Verschiedene Sessions parallel. \n14:00 Verschiedene Sessions parallel. \n15:00 Verschiedene Sessions parallel. \nEnde ca. 16:30. \n  \nANMELDUNG: Sichere dir jetzt deinen Platz und melde dich hier gleich an. Die Teilnahme ist kostenfrei. \nWir freuen uns auf euch und auf ein inspirierendes Barcamp! Denn das ist unser Ziel: Menschen zu begeistern\, richtig gut digital für Kirche zu arbeiten. \nHerzliche Grüße \nEuer Organisationsteam\nBettina Förster\, Ralf Peter Reimann\, Anne Kathrin Quaas und Björn Vahle \n 
URL:https://www.evforum-bonn.de/veranstaltung/barcamp-kirche-online-west-2025/
LOCATION:Haus der Ev. Kirche Bonn\, Adenauerallee 37\, Bonn\, NRW\, 53113\, Germany
CATEGORIES:Aktuelles,Existenzielle Fragestellungen,Exkursion - Ausflug - Tour,Fort- und Weiterbildung,Haus der Ev. Kirche Bonn,KI Künstliche Intelligenz - Digital,Lehrgang | Kurs,Politik - Geschichte - Soziologie,Theologie / Philosophie,Veranstaltungen von Institutionen und Verbänden,Veranstaltungsreihen,Zentralprogramm
ATTACH;FMTTYPE=image/png:https://www.evforum-bonn.de/wp-content/uploads/2025/02/logo-barcamp-kirche-online-e1744108025635.png
ORGANIZER;CN="Ev. Akademie im Rheinland":MAILTO:info@akademie.ekir.de
END:VEVENT
END:VCALENDAR