BEGIN:VCALENDAR
VERSION:2.0
PRODID:-//Evangelisches Forum Bonn - ECPv6.15.20//NONSGML v1.0//EN
CALSCALE:GREGORIAN
METHOD:PUBLISH
X-WR-CALNAME:Evangelisches Forum Bonn
X-ORIGINAL-URL:https://www.evforum-bonn.de
X-WR-CALDESC:Veranstaltungen für Evangelisches Forum Bonn
REFRESH-INTERVAL;VALUE=DURATION:PT1H
X-Robots-Tag:noindex
X-PUBLISHED-TTL:PT1H
BEGIN:VTIMEZONE
TZID:Europe/Berlin
BEGIN:DAYLIGHT
TZOFFSETFROM:+0100
TZOFFSETTO:+0200
TZNAME:CEST
DTSTART:20250330T010000
END:DAYLIGHT
BEGIN:STANDARD
TZOFFSETFROM:+0200
TZOFFSETTO:+0100
TZNAME:CET
DTSTART:20251026T010000
END:STANDARD
BEGIN:DAYLIGHT
TZOFFSETFROM:+0100
TZOFFSETTO:+0200
TZNAME:CEST
DTSTART:20260329T010000
END:DAYLIGHT
BEGIN:STANDARD
TZOFFSETFROM:+0200
TZOFFSETTO:+0100
TZNAME:CET
DTSTART:20261025T010000
END:STANDARD
BEGIN:DAYLIGHT
TZOFFSETFROM:+0100
TZOFFSETTO:+0200
TZNAME:CEST
DTSTART:20270328T010000
END:DAYLIGHT
BEGIN:STANDARD
TZOFFSETFROM:+0200
TZOFFSETTO:+0100
TZNAME:CET
DTSTART:20271031T010000
END:STANDARD
END:VTIMEZONE
BEGIN:VEVENT
DTSTART;TZID=Europe/Berlin:20260926T093000
DTEND;TZID=Europe/Berlin:20260926T163000
DTSTAMP:20260423T105532
CREATED:20251216T190713Z
LAST-MODIFIED:20260209T121223Z
UID:10006425-1790415000-1790440200@www.evforum-bonn.de
SUMMARY:Barcamp Kirche Online 2026 in Bonn
DESCRIPTION:Liebe Engagierte in der digitalen Kirche\, \n6-7? Nix da! 26-9-26! \nKommt vorbei und seid dabei am 26. September 2026 beim Barcamp Kirche Online in Bonn! Die Evangelische Kirche von Westfalen\, die Evangelische Kirche im Rheinland und die Evangelische Akademie im Rheinland freuen sich\, euch im \nHaus der Evangelischen Kirche\nAdenauerallee 37\n53113 Bonn \nbegrüßen zu dürfen! ▶️ HIER geht`s zur Anmeldung \nUnser Barcamp lebt von euren Ideen\, eurem Wissen und eurer Erfahrung. Wir starten – wie üblich – mit der Session-Planung. Ihr könnt eigene Themen mitbringen\, stellt sie vor und dann wird entschieden\, wann welche Session stattfindet. Ihr könnt aber natürlich auch ohne eigenes Thema einfach nur dabei sein. \nOb Content-Tipps für Social Media\, digitale Verkündigung\, hybride Gemeindeformen\, KI-Tools oder ethische Fragen der Digitalisierung – hier ist Raum für Austausch\, Inspiration und Vernetzung. \nEine Keynote haben wir in diesem Jahr nicht vorgesehen. Aber: Gerne könnt ihr schon vorab Vorschläge für Sessions einreichen – schreibt einfach eine Mail an Ralf Peter Reimann: reimann@ekir.de. \nDu warst noch nie bei einem Barcamp? Kein Problem. Dieses Video erklärt dir\, wie’s läuft! \nMeet and Greet am Vorabend \nFür alle\, die bereits am Vortag anreisen oder aus Bonn kommen\, starten wir am 25. September 2025 ab 18 Uhr mit einem Meet and Greet in einer Bonner Kneipe. Der genaue Ort wird noch bekanntgegeben. Eine gute Gelegenheit\, in entspannter Atmosphäre ins Gespräch zu kommen und sich auf das Barcamp einzustimmen. \nDie Infos im Überblick \nWann: 26. September 2026 \n(25. September: Ab 18 Uhr lockerer Austausch in einem Lokal. Du erkennst Ralf Peter Reimann und Bettina Förster an den Barcamp-T-Shirts.) \n26. September: Ab 9:00 Uhr Ankommen und erster Kaffee.\n10:00 Uhr: Session-Planung.\n10:30 Uhr: Verschiedene Sessions parallel\n12:15 Uhr: Mittagessen\n13:00 Uhr: Verschiedene Sessions parallel.\n14:00 Uhr: Verschiedene Sessions parallel.\n15:00 Uhr: Verschiedene Sessions parallel.\n16:00 Uhr: Feedback \nAnreisehinweise \nDas Haus der Kirche liegt zentral in Bonn und ist gut mit öffentlichen Verkehrsmitteln erreichbar: \nMit der Bahn: Vom Bonner Hauptbahnhof sind es etwa 10 Minuten zu Fuß oder eine kurze Fahrt mit der Stadtbahn (Linien 16\, 63\, 66 Richtung Bad Godesberg oder Königswinter bis Haltestelle Juridicum). \nMit dem Auto: Parkmöglichkeiten gibt es in den umliegenden Parkhäusern\, z. B. in der Oxfordstraße 21 (Parkhaus Universität) oder am Bahnhofsgarten (Parkhaus Hauptbahnhof Bonn). Nach Absprache können wir – z.B. für Teilnehmer mit Beeinträchtigung oder großem Equipment – vereinzelt Parkplätze in der Tiefgarage des Hauses verfügbar halten. Wenn Du so einen Parkplatz brauchst\, nenne das bitte bei der Anmeldung unter „sonstige Bemerkungen“. Eine direkte Anfahrt mit PKW und Rollstuhl zum Haus der Kirche ist ausschließlich vom Rheinufer kommend über die Erste Fährgasse möglich. \nSichere dir jetzt deinen Platz und melde Dich gleich an. Die Teilnahme ist kostenfrei. \nWir freuen uns auf euch und auf ein inspirierendes Barcamp! Denn das ist unser Ziel: Menschen zu begeistern\, richtig gut digital für Kirche zu arbeiten. \nHerzliche Grüße \nEuer Organisationsteam\nBettina Förster\, Ralf Peter Reimann und Björn Vahle \n 
URL:https://www.evforum-bonn.de/veranstaltung/barcamp-kirche-online-2026/
LOCATION:Haus der Ev. Kirche Bonn\, Adenauerallee 37\, Bonn\, NRW\, 53113\, Germany
CATEGORIES:Aktuelles,Existenzielle Fragestellungen,Exkursion - Ausflug - Tour,Fort- und Weiterbildung,Haus der Ev. Kirche Bonn,KI Künstliche Intelligenz - Digital,Lehrgang | Kurs,Politik - Geschichte - Soziologie,Theologie / Philosophie,Veranstaltungen von Institutionen und Verbänden,Veranstaltungsreihen,Zentralprogramm
ATTACH;FMTTYPE=image/jpeg:https://www.evforum-bonn.de/wp-content/uploads/2025/12/Facebook-Barcamp-2026-2.jpg
ORGANIZER;CN="Ev. Akademie im Rheinland":MAILTO:info@akademie.ekir.de
END:VEVENT
END:VCALENDAR