BEGIN:VCALENDAR
VERSION:2.0
PRODID:-//Evangelisches Forum Bonn - ECPv6.15.20//NONSGML v1.0//EN
CALSCALE:GREGORIAN
METHOD:PUBLISH
X-WR-CALNAME:Evangelisches Forum Bonn
X-ORIGINAL-URL:https://www.evforum-bonn.de
X-WR-CALDESC:Veranstaltungen für Evangelisches Forum Bonn
REFRESH-INTERVAL;VALUE=DURATION:PT1H
X-Robots-Tag:noindex
X-PUBLISHED-TTL:PT1H
BEGIN:VTIMEZONE
TZID:Europe/Berlin
BEGIN:DAYLIGHT
TZOFFSETFROM:+0100
TZOFFSETTO:+0200
TZNAME:CEST
DTSTART:20240331T010000
END:DAYLIGHT
BEGIN:STANDARD
TZOFFSETFROM:+0200
TZOFFSETTO:+0100
TZNAME:CET
DTSTART:20241027T010000
END:STANDARD
BEGIN:DAYLIGHT
TZOFFSETFROM:+0100
TZOFFSETTO:+0200
TZNAME:CEST
DTSTART:20250330T010000
END:DAYLIGHT
BEGIN:STANDARD
TZOFFSETFROM:+0200
TZOFFSETTO:+0100
TZNAME:CET
DTSTART:20251026T010000
END:STANDARD
BEGIN:DAYLIGHT
TZOFFSETFROM:+0100
TZOFFSETTO:+0200
TZNAME:CEST
DTSTART:20260329T010000
END:DAYLIGHT
BEGIN:STANDARD
TZOFFSETFROM:+0200
TZOFFSETTO:+0100
TZNAME:CET
DTSTART:20261025T010000
END:STANDARD
END:VTIMEZONE
BEGIN:VEVENT
DTSTART;TZID=Europe/Berlin:20250224T100000
DTEND;TZID=Europe/Berlin:20250224T130000
DTSTAMP:20260424T033444
CREATED:20250703T124105Z
LAST-MODIFIED:20250703T124105Z
UID:10005934-1740391200-1740402000@www.evforum-bonn.de
SUMMARY:Mal- und Zeichenkurs Hardtberg
DESCRIPTION:Der fortlaufende Mal- und Zeichenkurs unter der Leitung von Gerhild Bergknecht bietet Raum für künstlerisches Gestalten\, experimentelles Arbeiten und den Austausch über Kunst und Bildsprache. \nIn entspannter Atmosphäre erlernen und vertiefen die Teilnehmenden Techniken des Zeichnens und Malens – von Grundlagen wie Komposition\, Perspektive und Farbwirkung bis hin zu freien Ausdrucksformen. Der Kurs richtet sich an Interessierte mit und ohne Vorkenntnisse. \nDie eigene Kreativität steht im Mittelpunkt – verbunden mit der Möglichkeit\, unter fachkundiger Anleitung den eigenen Blick zu schärfen und neue Impulse aufzunehmen. \n📅 Jeden Montag (außer in den Ferien) | 10:00–13:00 Uhr📍 Matthäikirche\, Gutenbergstraße 10\, 53123 Bonn🖌️ Leitung: Gerhild Bergknecht
URL:https://www.evforum-bonn.de/veranstaltung/mal-und-zeichenkurs-hardtberg_2025-1/2025-02-24/
LOCATION:Matthäikirche\, Gutenbergstr. 10\, Bonn\, 53123\, Germany
CATEGORIES:Ausstellung - Kunst - Kultur,Kunst - Musik - Literatur,Lehrgang | Kurs,Veranstaltungen von Gemeinden,Veranstaltungsreihen
ATTACH;FMTTYPE=image/jpeg:https://www.evforum-bonn.de/wp-content/uploads/2025/02/schenk-mir-deine-farbe-e1739531762592.jpg
ORGANIZER;CN="Ev. Kirchengemeinde im Bonner Westen (Hardtberg)":MAILTO:hardtberg@ekir.de
END:VEVENT
BEGIN:VEVENT
DTSTART;TZID=Europe/Berlin:20250219T190000
DTEND;TZID=Europe/Berlin:20250219T210000
DTSTAMP:20260424T033444
CREATED:20250108T123841Z
LAST-MODIFIED:20250502T075253Z
UID:10005092-1739991600-1739998800@www.evforum-bonn.de
SUMMARY:Literaturkreis 2025 - Susanne Abel "Stay away from Gretchen"
DESCRIPTION:Auch in diesem Jahr laden wir Sie herzlich zu unserem Literaturkreis ein! In der Regel treffen wir uns jeden 3. Mittwoch im Monat von 19.00 bis 20.30 Uhr  in der Bücherei der Matthäikirche\, um gemeinsam spannende\, bewegende und inspirierende Bücher zu entdecken und zu besprechen. \nFreuen Sie sich auf eine abwechslungsreiche Auswahl an Titeln und Autor*innen\, interessante Diskussionen und den Austausch mit anderen Literaturbegeisterten. \nDer Eintritt ist frei\, und eine Anmeldung nicht nötig.\nDas Bücherei-Team der Matthäikirche freut sich auf Sie! \nZu den Literaturkreis-Büchern für das Jahr 2025
URL:https://www.evforum-bonn.de/veranstaltung/literaturkreis_februar/
LOCATION:Ev. Öffentliche Bücherei an der Matthäikirche\, Gutenbergstraße 10\, Bonn\, NRW\, 53123\, Germany
CATEGORIES:Grips & Geist,Kunst - Musik - Literatur,Veranstaltungen von Gemeinden,Veranstaltungsreihen
ATTACH;FMTTYPE=image/jpeg:https://www.evforum-bonn.de/wp-content/uploads/2025/01/Literaturkreis.jpg
ORGANIZER;CN="Ev. Kirchengemeinde im Bonner Westen (Hardtberg)":MAILTO:hardtberg@ekir.de
END:VEVENT
BEGIN:VEVENT
DTSTART;TZID=Europe/Berlin:20250217T100000
DTEND;TZID=Europe/Berlin:20250217T130000
DTSTAMP:20260424T033444
CREATED:20250703T124105Z
LAST-MODIFIED:20250703T124105Z
UID:10005933-1739786400-1739797200@www.evforum-bonn.de
SUMMARY:Mal- und Zeichenkurs Hardtberg
DESCRIPTION:Der fortlaufende Mal- und Zeichenkurs unter der Leitung von Gerhild Bergknecht bietet Raum für künstlerisches Gestalten\, experimentelles Arbeiten und den Austausch über Kunst und Bildsprache. \nIn entspannter Atmosphäre erlernen und vertiefen die Teilnehmenden Techniken des Zeichnens und Malens – von Grundlagen wie Komposition\, Perspektive und Farbwirkung bis hin zu freien Ausdrucksformen. Der Kurs richtet sich an Interessierte mit und ohne Vorkenntnisse. \nDie eigene Kreativität steht im Mittelpunkt – verbunden mit der Möglichkeit\, unter fachkundiger Anleitung den eigenen Blick zu schärfen und neue Impulse aufzunehmen. \n📅 Jeden Montag (außer in den Ferien) | 10:00–13:00 Uhr📍 Matthäikirche\, Gutenbergstraße 10\, 53123 Bonn🖌️ Leitung: Gerhild Bergknecht
URL:https://www.evforum-bonn.de/veranstaltung/mal-und-zeichenkurs-hardtberg_2025-1/2025-02-17/
LOCATION:Matthäikirche\, Gutenbergstr. 10\, Bonn\, 53123\, Germany
CATEGORIES:Ausstellung - Kunst - Kultur,Kunst - Musik - Literatur,Lehrgang | Kurs,Veranstaltungen von Gemeinden,Veranstaltungsreihen
ATTACH;FMTTYPE=image/jpeg:https://www.evforum-bonn.de/wp-content/uploads/2025/02/schenk-mir-deine-farbe-e1739531762592.jpg
ORGANIZER;CN="Ev. Kirchengemeinde im Bonner Westen (Hardtberg)":MAILTO:hardtberg@ekir.de
END:VEVENT
BEGIN:VEVENT
DTSTART;TZID=Europe/Berlin:20250217T100000
DTEND;TZID=Europe/Berlin:20250217T120000
DTSTAMP:20260424T033444
CREATED:20250116T102252Z
LAST-MODIFIED:20250116T102658Z
UID:10005186-1739786400-1739793600@www.evforum-bonn.de
SUMMARY:Gesprächskreis Lyrik I 2025
DESCRIPTION:An jedem 3. Montag im Monat treffen sich Lyrik-Interessierte zum Austausch und Vortrag von ausgewählten Texten. Die Gruppe entscheidet welche Lyriker oder welche Themen behandelt werden sollen. \nLeitung: Antje Wille\, Tel. 64 48 13
URL:https://www.evforum-bonn.de/veranstaltung/gespraechskreis-lyrik-2025/
LOCATION:Die WOHNUNG\, Stresemannstr. 28\, Bonn\, 53123
CATEGORIES:Kunst - Musik - Literatur,Veranstaltungen von Gemeinden
ATTACH;FMTTYPE=image/jpeg:https://www.evforum-bonn.de/wp-content/uploads/2025/01/Literaturkreis.jpg
ORGANIZER;CN="Ev. Kirchengemeinde im Bonner Westen (Hardtberg)":MAILTO:hardtberg@ekir.de
END:VEVENT
BEGIN:VEVENT
DTSTART;TZID=Europe/Berlin:20250213T150000
DTEND;TZID=Europe/Berlin:20250213T170000
DTSTAMP:20260424T033444
CREATED:20250116T104334Z
LAST-MODIFIED:20250116T104451Z
UID:10005196-1739458800-1739466000@www.evforum-bonn.de
SUMMARY:Bibel im Gespräch in Matthäi
DESCRIPTION:Bibelgesprächskreis in der Matthäikirche. Nähere Informationen über Textauswahl etc. bei der \nLeitung: Pfr. i.R. Wolfgang Harnisch\, Tel.: 64 39 20 \n  \nNicht in den Schulferien
URL:https://www.evforum-bonn.de/veranstaltung/bibel-im-gesprach-2025-copy/
LOCATION:Gemeindezentrum Matthäikirche\, Gutenbergstraße 10\, Bonn\, 53123\, Deutschland
CATEGORIES:Bibel - Bibelgespräch,Veranstaltungen von Gemeinden
ATTACH;FMTTYPE=image/jpeg:https://www.evforum-bonn.de/wp-content/uploads/2025/01/matthaeikirche.jpg
ORGANIZER;CN="Ev. Kirchengemeinde im Bonner Westen (Hardtberg)":MAILTO:hardtberg@ekir.de
END:VEVENT
BEGIN:VEVENT
DTSTART;TZID=Europe/Berlin:20250213T100000
DTEND;TZID=Europe/Berlin:20250213T120000
DTSTAMP:20260424T033444
CREATED:20250116T103017Z
LAST-MODIFIED:20250116T103142Z
UID:10005190-1739440800-1739448000@www.evforum-bonn.de
SUMMARY:Gesprächskreis Lyrik II 2025
DESCRIPTION:An jedem 2. Donnerstag im Monat treffen sich Lyrik-Interessierte zum Austausch und Vortrag von ausgewählten Texten. \nDie Gruppe entscheidet welche Lyriker oder welche Themen behandelt werden sollen. \nLeitung: Antje Wille\, Tel. 64 48 13
URL:https://www.evforum-bonn.de/veranstaltung/gespraechskreis-lyrik-2025-ii/
LOCATION:Die WOHNUNG\, Stresemannstr. 28\, Bonn\, 53123
CATEGORIES:Kunst - Musik - Literatur,Veranstaltungen von Gemeinden
ATTACH;FMTTYPE=image/jpeg:https://www.evforum-bonn.de/wp-content/uploads/2025/01/Literaturkreis.jpg
ORGANIZER;CN="Ev. Kirchengemeinde im Bonner Westen (Hardtberg)":MAILTO:hardtberg@ekir.de
END:VEVENT
BEGIN:VEVENT
DTSTART;TZID=Europe/Berlin:20250212T193000
DTEND;TZID=Europe/Berlin:20250212T210000
DTSTAMP:20260424T033444
CREATED:20250116T095623Z
LAST-MODIFIED:20250116T101019Z
UID:10005181-1739388600-1739394000@www.evforum-bonn.de
SUMMARY:Matthäikreis
DESCRIPTION:Offener Gesprächsabend\, jeden 2. Mittwoch im Monat\, Vorträge zu verschiedenen Themen\, Gelegenheit zu Begegnung und Austausch. \nAnsprechpartner: Hildegard Berndt – Tel. 0228 62 41 33 \n  \n  \n 
URL:https://www.evforum-bonn.de/veranstaltung/mathhaeikreis-2025/
LOCATION:Matthäikirche\, Gutenbergstr. 10\, Bonn\, 53123\, Germany
CATEGORIES:Veranstaltungen von Gemeinden
ATTACH;FMTTYPE=image/jpeg:https://www.evforum-bonn.de/wp-content/uploads/2025/01/gespraech-haende-tisch.jpg
ORGANIZER;CN="Ev. Kirchengemeinde im Bonner Westen (Hardtberg)":MAILTO:hardtberg@ekir.de
END:VEVENT
BEGIN:VEVENT
DTSTART;TZID=Europe/Berlin:20250210T100000
DTEND;TZID=Europe/Berlin:20250210T130000
DTSTAMP:20260424T033444
CREATED:20250703T124105Z
LAST-MODIFIED:20250703T124105Z
UID:10005932-1739181600-1739192400@www.evforum-bonn.de
SUMMARY:Mal- und Zeichenkurs Hardtberg
DESCRIPTION:Der fortlaufende Mal- und Zeichenkurs unter der Leitung von Gerhild Bergknecht bietet Raum für künstlerisches Gestalten\, experimentelles Arbeiten und den Austausch über Kunst und Bildsprache. \nIn entspannter Atmosphäre erlernen und vertiefen die Teilnehmenden Techniken des Zeichnens und Malens – von Grundlagen wie Komposition\, Perspektive und Farbwirkung bis hin zu freien Ausdrucksformen. Der Kurs richtet sich an Interessierte mit und ohne Vorkenntnisse. \nDie eigene Kreativität steht im Mittelpunkt – verbunden mit der Möglichkeit\, unter fachkundiger Anleitung den eigenen Blick zu schärfen und neue Impulse aufzunehmen. \n📅 Jeden Montag (außer in den Ferien) | 10:00–13:00 Uhr📍 Matthäikirche\, Gutenbergstraße 10\, 53123 Bonn🖌️ Leitung: Gerhild Bergknecht
URL:https://www.evforum-bonn.de/veranstaltung/mal-und-zeichenkurs-hardtberg_2025-1/2025-02-10/
LOCATION:Matthäikirche\, Gutenbergstr. 10\, Bonn\, 53123\, Germany
CATEGORIES:Ausstellung - Kunst - Kultur,Kunst - Musik - Literatur,Lehrgang | Kurs,Veranstaltungen von Gemeinden,Veranstaltungsreihen
ATTACH;FMTTYPE=image/jpeg:https://www.evforum-bonn.de/wp-content/uploads/2025/02/schenk-mir-deine-farbe-e1739531762592.jpg
ORGANIZER;CN="Ev. Kirchengemeinde im Bonner Westen (Hardtberg)":MAILTO:hardtberg@ekir.de
END:VEVENT
BEGIN:VEVENT
DTSTART;TZID=Europe/Berlin:20250203T100000
DTEND;TZID=Europe/Berlin:20250203T130000
DTSTAMP:20260424T033444
CREATED:20250703T124105Z
LAST-MODIFIED:20250703T124105Z
UID:10005931-1738576800-1738587600@www.evforum-bonn.de
SUMMARY:Mal- und Zeichenkurs Hardtberg
DESCRIPTION:Der fortlaufende Mal- und Zeichenkurs unter der Leitung von Gerhild Bergknecht bietet Raum für künstlerisches Gestalten\, experimentelles Arbeiten und den Austausch über Kunst und Bildsprache. \nIn entspannter Atmosphäre erlernen und vertiefen die Teilnehmenden Techniken des Zeichnens und Malens – von Grundlagen wie Komposition\, Perspektive und Farbwirkung bis hin zu freien Ausdrucksformen. Der Kurs richtet sich an Interessierte mit und ohne Vorkenntnisse. \nDie eigene Kreativität steht im Mittelpunkt – verbunden mit der Möglichkeit\, unter fachkundiger Anleitung den eigenen Blick zu schärfen und neue Impulse aufzunehmen. \n📅 Jeden Montag (außer in den Ferien) | 10:00–13:00 Uhr📍 Matthäikirche\, Gutenbergstraße 10\, 53123 Bonn🖌️ Leitung: Gerhild Bergknecht
URL:https://www.evforum-bonn.de/veranstaltung/mal-und-zeichenkurs-hardtberg_2025-1/2025-02-03/
LOCATION:Matthäikirche\, Gutenbergstr. 10\, Bonn\, 53123\, Germany
CATEGORIES:Ausstellung - Kunst - Kultur,Kunst - Musik - Literatur,Lehrgang | Kurs,Veranstaltungen von Gemeinden,Veranstaltungsreihen
ATTACH;FMTTYPE=image/jpeg:https://www.evforum-bonn.de/wp-content/uploads/2025/02/schenk-mir-deine-farbe-e1739531762592.jpg
ORGANIZER;CN="Ev. Kirchengemeinde im Bonner Westen (Hardtberg)":MAILTO:hardtberg@ekir.de
END:VEVENT
BEGIN:VEVENT
DTSTART;TZID=Europe/Berlin:20250202T100000
DTEND;TZID=Europe/Berlin:20250202T120000
DTSTAMP:20260424T033444
CREATED:20250108T133259Z
LAST-MODIFIED:20250108T134225Z
UID:10005096-1738490400-1738497600@www.evforum-bonn.de
SUMMARY:Workshop zur Namensfindung für die neue fusionierte Gemeinde
DESCRIPTION:Herzliche Einladung zu unserem Namens-Workshop in der Auferstehungskirche am 02.02.2025 nach dem Gottesdienst \nAuferstehung\, Hardtberg\, Johannis\, Kottenforst – drei einzelne Gemeinden und ein Bezirk haben beschlossen\, zum 1. Januar 2026 zu einer Gemeinde zusammenzugehen. \nDoch wie soll diese neue Gemeinde heißen? \nBiblische Figuren und [oder] geographische Beschreibungen\, theologische Begriffe und [oder] historische Personen – all das kommt als Name für unsere neue Kirchengemeinde in Betracht. Was wollen wir mit dem Namen über unsere Gemeinde aussagen und wen damit ansprechen? Diese Fragen möchten wir mit Ihnen in unseren Workshops klären\, an deren Ende Ihre Vorschläge für den Namen unserer neuen Gemeinde stehen werden! \n\n\nWir möchten vielen Menschen die Möglichkeit geben\, bei der Namensfindung für unsere neue Gemeinde aktiv mitzuwirken. Bei den Workshops wollen wir Ideen sammeln und konkrete Vorschläge entwickeln. Schließlich soll die neue Gemeinde einen Namen bekommen\, mit dem sich die Gemeindemitglieder identifizieren können. Der Name sollte Hoffnung\, Aufbruch und Zusammenhalt vermitteln und eine christliche Botschaft haben\, also nicht rein funktional sein. Er sollte kurz\, prägnant und einprägsam sein\, und keine andere Gemeinde in der näheren Umgebung sollte den gleichen Namen haben. \nWir laden Sie herzlich ein\, bei der Namensfindung mitzumachen. Besuchen Sie einen der folgenden Workshops zur Namensfindung. Kommen Sie mit anderen über das Thema ins Gespräch. Bringen Sie sich und Ihre eigenen Ideen ein. Am Ende jedes Workshops sollen sich die Teilnehmenden auf maximal drei Namensvorschläge einigen. Aus diesen maximal 12 Vorschlägen wird dann der Name für die neue Gemeinde ausgewählt. Die endgültige Entscheidung treffen die vier Presbyterien bis Mitte März 2025.
URL:https://www.evforum-bonn.de/veranstaltung/workshop-zur-namensfindung-fuer-die-neue-fusionierte-gemeinde/
LOCATION:Ev. Auferstehungskirche\, Haager Weg 71\, Bonn\, NRW\, 53127
CATEGORIES:Veranstaltungen von Gemeinden
ATTACH;FMTTYPE=image/jpeg:https://www.evforum-bonn.de/wp-content/uploads/2025/01/workshop.jpg
ORGANIZER;CN="Ev. Kirchengemeinde im Bonner Westen (Hardtberg)":MAILTO:hardtberg@ekir.de
END:VEVENT
BEGIN:VEVENT
DTSTART;TZID=Europe/Berlin:20250127T193000
DTEND;TZID=Europe/Berlin:20250127T210000
DTSTAMP:20260424T033444
CREATED:20250108T105545Z
LAST-MODIFIED:20250217T105127Z
UID:10005088-1738006200-1738011600@www.evforum-bonn.de
SUMMARY:Montagsvortrag: Wo steht der Bonner Westen im Bonner Stadtklima?
DESCRIPTION:27.01.2025 – „Montagsvortrag“ 19:30 Uhr an der Emmaus-Kirche Bonn Duisdorf\nWORKSHOP mit Dr. Karsten Brandt\, Meteorologe Radio\nBonn/Rhein-Sieg-Wettermann \nWo steht der „Bonner Westen“ im Bonner Stadtklima – zwei Jahre Temperaturmessung an der Matthäikirche \nSeit April 2023 verrichtet eine kleine\, mit einem Sensor versehene Box an der Matthäikirche in Bonn-Duisdorf ihre Dienste im Auftrag der Meteorologie.\nRund um die Uhr misst sie als Teil des lokalen Messnetzes des Bonner Wetterdienstes donnerwetter.de die Temperaturen im Garten der evangelischen Kirchengemeinde. \nIn einem Workshop wertet donnerwetter.de-Geschäftsführer und Radio Bonn/Rhein-Sieg-Wettermann Dr. Karsten Brandt die bislang an der Matthäikirche erhobenen Daten mit den Teilnehmern gemeinsam aus\, vergleicht sie mit anderen aus dem Stadtgebiet\, um eine Antwort auf die Frage zu erhalten: Wie ist das Stadtklima im Bonner Westen\, verglichen mit dem\nübrigen Stadtgebiet? \nSchwerpunkte im zweiten Teil des Workshops sind die Themen Hitze und Schwüle. Bonn gilt seit jeher als die deutsche „Hauptstadt der Schwüle“. Die Bürger der Stadt werden in Zeiten des Klimawandels mit einer zunehmenden Anzahl an Hitze- und vor allem Schwületagen konfrontiert werden. Zusammen mit den Teilnehmern erarbeitet Karsten Brandt\, wie sich unsere Stadt verändern muss\, um ihren Bürgern die sommerlichen Wetterkapriolen erträglicher zu machen. \nModeration: Barbara Kliesch \nBeginn 19:30h – Eintritt frei\, Getränkespenden für den anschließenden Umtrunk willkommen!  \nMontagsvortrag_27.01.25
URL:https://www.evforum-bonn.de/veranstaltung/montagsvortrag-2025-01/
LOCATION:Emmaus-Kirche\, Borsigallee 23\, Bonn\, 53125
CATEGORIES:Aktuelles,Montagsvortrag,Veranstaltungen von Gemeinden,Veranstaltungsreihen
ATTACH;FMTTYPE=image/png:https://www.evforum-bonn.de/wp-content/uploads/2025/01/Westen.png
ORGANIZER;CN="Ev. Kirchengemeinde im Bonner Westen (Hardtberg)":MAILTO:hardtberg@ekir.de
END:VEVENT
BEGIN:VEVENT
DTSTART;TZID=Europe/Berlin:20250127T100000
DTEND;TZID=Europe/Berlin:20250127T130000
DTSTAMP:20260424T033444
CREATED:20250703T124105Z
LAST-MODIFIED:20250703T124105Z
UID:10005930-1737972000-1737982800@www.evforum-bonn.de
SUMMARY:Mal- und Zeichenkurs Hardtberg
DESCRIPTION:Der fortlaufende Mal- und Zeichenkurs unter der Leitung von Gerhild Bergknecht bietet Raum für künstlerisches Gestalten\, experimentelles Arbeiten und den Austausch über Kunst und Bildsprache. \nIn entspannter Atmosphäre erlernen und vertiefen die Teilnehmenden Techniken des Zeichnens und Malens – von Grundlagen wie Komposition\, Perspektive und Farbwirkung bis hin zu freien Ausdrucksformen. Der Kurs richtet sich an Interessierte mit und ohne Vorkenntnisse. \nDie eigene Kreativität steht im Mittelpunkt – verbunden mit der Möglichkeit\, unter fachkundiger Anleitung den eigenen Blick zu schärfen und neue Impulse aufzunehmen. \n📅 Jeden Montag (außer in den Ferien) | 10:00–13:00 Uhr📍 Matthäikirche\, Gutenbergstraße 10\, 53123 Bonn🖌️ Leitung: Gerhild Bergknecht
URL:https://www.evforum-bonn.de/veranstaltung/mal-und-zeichenkurs-hardtberg_2025-1/2025-01-27/
LOCATION:Matthäikirche\, Gutenbergstr. 10\, Bonn\, 53123\, Germany
CATEGORIES:Ausstellung - Kunst - Kultur,Kunst - Musik - Literatur,Lehrgang | Kurs,Veranstaltungen von Gemeinden,Veranstaltungsreihen
ATTACH;FMTTYPE=image/jpeg:https://www.evforum-bonn.de/wp-content/uploads/2025/02/schenk-mir-deine-farbe-e1739531762592.jpg
ORGANIZER;CN="Ev. Kirchengemeinde im Bonner Westen (Hardtberg)":MAILTO:hardtberg@ekir.de
END:VEVENT
BEGIN:VEVENT
DTSTART;TZID=Europe/Berlin:20250123T160000
DTEND;TZID=Europe/Berlin:20250123T180000
DTSTAMP:20260424T033444
CREATED:20250116T105229Z
LAST-MODIFIED:20250116T105229Z
UID:10005197-1737648000-1737655200@www.evforum-bonn.de
SUMMARY:Philosophisch Theologischer Gesprächskreis
DESCRIPTION:23.01.2025 – DIE Wohnung – Thema: Religion ohne Gott…\nEv. Kirchengemeinde Hardtberg\nGemeindebüro\nBorsigallee 23-25\n53125 Bonn\nhardtberg@ekir.de\nTel: +49(228) 6880-482
URL:https://www.evforum-bonn.de/veranstaltung/philosophisch-theologischer-gespraechskreis/
LOCATION:Die WOHNUNG\, Stresemannstr. 28\, Bonn\, 53123
CATEGORIES:Veranstaltungen von Gemeinden,Veranstaltungsreihen
ATTACH;FMTTYPE=image/jpeg:https://www.evforum-bonn.de/wp-content/uploads/2025/01/gespraechskreis.jpg
ORGANIZER;CN="Ev. Kirchengemeinde im Bonner Westen (Hardtberg)":MAILTO:hardtberg@ekir.de
END:VEVENT
BEGIN:VEVENT
DTSTART;TZID=Europe/Berlin:20250120T100000
DTEND;TZID=Europe/Berlin:20250120T130000
DTSTAMP:20260424T033444
CREATED:20250703T124105Z
LAST-MODIFIED:20250703T124105Z
UID:10005929-1737367200-1737378000@www.evforum-bonn.de
SUMMARY:Mal- und Zeichenkurs Hardtberg
DESCRIPTION:Der fortlaufende Mal- und Zeichenkurs unter der Leitung von Gerhild Bergknecht bietet Raum für künstlerisches Gestalten\, experimentelles Arbeiten und den Austausch über Kunst und Bildsprache. \nIn entspannter Atmosphäre erlernen und vertiefen die Teilnehmenden Techniken des Zeichnens und Malens – von Grundlagen wie Komposition\, Perspektive und Farbwirkung bis hin zu freien Ausdrucksformen. Der Kurs richtet sich an Interessierte mit und ohne Vorkenntnisse. \nDie eigene Kreativität steht im Mittelpunkt – verbunden mit der Möglichkeit\, unter fachkundiger Anleitung den eigenen Blick zu schärfen und neue Impulse aufzunehmen. \n📅 Jeden Montag (außer in den Ferien) | 10:00–13:00 Uhr📍 Matthäikirche\, Gutenbergstraße 10\, 53123 Bonn🖌️ Leitung: Gerhild Bergknecht
URL:https://www.evforum-bonn.de/veranstaltung/mal-und-zeichenkurs-hardtberg_2025-1/2025-01-20/
LOCATION:Matthäikirche\, Gutenbergstr. 10\, Bonn\, 53123\, Germany
CATEGORIES:Ausstellung - Kunst - Kultur,Kunst - Musik - Literatur,Lehrgang | Kurs,Veranstaltungen von Gemeinden,Veranstaltungsreihen
ATTACH;FMTTYPE=image/jpeg:https://www.evforum-bonn.de/wp-content/uploads/2025/02/schenk-mir-deine-farbe-e1739531762592.jpg
ORGANIZER;CN="Ev. Kirchengemeinde im Bonner Westen (Hardtberg)":MAILTO:hardtberg@ekir.de
END:VEVENT
BEGIN:VEVENT
DTSTART;TZID=Europe/Berlin:20250118T100000
DTEND;TZID=Europe/Berlin:20250118T120000
DTSTAMP:20260424T033444
CREATED:20250108T133327Z
LAST-MODIFIED:20250404T075432Z
UID:10005589-1737194400-1737201600@www.evforum-bonn.de
SUMMARY:Workshop zur Namensfindung für die neue fusionierte Gemeinde
DESCRIPTION:Herzliche Einladung zu unserem Namens-Workshop in der Emmaus-Kirche am 18.01.2025\, 10-12 Uhr mit anschließendem Mittagessen \nAuferstehung\, Hardtberg\, Johannis\, Kottenforst – drei einzelne Gemeinden und ein Bezirk haben beschlossen\, zum 1. Januar 2026 zu einer Gemeinde zusammenzugehen. \nDoch wie soll diese neue Gemeinde heißen? \nBiblische Figuren und [oder] geographische Beschreibungen\, theologische Begriffe und [oder] historische Personen – all das kommt als Name für unsere neue Kirchengemeinde in Betracht. Was wollen wir mit dem Namen über unsere Gemeinde aussagen und wen damit ansprechen? Diese Fragen möchten wir mit Ihnen in unseren Workshops klären\, an deren Ende Ihre Vorschläge für den Namen unserer neuen Gemeinde stehen werden! \n\n\nWir möchten vielen Menschen die Möglichkeit geben\, bei der Namensfindung für unsere neue Gemeinde aktiv mitzuwirken. Bei den Workshops wollen wir Ideen sammeln und konkrete Vorschläge entwickeln. Schließlich soll die neue Gemeinde einen Namen bekommen\, mit dem sich die Gemeindemitglieder identifizieren können. Der Name sollte Hoffnung\, Aufbruch und Zusammenhalt vermitteln und eine christliche Botschaft haben\, also nicht rein funktional sein. Er sollte kurz\, prägnant und einprägsam sein\, und keine andere Gemeinde in der näheren Umgebung sollte den gleichen Namen haben. \nWir laden Sie herzlich ein\, bei der Namensfindung mitzumachen. Besuchen Sie einen der folgenden Workshops zur Namensfindung. Kommen Sie mit anderen über das Thema ins Gespräch. Bringen Sie sich und Ihre eigenen Ideen ein. Am Ende jedes Workshops sollen sich die Teilnehmenden auf maximal drei Namensvorschläge einigen. Aus diesen maximal 12 Vorschlägen wird dann der Name für die neue Gemeinde ausgewählt. Die endgültige Entscheidung treffen die vier Presbyterien bis Mitte März 2025. \n\n\n\n\nNächster Termin: 02. Februar
URL:https://www.evforum-bonn.de/veranstaltung/workshop-zur-namensfindung-fuer-die-neue-fusionierte-gemeinde-18-01/
LOCATION:Emmaus-Kirche\, Borsigallee 23\, Bonn\, 53125
CATEGORIES:Veranstaltungen von Gemeinden
ATTACH;FMTTYPE=image/jpeg:https://www.evforum-bonn.de/wp-content/uploads/2025/01/workshop.jpg
ORGANIZER;CN="Ev. Kirchengemeinde im Bonner Westen (Hardtberg)":MAILTO:hardtberg@ekir.de
END:VEVENT
BEGIN:VEVENT
DTSTART;TZID=Europe/Berlin:20250116T150000
DTEND;TZID=Europe/Berlin:20250116T170000
DTSTAMP:20260424T033444
CREATED:20250116T103625Z
LAST-MODIFIED:20250116T104320Z
UID:10005195-1737039600-1737046800@www.evforum-bonn.de
SUMMARY:Bibel im Gespräch in Matthäi
DESCRIPTION:Bibelgesprächskreis in der Matthäikirche. Nähere Informationen über Textauswahl etc. bei der \nLeitung: Pfr. i.R. Wolfgang Harnisch\, Tel.: 64 39 20 \n  \nNicht in den Schulferien
URL:https://www.evforum-bonn.de/veranstaltung/bibel-im-gesprach-2025/
LOCATION:Gemeindezentrum Matthäikirche\, Gutenbergstraße 10\, Bonn\, 53123\, Deutschland
CATEGORIES:Veranstaltungen von Gemeinden
ATTACH;FMTTYPE=image/jpeg:https://www.evforum-bonn.de/wp-content/uploads/2025/01/matthaeikirche.jpg
ORGANIZER;CN="Ev. Kirchengemeinde im Bonner Westen (Hardtberg)":MAILTO:hardtberg@ekir.de
END:VEVENT
BEGIN:VEVENT
DTSTART;TZID=Europe/Berlin:20250115T190000
DTEND;TZID=Europe/Berlin:20250115T210000
DTSTAMP:20260424T033444
CREATED:20250108T123834Z
LAST-MODIFIED:20250502T075200Z
UID:10005091-1736967600-1736974800@www.evforum-bonn.de
SUMMARY:Literaturkreis 2025 - Han Kang "Griechischstunden"
DESCRIPTION:Auch in diesem Jahr laden wir Sie herzlich zu unserem Literaturkreis ein! In der Regel treffen wir uns jeden 3. Mittwoch im Monat von 19.00 bis 20.30 Uhr  in der Bücherei der Matthäikirche\, um gemeinsam spannende\, bewegende und inspirierende Bücher zu entdecken und zu besprechen. \nFreuen Sie sich auf eine abwechslungsreiche Auswahl an Titeln und Autor*innen\, interessante Diskussionen und den Austausch mit anderen Literaturbegeisterten. \nDer Eintritt ist frei\, und eine Anmeldung nicht nötig.\nDas Bücherei-Team der Matthäikirche freut sich auf Sie! \nZu den Literaturkreis-Büchern für das Jahr 2025
URL:https://www.evforum-bonn.de/veranstaltung/literaturkreis-2025-han-kang-griechischstunden/
LOCATION:Ev. Öffentliche Bücherei an der Matthäikirche\, Gutenbergstraße 10\, Bonn\, NRW\, 53123\, Germany
CATEGORIES:Grips & Geist,Kunst - Musik - Literatur,Veranstaltungen von Gemeinden,Veranstaltungsreihen
ATTACH;FMTTYPE=image/jpeg:https://www.evforum-bonn.de/wp-content/uploads/2025/01/Literaturkreis.jpg
ORGANIZER;CN="Ev. Kirchengemeinde im Bonner Westen (Hardtberg)":MAILTO:hardtberg@ekir.de
END:VEVENT
BEGIN:VEVENT
DTSTART;TZID=Europe/Berlin:20250113T100000
DTEND;TZID=Europe/Berlin:20250113T130000
DTSTAMP:20260424T033444
CREATED:20250703T124105Z
LAST-MODIFIED:20250703T124105Z
UID:10005928-1736762400-1736773200@www.evforum-bonn.de
SUMMARY:Mal- und Zeichenkurs Hardtberg
DESCRIPTION:Der fortlaufende Mal- und Zeichenkurs unter der Leitung von Gerhild Bergknecht bietet Raum für künstlerisches Gestalten\, experimentelles Arbeiten und den Austausch über Kunst und Bildsprache. \nIn entspannter Atmosphäre erlernen und vertiefen die Teilnehmenden Techniken des Zeichnens und Malens – von Grundlagen wie Komposition\, Perspektive und Farbwirkung bis hin zu freien Ausdrucksformen. Der Kurs richtet sich an Interessierte mit und ohne Vorkenntnisse. \nDie eigene Kreativität steht im Mittelpunkt – verbunden mit der Möglichkeit\, unter fachkundiger Anleitung den eigenen Blick zu schärfen und neue Impulse aufzunehmen. \n📅 Jeden Montag (außer in den Ferien) | 10:00–13:00 Uhr📍 Matthäikirche\, Gutenbergstraße 10\, 53123 Bonn🖌️ Leitung: Gerhild Bergknecht
URL:https://www.evforum-bonn.de/veranstaltung/mal-und-zeichenkurs-hardtberg_2025-1/2025-01-13/
LOCATION:Matthäikirche\, Gutenbergstr. 10\, Bonn\, 53123\, Germany
CATEGORIES:Ausstellung - Kunst - Kultur,Kunst - Musik - Literatur,Lehrgang | Kurs,Veranstaltungen von Gemeinden,Veranstaltungsreihen
ATTACH;FMTTYPE=image/jpeg:https://www.evforum-bonn.de/wp-content/uploads/2025/02/schenk-mir-deine-farbe-e1739531762592.jpg
ORGANIZER;CN="Ev. Kirchengemeinde im Bonner Westen (Hardtberg)":MAILTO:hardtberg@ekir.de
END:VEVENT
BEGIN:VEVENT
DTSTART;TZID=Europe/Berlin:20250106T100000
DTEND;TZID=Europe/Berlin:20250106T130000
DTSTAMP:20260424T033444
CREATED:20250703T124105Z
LAST-MODIFIED:20250703T124105Z
UID:10005927-1736157600-1736168400@www.evforum-bonn.de
SUMMARY:Mal- und Zeichenkurs Hardtberg
DESCRIPTION:Der fortlaufende Mal- und Zeichenkurs unter der Leitung von Gerhild Bergknecht bietet Raum für künstlerisches Gestalten\, experimentelles Arbeiten und den Austausch über Kunst und Bildsprache. \nIn entspannter Atmosphäre erlernen und vertiefen die Teilnehmenden Techniken des Zeichnens und Malens – von Grundlagen wie Komposition\, Perspektive und Farbwirkung bis hin zu freien Ausdrucksformen. Der Kurs richtet sich an Interessierte mit und ohne Vorkenntnisse. \nDie eigene Kreativität steht im Mittelpunkt – verbunden mit der Möglichkeit\, unter fachkundiger Anleitung den eigenen Blick zu schärfen und neue Impulse aufzunehmen. \n📅 Jeden Montag (außer in den Ferien) | 10:00–13:00 Uhr📍 Matthäikirche\, Gutenbergstraße 10\, 53123 Bonn🖌️ Leitung: Gerhild Bergknecht
URL:https://www.evforum-bonn.de/veranstaltung/mal-und-zeichenkurs-hardtberg_2025-1/2025-01-06/
LOCATION:Matthäikirche\, Gutenbergstr. 10\, Bonn\, 53123\, Germany
CATEGORIES:Ausstellung - Kunst - Kultur,Kunst - Musik - Literatur,Lehrgang | Kurs,Veranstaltungen von Gemeinden,Veranstaltungsreihen
ATTACH;FMTTYPE=image/jpeg:https://www.evforum-bonn.de/wp-content/uploads/2025/02/schenk-mir-deine-farbe-e1739531762592.jpg
ORGANIZER;CN="Ev. Kirchengemeinde im Bonner Westen (Hardtberg)":MAILTO:hardtberg@ekir.de
END:VEVENT
END:VCALENDAR