BEGIN:VCALENDAR
VERSION:2.0
PRODID:-//Evangelisches Forum Bonn - ECPv6.15.20//NONSGML v1.0//EN
CALSCALE:GREGORIAN
METHOD:PUBLISH
X-WR-CALNAME:Evangelisches Forum Bonn
X-ORIGINAL-URL:https://www.evforum-bonn.de
X-WR-CALDESC:Veranstaltungen für Evangelisches Forum Bonn
REFRESH-INTERVAL;VALUE=DURATION:PT1H
X-Robots-Tag:noindex
X-PUBLISHED-TTL:PT1H
BEGIN:VTIMEZONE
TZID:Europe/Berlin
BEGIN:DAYLIGHT
TZOFFSETFROM:+0100
TZOFFSETTO:+0200
TZNAME:CEST
DTSTART:20240331T010000
END:DAYLIGHT
BEGIN:STANDARD
TZOFFSETFROM:+0200
TZOFFSETTO:+0100
TZNAME:CET
DTSTART:20241027T010000
END:STANDARD
BEGIN:DAYLIGHT
TZOFFSETFROM:+0100
TZOFFSETTO:+0200
TZNAME:CEST
DTSTART:20250330T010000
END:DAYLIGHT
BEGIN:STANDARD
TZOFFSETFROM:+0200
TZOFFSETTO:+0100
TZNAME:CET
DTSTART:20251026T010000
END:STANDARD
BEGIN:DAYLIGHT
TZOFFSETFROM:+0100
TZOFFSETTO:+0200
TZNAME:CEST
DTSTART:20260329T010000
END:DAYLIGHT
BEGIN:STANDARD
TZOFFSETFROM:+0200
TZOFFSETTO:+0100
TZNAME:CET
DTSTART:20261025T010000
END:STANDARD
END:VTIMEZONE
BEGIN:VEVENT
DTSTART;TZID=Europe/Berlin:20250216T180000
DTEND;TZID=Europe/Berlin:20250216T200000
DTSTAMP:20260423T104747
CREATED:20250204T082320Z
LAST-MODIFIED:20250205T071622Z
UID:10005315-1739728800-1739736000@www.evforum-bonn.de
SUMMARY:Musik & Wort um 6 - Musikalische Abendandacht
DESCRIPTION:16.02.2025 ab 18 Uhr – Aegidienkapelle Bonn-Buschdorf\nJeden 3. Sonntag im Monat – Gottesdienst der Reihe „Musik & Wort um Sechs“ in der kleinen Aegidienkapelle Bonn-Buschdorf – Andacht mit Schwerpunkt „klassische Musik“ \nGemeindebüro\nTel: 02222 951120 – E-Mail: gemeindebuero.hersel@ekir.de
URL:https://www.evforum-bonn.de/veranstaltung/musik-wort-um-6-2025-copy/
LOCATION:St. Aegidius\, Buschdorfer Str. 60\, Bonn\, NRW\, 53117\, Germany
CATEGORIES:Kunst - Musik - Literatur,Veranstaltungen von Gemeinden
ATTACH;FMTTYPE=image/webp:https://www.evforum-bonn.de/wp-content/uploads/2025/02/musik-und-wort-e1738657162373.webp
ORGANIZER;CN="Ev. Emmaus-Kirchengemeinde an Rhein u. Vorgebirge (Hersel)":MAILTO:gemeindebuero.hersel@ekir.de
END:VEVENT
BEGIN:VEVENT
DTSTART;TZID=Europe/Berlin:20250119T180000
DTEND;TZID=Europe/Berlin:20250119T200000
DTSTAMP:20260423T104747
CREATED:20250204T080902Z
LAST-MODIFIED:20250205T071522Z
UID:10005314-1737309600-1737316800@www.evforum-bonn.de
SUMMARY:Musik & Wort um 6 - Musikalische Abendandacht
DESCRIPTION:19.01.2025 ab 18 Uhr – Aegidienkapelle Bonn-Buschdorf\njeden 3. Sonntag im Monat – Gottesdienst der Reihe „Musik & Wort um Sechs“ in der kleinen Aegidienkapelle Bonn-Buschdorf \nGemeindebüro\nTel: 02222 951120 – E-Mail: gemeindebuero.hersel@ekir.de
URL:https://www.evforum-bonn.de/veranstaltung/musik-wort-um-6-2025/
LOCATION:St. Aegidius\, Buschdorfer Str. 60\, Bonn\, NRW\, 53117\, Germany
CATEGORIES:Kunst - Musik - Literatur,Veranstaltungen von Gemeinden
ATTACH;FMTTYPE=image/webp:https://www.evforum-bonn.de/wp-content/uploads/2025/02/musik-und-wort-e1738657162373.webp
ORGANIZER;CN="Ev. Emmaus-Kirchengemeinde an Rhein u. Vorgebirge (Hersel)":MAILTO:gemeindebuero.hersel@ekir.de
END:VEVENT
BEGIN:VEVENT
DTSTART;TZID=Europe/Berlin:20250111T140000
DTEND;TZID=Europe/Berlin:20250111T170000
DTSTAMP:20260423T104747
CREATED:20250204T091605Z
LAST-MODIFIED:20250704T071442Z
UID:10005324-1736604000-1736614800@www.evforum-bonn.de
SUMMARY:Repair-Café – gemeinschaftlich reparieren
DESCRIPTION:Entdecken Sie das Repair Café an ausgewählten Terminen (Samstags) im Jahr 2025 – Gemeindezentrum ARCHE Sechtem \nHaben Sie Dinge zu Hause\, die vielleicht reparierbar sind\, aber nicht mehr funktionieren? Wegwerfen ist keine Option! \nBesuchen Sie unser Repair Café\, wo Werkzeuge und Fachwissen für Ihre Reparaturen bereitstehen. Hier findet nicht nur die Reparatur\, sondern auch ein wertvoller Austausch über den verantwortlichen Umgang mit Ressourcen statt. Tauschen Sie sich aus\, lernen Sie und genießen Sie die Gemeinschaft – und das alles\, während Sie wertvolle Ressourcen schonen. Nehmen Sie teil am nachhaltigen Kreislauf und schätzen Sie die Kunst des Reparierens neu. \n 
URL:https://www.evforum-bonn.de/veranstaltung/repair-cafe-2025/
LOCATION:Gemeindezentrum ARCHE Sechtem\, Graue-Burg-Straße 48\, Bornheim\, 53332\, Deutschland
CATEGORIES:Repair Café,Ressourcen - Umwelt - Klima,Veranstaltungen von Gemeinden,Veranstaltungsreihen
ATTACH;FMTTYPE=image/jpeg:https://www.evforum-bonn.de/wp-content/uploads/2025/02/repair-cafe-e1738660760187.jpg
ORGANIZER;CN="Ev. Emmaus-Kirchengemeinde an Rhein u. Vorgebirge (Hersel)":MAILTO:gemeindebuero.hersel@ekir.de
END:VEVENT
END:VCALENDAR