BEGIN:VCALENDAR
VERSION:2.0
PRODID:-//Evangelisches Forum Bonn - ECPv6.15.20//NONSGML v1.0//EN
CALSCALE:GREGORIAN
METHOD:PUBLISH
X-WR-CALNAME:Evangelisches Forum Bonn
X-ORIGINAL-URL:https://www.evforum-bonn.de
X-WR-CALDESC:Veranstaltungen für Evangelisches Forum Bonn
REFRESH-INTERVAL;VALUE=DURATION:PT1H
X-Robots-Tag:noindex
X-PUBLISHED-TTL:PT1H
BEGIN:VTIMEZONE
TZID:Europe/Berlin
BEGIN:DAYLIGHT
TZOFFSETFROM:+0100
TZOFFSETTO:+0200
TZNAME:CEST
DTSTART:20240331T010000
END:DAYLIGHT
BEGIN:STANDARD
TZOFFSETFROM:+0200
TZOFFSETTO:+0100
TZNAME:CET
DTSTART:20241027T010000
END:STANDARD
BEGIN:DAYLIGHT
TZOFFSETFROM:+0100
TZOFFSETTO:+0200
TZNAME:CEST
DTSTART:20250330T010000
END:DAYLIGHT
BEGIN:STANDARD
TZOFFSETFROM:+0200
TZOFFSETTO:+0100
TZNAME:CET
DTSTART:20251026T010000
END:STANDARD
BEGIN:DAYLIGHT
TZOFFSETFROM:+0100
TZOFFSETTO:+0200
TZNAME:CEST
DTSTART:20260329T010000
END:DAYLIGHT
BEGIN:STANDARD
TZOFFSETFROM:+0200
TZOFFSETTO:+0100
TZNAME:CET
DTSTART:20261025T010000
END:STANDARD
END:VTIMEZONE
BEGIN:VEVENT
DTSTART;TZID=Europe/Berlin:20251009T150000
DTEND;TZID=Europe/Berlin:20251009T180000
DTSTAMP:20260423T105720
CREATED:20250120T103437Z
LAST-MODIFIED:20250625T095614Z
UID:10005210-1760022000-1760032800@www.evforum-bonn.de
SUMMARY:Evangelisches Seniorennetzwerk-RWL
DESCRIPTION:Donnerstag\, 09. Oktober 2025 | 15:00–18:00 Uhr | Haus der Evangelischen Kirche\, Bonn \n\nWie kann Biografiearbeit Menschen stärken? Welche Wege gibt es\, Lebensgeschichten Raum zu geben – und über Gemeindegrenzen hinweg neue Impulse in der Seniorenarbeit zu setzen? \nDiese Tagung richtet sich an alle\, die sich für Fragen rund ums Altern\, Sinn und Spiritualität interessieren – ob beruflich\, ehrenamtlich oder persönlich. Nach einem Impuls von Dr. Almut Heuner zur Biografiearbeit stehen praxisnahe Einblicke im Mittelpunkt: Vom Erzählcafé über spirituelle Begleitung bis zur ehrenamtlichen Seelsorgeausbildung. \nAnmeldung über das untenstehende Formular oder per Mail an info@evforum-bonn.de \nEine Veranstaltung des Evangelischen Seniorennetzwerks RWL in Kooperation mit dem Evangelischen Forum Bonn.Finanziell gefördert durch Kollektenmittel „Altenarbeit und Hospiz“ der Evangelischen Kirche im Rheinland. \nTagesplanung: \nModeration: Dr. Anne Kathrin Quaas\, Leiterin Evangelisches Forum & Pfarrerin für Stadtkirchenarbeit  im Kirchenkreis Bonn \n15:00 – 15:20 Uhr        Grußwort: Dr. Almut Heuner\, Vorsitzende Ev. Seniorennetzwerk-RWL | Andacht: Pastorin Marianne Leverenz \n15:20 – 16:00 Uhr         Impulsvortrag: „Biografiearbeit – Die eigene Lebensgeschichte entdecken“ Dr. Almut Heuner \n16:00 – 16:30 Uhr         Zeit für eine Stärkung – Kaffeepause \n16:30 – 17:15 Uhr         Blick über die Gemeindegrenzen: Anregungen für die Praxis \nDas Erzählcafé der Ev. Kirchengemeinde Bonn-Beuel mit Eve-Janine David \nIns Gespräch kommen über die Frage nach Sinn und Spiritualität mit Susanne Back-Bauer \nLebenswege begleiten – Seelsorgeausbildung für eherenamtlich Mitarbeitende mit Ulrike Termath \n17:15 – 17:45 Uhr         Austausch im Plenum \n17:45 – 18:00 Uhr        Verabschiedung \nWir freuen uns auf Sie! \nEinladungskarte/ Flyer \n 
URL:https://www.evforum-bonn.de/veranstaltung/seniorennetzwerk/
LOCATION:Haus der Ev. Kirche Bonn\, Adenauerallee 37\, Bonn\, NRW\, 53113\, Germany
CATEGORIES:Aktuelles,Altern und Alter,Existenzielle Fragestellungen,Gesundheit - Krankheit - Medizin,Haus der Ev. Kirche Bonn,Lehrgang | Kurs,Lesung - Vortrag,Philosophisch-psychologische Kaffeehausgespräche,Seniorenbildung,Theologie / Philosophie,Veranstaltungen von Gemeinden,Veranstaltungen von Institutionen und Verbänden,Weiterbildung allgemein,Zentralprogramm
ATTACH;FMTTYPE=image/jpeg:https://www.evforum-bonn.de/wp-content/uploads/2025/01/Seniorennetzwerk_Fotoalbum-e1748424546499.jpg
END:VEVENT
END:VCALENDAR