BEGIN:VCALENDAR
VERSION:2.0
PRODID:-//Evangelisches Forum Bonn - ECPv6.15.20//NONSGML v1.0//EN
CALSCALE:GREGORIAN
METHOD:PUBLISH
X-ORIGINAL-URL:https://www.evforum-bonn.de
X-WR-CALDESC:Veranstaltungen für Evangelisches Forum Bonn
REFRESH-INTERVAL;VALUE=DURATION:PT1H
X-Robots-Tag:noindex
X-PUBLISHED-TTL:PT1H
BEGIN:VTIMEZONE
TZID:Europe/Berlin
BEGIN:DAYLIGHT
TZOFFSETFROM:+0100
TZOFFSETTO:+0200
TZNAME:CEST
DTSTART:20240331T010000
END:DAYLIGHT
BEGIN:STANDARD
TZOFFSETFROM:+0200
TZOFFSETTO:+0100
TZNAME:CET
DTSTART:20241027T010000
END:STANDARD
BEGIN:DAYLIGHT
TZOFFSETFROM:+0100
TZOFFSETTO:+0200
TZNAME:CEST
DTSTART:20250330T010000
END:DAYLIGHT
BEGIN:STANDARD
TZOFFSETFROM:+0200
TZOFFSETTO:+0100
TZNAME:CET
DTSTART:20251026T010000
END:STANDARD
BEGIN:DAYLIGHT
TZOFFSETFROM:+0100
TZOFFSETTO:+0200
TZNAME:CEST
DTSTART:20260329T010000
END:DAYLIGHT
BEGIN:STANDARD
TZOFFSETFROM:+0200
TZOFFSETTO:+0100
TZNAME:CET
DTSTART:20261025T010000
END:STANDARD
END:VTIMEZONE
BEGIN:VTIMEZONE
TZID:Europe/Busingen
BEGIN:DAYLIGHT
TZOFFSETFROM:+0100
TZOFFSETTO:+0200
TZNAME:CEST
DTSTART:20240331T010000
END:DAYLIGHT
BEGIN:STANDARD
TZOFFSETFROM:+0200
TZOFFSETTO:+0100
TZNAME:CET
DTSTART:20241027T010000
END:STANDARD
BEGIN:DAYLIGHT
TZOFFSETFROM:+0100
TZOFFSETTO:+0200
TZNAME:CEST
DTSTART:20250330T010000
END:DAYLIGHT
BEGIN:STANDARD
TZOFFSETFROM:+0200
TZOFFSETTO:+0100
TZNAME:CET
DTSTART:20251026T010000
END:STANDARD
BEGIN:DAYLIGHT
TZOFFSETFROM:+0100
TZOFFSETTO:+0200
TZNAME:CEST
DTSTART:20260329T010000
END:DAYLIGHT
BEGIN:STANDARD
TZOFFSETFROM:+0200
TZOFFSETTO:+0100
TZNAME:CET
DTSTART:20261025T010000
END:STANDARD
END:VTIMEZONE
BEGIN:VEVENT
DTSTART;TZID=Europe/Berlin:20250810T150000
DTEND;TZID=Europe/Berlin:20250810T170000
DTSTAMP:20260423T121748
CREATED:20250731T100106Z
LAST-MODIFIED:20250731T100106Z
UID:10006091-1754838000-1754845200@www.evforum-bonn.de
SUMMARY:Da haben die Dornen Rosen getragen – Kunstprojekt für Frieden und Erinnerung
DESCRIPTION:Eröffnungsveranstaltung\nSonntag\, 10.08.2025 | 15:00 UhrOrt: St. Edith Stein\, Borsigallee 27–29\, Brüser Berg \nMit einem gemeinsamen Auftakt beginnt das Ausstellungsprojekt „Rosen für den Frieden“ in den Bonner Gemeinden.Es sprechen:– Ralf Knoblauch\, Diakon– Margret Debrus– Caroline Lauscher \nIm Anschluss an die Eröffnung findet eine musikalisch begleitete Vernissage im Nachbarschaftszentrum Brüser Berg statt. \n\nDa haben die Dornen Rosen getragen\nRosen für den Frieden – 10. August – 12. Oktober 2025 in Bonn \n„Da haben die Dornen Rosen getragen…“ – dieser Satz aus einem alten Pilgerlied war Ausgangspunkt für das mehrjährige Friedensprojekt der Künstlerin Caroline Lauscher. In Zusammenarbeit mit vielen Menschen ist eine soziale Skulptur entstanden: Hunderte gehäkelte Rosen in unterschiedlichen Farben und Formen wurden in gemeinschaftlicher Arbeit gefertigt und an verschiedenen Orten in Bonn zu großflächigen Installationen zusammengefügt. \nDie Rosen symbolisieren Hoffnung und Heilung\, verbinden Vergangenheit und Gegenwart\, Trauer und Trost. Im Vordergrund steht ein prozesshaftes Sich-Entwickeln zu einem großen Ganzen – ein Projekt der Solidarität\, das künstlerischen Ausdruck mit Bildungsarbeit und Erinnerungskultur verbindet. \nMehr zum Projekt: www.carolinelauscher.de
URL:https://www.evforum-bonn.de/veranstaltung/da-haben-die-dornen-rosen-getragen-kunstprojekt-fuer-frieden-und-erinnerung/
LOCATION:St. Edith Stein\, Borsigallee 27-29\, Bonn\, NRW\, 53125\, Germany
CATEGORIES:Ausstellung - Vernissage - Finissage,Demokratie-Krieg,Existenzielle Fragestellungen,Kunst - Musik - Literatur,Lesung - Vortrag,Philosophisch-psychologische Kaffeehausgespräche,Politik - Geschichte - Soziologie,Theologie / Philosophie,Veranstaltungen von Gemeinden,Veranstaltungen von Institutionen und Verbänden,Veranstaltungsreihen
ATTACH;FMTTYPE=image/jpeg:https://www.evforum-bonn.de/wp-content/uploads/2025/07/rosenfuerdenfrieden-e1753955592156.jpg
ORGANIZER;CN="Ev. Johanniskirchengemeinde":MAILTO:d.gruss@bonn-evangelisch.de
END:VEVENT
BEGIN:VEVENT
DTSTART;TZID=Europe/Busingen:20250612T163000
DTEND;TZID=Europe/Busingen:20250612T190000
DTSTAMP:20260423T121748
CREATED:20250109T112810Z
LAST-MODIFIED:20250110T175243Z
UID:10005126-1749745800-1749754800@www.evforum-bonn.de
SUMMARY:Bonner Altstadt – das ehemalige Arbeiter und Handwerksviertel
DESCRIPTION:12. Juni 2025 – 16:30 Uhr – Treffpunkt: Maxstraße/Ecke Breite Straße (gegenüber Stadthaus/Elisabeth Selbert-Platz) \nErfahren Sie welche Zufälle zur Kirschblüte führten\, wo Pirandello wohnte und was es mit den Aufanischen Matronen auf sich hat. Themen sind auch genossenschaftlicher Wohnungsbau\, die wechselhafte Geschichte der Maxstraße und das „Ungetüm“ Stadthaus. \nEin Spaziergang mit Rainer SELmanN M.A. \nEine Veranstaltung aus dem Programm der Kirchengemeinden und Klupp´91: \nwww.lukaskirche-bonn.de\n(Gemeindeleben/Senioren)\nwww.thomas-morus-bonn.de\n(Gemeindeleben/Ökumene)
URL:https://www.evforum-bonn.de/veranstaltung/bonner-altstadt-das-ehemalige-arbeiter-und-handwerksviertel/
LOCATION:Offener Treffpunkt
CATEGORIES:Aktuelles,Veranstaltungen von Gemeinden
ATTACH;FMTTYPE=image/jpeg:https://www.evforum-bonn.de/wp-content/uploads/2025/01/Bonn-Marktplatz.jpg
END:VEVENT
BEGIN:VEVENT
DTSTART;TZID=Europe/Busingen:20250522T163000
DTEND;TZID=Europe/Busingen:20250522T180000
DTSTAMP:20260423T121748
CREATED:20250109T111641Z
LAST-MODIFIED:20250110T175328Z
UID:10005125-1747931400-1747936800@www.evforum-bonn.de
SUMMARY:Mein Vorgebirge – eine biografische  Reise
DESCRIPTION:22.05.2025 – 16:30 Uhr – Evangelisches Gemeindeforum Auerberg \nDr. Michael Geffert hat in Kurzgeschichten und Skizzen den besonderen Reiz der Vorgebirgslandschaften festgehalten. Damit will er uns das Vorgebirge\, seine Menschen und Bauten nahebringen. Er wird ausgewählte Geschichten aus seinem Buch vorlesen und uns ihre Entstehungsgeschichte erzählen. Ebenso zeigt er auch Bilder aus seinem Buch. \nEintritt frei – Eine Spende für die Sozialberatung der Ev. Lukaskirchengemeinde wird erbeten \n 
URL:https://www.evforum-bonn.de/veranstaltung/mein-vorgebirge-eine-biografische-reise/
LOCATION:Ev. Gemeindeforum Auerberg\, Helsinkistraße 4\, Bonn\, 53117\, Deutschland
CATEGORIES:Aktuelles,Veranstaltungen von Gemeinden
ATTACH;FMTTYPE=image/jpeg:https://www.evforum-bonn.de/wp-content/uploads/2025/01/Lesung.jpg
END:VEVENT
BEGIN:VEVENT
DTSTART;TZID=Europe/Berlin:20250313T150000
DTEND;TZID=Europe/Berlin:20250313T170000
DTSTAMP:20260423T121748
CREATED:20250109T105345Z
LAST-MODIFIED:20250114T102232Z
UID:10005123-1741878000-1741885200@www.evforum-bonn.de
SUMMARY:Informationsbesuch des UN-Campus
DESCRIPTION:13. März 2025 – Treffpunkt 15 Uhr am Eingangsgebäude zum Campusgelände\, Platz der Vereinten Nationen 1 (Ende der Heussallee) \n*Bzgl. Sicherheitskontrolle führen Sie bitte einen gültigen Lichtbildausweis mit!* \nAnmeldung: Dr. Joachim Rott | 0157 82296972 | jn.rott@web.de \nEinladung aus dem Veranstaltungsprogramm der \nKirchengemeinden und der Klupp ‘91 im Internet:\nwww.lukaskirche-bonn.de\n(Gemeindeleben /Senioren)\nwww.thomas-morus-bonn.de\n(Gemeindeleben /Ökumene) \n 
URL:https://www.evforum-bonn.de/veranstaltung/informationsbesuch-des-un-campus/
LOCATION:UN Campus\, Herrmann-Ehlers Str. 10\, Bonn\, NRW\, 53113\, Germany
CATEGORIES:Aktuelles,Veranstaltungen von Gemeinden
ATTACH;FMTTYPE=image/jpeg:https://www.evforum-bonn.de/wp-content/uploads/2025/01/UN-Campus-Bonn.jpg
END:VEVENT
END:VCALENDAR