BEGIN:VCALENDAR
VERSION:2.0
PRODID:-//Evangelisches Forum Bonn - ECPv6.15.20//NONSGML v1.0//EN
CALSCALE:GREGORIAN
METHOD:PUBLISH
X-ORIGINAL-URL:https://www.evforum-bonn.de
X-WR-CALDESC:Veranstaltungen für Evangelisches Forum Bonn
REFRESH-INTERVAL;VALUE=DURATION:PT1H
X-Robots-Tag:noindex
X-PUBLISHED-TTL:PT1H
BEGIN:VTIMEZONE
TZID:Europe/Berlin
BEGIN:DAYLIGHT
TZOFFSETFROM:+0100
TZOFFSETTO:+0200
TZNAME:CEST
DTSTART:20240331T010000
END:DAYLIGHT
BEGIN:STANDARD
TZOFFSETFROM:+0200
TZOFFSETTO:+0100
TZNAME:CET
DTSTART:20241027T010000
END:STANDARD
BEGIN:DAYLIGHT
TZOFFSETFROM:+0100
TZOFFSETTO:+0200
TZNAME:CEST
DTSTART:20250330T010000
END:DAYLIGHT
BEGIN:STANDARD
TZOFFSETFROM:+0200
TZOFFSETTO:+0100
TZNAME:CET
DTSTART:20251026T010000
END:STANDARD
BEGIN:DAYLIGHT
TZOFFSETFROM:+0100
TZOFFSETTO:+0200
TZNAME:CEST
DTSTART:20260329T010000
END:DAYLIGHT
BEGIN:STANDARD
TZOFFSETFROM:+0200
TZOFFSETTO:+0100
TZNAME:CET
DTSTART:20261025T010000
END:STANDARD
END:VTIMEZONE
BEGIN:VEVENT
DTSTART;TZID=Europe/Berlin:20250111T090000
DTEND;TZID=Europe/Berlin:20250111T090000
DTSTAMP:20260423T164004
CREATED:20250915T075612Z
LAST-MODIFIED:20250915T075710Z
UID:10006221-1736586000-1736586000@www.evforum-bonn.de
SUMMARY:Modul 1/10 Einführung Traumatologie
DESCRIPTION:Interne Kursveranstaltung. Dieses Modul ist Teil der Ausbildung Notfallseelsorge Bonn/Rhein-Sieg (10 Ganztagsmodule\, 09:00–18:00 Uhr).\nDie Teilnahme ist nur nach Zulassung möglich. 👉 Dieser Termin dient der Übersicht für eingeschriebene Teilnehmende. \nHinweise zur Anmeldung:\nDie Anmeldung erfolgt zweistufig (Vormerkung & telefonisches Vorgespräch – danach schriftliche Anmeldung).\nAlle Infos zum Verfahren: evforum-bonn.de/ausbildungskurs-zum-zur-notfallseelsorger-in \nOrganisatorisches (fix für alle Module): \n\nUhrzeit: 09:00–18:00 Uhr\nOrt: Collegium Josephinum Bonn (sofern nicht anders angegeben)\n\nGeplante Termine (jeden 1. Samstag im Monat\, außer in Ferien NRW & an Feiertagen):
URL:https://www.evforum-bonn.de/veranstaltung/ausbildung-notfallseelsorge_modul-1-von-10-2025/
LOCATION:Collegium Josephinum Bonn\, Kölnstraße 413\, Bonn\, NRW\, 53117\, Germany
CATEGORIES:Lehrgang | Kurs,Notfallseelsorge - Ausbildungskurs,Veranstaltungen von Institutionen und Verbänden,Veranstaltungsreihen
ATTACH;FMTTYPE=image/png:https://www.evforum-bonn.de/wp-content/uploads/2025/08/notfallseelsorge_logo_kursiv-1.png
ORGANIZER;CN="Notfallseelsorge Bonn Rhein-Sieg":MAILTO:info@nfs-bn-rsk.de
END:VEVENT
BEGIN:VEVENT
DTSTART;TZID=Europe/Berlin:20250111T100000
DTEND;TZID=Europe/Berlin:20250111T160000
DTSTAMP:20260423T164004
CREATED:20241028T131445Z
LAST-MODIFIED:20260209T092844Z
UID:10005044-1736589600-1736611200@www.evforum-bonn.de
SUMMARY:Friedenswerkstatt
DESCRIPTION:2. Friedenswerkstatt des Arbeitskreises Frieden der ökumenischen Netze und Gruppen in der Evangelischen Kirche im Rheinland (EKiR) in Kooperation mit dem Evangelischen Forum Bonn \nDas Leitbild des gerechten Friedens im Sinne einer aktiven Gewaltfreiheit wird angefochten. Die Rede ist von Kriegstüchtigkeit statt Friedensfähigkeit. Friedenspolitisches und demokratisches Engagement werden von rechten Kräften diskreditiert. Klimakrise\, Kriege\, Rezession und vieles andere verunsichern die Menschen. Das betrifft die Friedensarbeit innerhalb und außerhalb aller Kirchen. Der Arbeitskreis Frieden in der Evangelischen Kirche im Rheinland (EKiR) sucht Orientierung für das weitere Handeln am Samstag\, dem 11. Januar 2025\, 10:45 bis 16 Uhr\, in Bonn und lädt dazu Initiativen\, Gruppen und interessierte in und außerhalb der EKiR ein. \nProgramm: \nAb 10:30 Uhr: Ankommen und Stehkaffee\n11:00 Uhr: Begrüßung + Einführung\n11:35 Uhr: Keynote: „Wie bleiben wir handlungsfähig auf dem Weg zu einer Kirche des gerechten Friedens?“ – Prof. Dr. Gottfried Orth \n12:35 Uhr: Rückfragen und Diskussion\n13:00 Uhr: Mittagessen \n13:45 Uhr: Arbeitsgruppen\nAG 1: Kriegstüchtig oder friedensfähig: Wohin entwickeln sich Demokratie und Gesellschaft?\nmit Dr. Corinna Hauswedell\, Historikerin + Friedensforscherin\nAG 2: Wehrpflicht und Kriegsdienstverweigerung\nmit Gregor Rehm\, Friedensbeauftragter der Ev. Kirche der Pfalz\nAG 3: Globale Herausforderungen: z.B. Rüstung\, Aufrüstung\, Klima-Krise\, Flucht/Migration\nmit Ulrich Frey\n14:45 Uhr: Pause\n15:00 Uhr: Plenum zu Handlungsoptionen aus den AGs\n15:50 Uhr: Verabschiedung + Reisesegen\n16:00 Uhr: Ende
URL:https://www.evforum-bonn.de/veranstaltung/friedenswerkstatt/
LOCATION:Haus der Ev. Kirche Bonn\, Adenauerallee 37\, Bonn\, NRW\, 53113\, Germany
CATEGORIES:Demokratie-Krieg,Existenzielle Fragestellungen,Haus der Ev. Kirche Bonn,Lesung - Vortrag,Migration - Kultur - Kultureller Austausch,Theologie / Philosophie,Zentralprogramm
ORGANIZER;CN="Evangelisches Forum Bonn":MAILTO:info@evforum-bonn.de
END:VEVENT
BEGIN:VEVENT
DTSTART;TZID=Europe/Berlin:20250111T140000
DTEND;TZID=Europe/Berlin:20250111T170000
DTSTAMP:20260423T164004
CREATED:20250204T091605Z
LAST-MODIFIED:20250704T071442Z
UID:10005324-1736604000-1736614800@www.evforum-bonn.de
SUMMARY:Repair-Café – gemeinschaftlich reparieren
DESCRIPTION:Entdecken Sie das Repair Café an ausgewählten Terminen (Samstags) im Jahr 2025 – Gemeindezentrum ARCHE Sechtem \nHaben Sie Dinge zu Hause\, die vielleicht reparierbar sind\, aber nicht mehr funktionieren? Wegwerfen ist keine Option! \nBesuchen Sie unser Repair Café\, wo Werkzeuge und Fachwissen für Ihre Reparaturen bereitstehen. Hier findet nicht nur die Reparatur\, sondern auch ein wertvoller Austausch über den verantwortlichen Umgang mit Ressourcen statt. Tauschen Sie sich aus\, lernen Sie und genießen Sie die Gemeinschaft – und das alles\, während Sie wertvolle Ressourcen schonen. Nehmen Sie teil am nachhaltigen Kreislauf und schätzen Sie die Kunst des Reparierens neu. \n 
URL:https://www.evforum-bonn.de/veranstaltung/repair-cafe-2025/
LOCATION:Gemeindezentrum ARCHE Sechtem\, Graue-Burg-Straße 48\, Bornheim\, 53332\, Deutschland
CATEGORIES:Repair Café,Ressourcen - Umwelt - Klima,Veranstaltungen von Gemeinden,Veranstaltungsreihen
ATTACH;FMTTYPE=image/jpeg:https://www.evforum-bonn.de/wp-content/uploads/2025/02/repair-cafe-e1738660760187.jpg
ORGANIZER;CN="Ev. Emmaus-Kirchengemeinde an Rhein u. Vorgebirge (Hersel)":MAILTO:gemeindebuero.hersel@ekir.de
END:VEVENT
END:VCALENDAR