BEGIN:VCALENDAR
VERSION:2.0
PRODID:-//Evangelisches Forum Bonn - ECPv6.15.20//NONSGML v1.0//EN
CALSCALE:GREGORIAN
METHOD:PUBLISH
X-WR-CALNAME:Evangelisches Forum Bonn
X-ORIGINAL-URL:https://www.evforum-bonn.de
X-WR-CALDESC:Veranstaltungen für Evangelisches Forum Bonn
REFRESH-INTERVAL;VALUE=DURATION:PT1H
X-Robots-Tag:noindex
X-PUBLISHED-TTL:PT1H
BEGIN:VTIMEZONE
TZID:Europe/Berlin
BEGIN:DAYLIGHT
TZOFFSETFROM:+0100
TZOFFSETTO:+0200
TZNAME:CEST
DTSTART:20240331T010000
END:DAYLIGHT
BEGIN:STANDARD
TZOFFSETFROM:+0200
TZOFFSETTO:+0100
TZNAME:CET
DTSTART:20241027T010000
END:STANDARD
BEGIN:DAYLIGHT
TZOFFSETFROM:+0100
TZOFFSETTO:+0200
TZNAME:CEST
DTSTART:20250330T010000
END:DAYLIGHT
BEGIN:STANDARD
TZOFFSETFROM:+0200
TZOFFSETTO:+0100
TZNAME:CET
DTSTART:20251026T010000
END:STANDARD
BEGIN:DAYLIGHT
TZOFFSETFROM:+0100
TZOFFSETTO:+0200
TZNAME:CEST
DTSTART:20260329T010000
END:DAYLIGHT
BEGIN:STANDARD
TZOFFSETFROM:+0200
TZOFFSETTO:+0100
TZNAME:CET
DTSTART:20261025T010000
END:STANDARD
END:VTIMEZONE
BEGIN:VEVENT
DTSTART;TZID=Europe/Berlin:20250115T183000
DTEND;TZID=Europe/Berlin:20250115T210000
DTSTAMP:20260423T151556
CREATED:20250106T100635Z
LAST-MODIFIED:20250327T115427Z
UID:10005066-1736965800-1736974800@www.evforum-bonn.de
SUMMARY:Diskutier Ma(h)l:  Verfassungspatriotismus und Ziviler Ungehorsam
DESCRIPTION:Herzliche Einladung zu einem Themenabend im Kirchenpavillon\, organisiert vom Lehrstuhl für (Sozial-)Ethik und dem Evangelischen Forum. \nSteffen Augsberg\, Professor für öffentliches Recht an der Justus-Liebig-Universität Gießen\, wird einen Impulsvortrag zum Thema „Wo sind denn all die Patriotinnen? Verfassungspatriotismus und ziviler Ungehorsam“ geben. Danach sind alle Besucher*innen zum Mitdenken und Diskutieren eingeladen. \nDer Eintritt ist frei und es wird vor Ort einen kleinen Snack geben. \nZielgruppe: Studierende | Wissenschaftler*innen | Alle Interessierten \nFlyer DiskutierMahl 15.01.25 \n 
URL:https://www.evforum-bonn.de/veranstaltung/diskutiermahl_25-01-15/
LOCATION:Ev. Kirchenpavillon Bonn\, Kaiserplatz 1a\, Bonn\, NRW\, 53113\, Germany
CATEGORIES:Aktuelles,Diskutier Ma(h)l,Kirchenpavillon,Lesung - Vortrag,Politik - Geschichte - Soziologie,Theologie / Philosophie,Veranstaltungsreihen,Zentralprogramm
ATTACH;FMTTYPE=image/png:https://www.evforum-bonn.de/wp-content/uploads/2025/01/Diskutiermahl.15.1-e1742458876561.png
END:VEVENT
BEGIN:VEVENT
DTSTART;TZID=Europe/Berlin:20250115T190000
DTEND;TZID=Europe/Berlin:20250115T210000
DTSTAMP:20260423T151556
CREATED:20250108T123834Z
LAST-MODIFIED:20250502T075200Z
UID:10005091-1736967600-1736974800@www.evforum-bonn.de
SUMMARY:Literaturkreis 2025 - Han Kang "Griechischstunden"
DESCRIPTION:Auch in diesem Jahr laden wir Sie herzlich zu unserem Literaturkreis ein! In der Regel treffen wir uns jeden 3. Mittwoch im Monat von 19.00 bis 20.30 Uhr  in der Bücherei der Matthäikirche\, um gemeinsam spannende\, bewegende und inspirierende Bücher zu entdecken und zu besprechen. \nFreuen Sie sich auf eine abwechslungsreiche Auswahl an Titeln und Autor*innen\, interessante Diskussionen und den Austausch mit anderen Literaturbegeisterten. \nDer Eintritt ist frei\, und eine Anmeldung nicht nötig.\nDas Bücherei-Team der Matthäikirche freut sich auf Sie! \nZu den Literaturkreis-Büchern für das Jahr 2025
URL:https://www.evforum-bonn.de/veranstaltung/literaturkreis-2025-han-kang-griechischstunden/
LOCATION:Ev. Öffentliche Bücherei an der Matthäikirche\, Gutenbergstraße 10\, Bonn\, NRW\, 53123\, Germany
CATEGORIES:Grips & Geist,Kunst - Musik - Literatur,Veranstaltungen von Gemeinden,Veranstaltungsreihen
ATTACH;FMTTYPE=image/jpeg:https://www.evforum-bonn.de/wp-content/uploads/2025/01/Literaturkreis.jpg
ORGANIZER;CN="Ev. Kirchengemeinde im Bonner Westen (Hardtberg)":MAILTO:hardtberg@ekir.de
END:VEVENT
BEGIN:VEVENT
DTSTART;TZID=Europe/Berlin:20250115T193000
DTEND;TZID=Europe/Berlin:20250115T210000
DTSTAMP:20260423T151556
CREATED:20250805T092627Z
LAST-MODIFIED:20250805T092627Z
UID:10006109-1736969400-1736974800@www.evforum-bonn.de
SUMMARY:Lesekreis in Trinitatis
DESCRIPTION:Gemeinsam lesen\, reflektieren und entdecken wir klassische und zeitgenössische Literatur – von Goethe bis Juli Zeh\, von Weltliteratur bis Gegenwartsroman. Im Mittelpunkt steht der lebendige Austausch über Themen\, Sprache\, Stil und gesellschaftliche Relevanz der Texte. Der Lesekreis lädt zur Auseinandersetzung mit literarischen Werken ein und fördert zugleich das kritische Denken\, die sprachliche Ausdrucksfähigkeit und das Verständnis für kulturelle\, gesellschaftliche und ethische Themen. \nZielgruppe:Alle\, die Freude an guter Literatur haben und Lust auf inspirierende Gespräche mitbringen.Literaturkenntnisse sind nicht erforderlich – Offenheit und Interesse genügen. \nInformationen auf einen Blick:📆 Wann: Jeden 3. Mittwoch im Monat\, 19:30 Uhr | 📍 Wo: Gemeindehaus der Ev. Trinitatiskirchengemeinde Bonn \nEinstieg jederzeit möglich – Ansprechpartner:in: Susanne Müller Snmlrbonn@aol.com
URL:https://www.evforum-bonn.de/veranstaltung/lesekreis-in-trinitatis/2025-01-15/
LOCATION:Gemeindehaus der Trinitatiskirchengemeinde\, Brahmsstraße 14\, Bonn\, NRW\, 53121\, Germany
CATEGORIES:Bibel und Buch,Kunst - Musik - Literatur,Theologie / Philosophie,Veranstaltungen von Gemeinden,Veranstaltungsreihen
ATTACH;FMTTYPE=image/jpeg:https://www.evforum-bonn.de/wp-content/uploads/2025/01/Literaturkreis.jpg
END:VEVENT
BEGIN:VEVENT
DTSTART;TZID=Europe/Berlin:20250115T200000
DTEND;TZID=Europe/Berlin:20250115T210000
DTSTAMP:20260423T151556
CREATED:20250407T111453Z
LAST-MODIFIED:20250407T111559Z
UID:10005594-1736971200-1736974800@www.evforum-bonn.de
SUMMARY:Religiöse Kindererziehung
DESCRIPTION:Impulse zur religiösen Kindererziehung – jeden Mittwoch (außer Ferien ab 20 Uhr in der Friedenskirche \nJeden Mittwochabend (außer in den Ferien) lädt Pastorin Annette Ziegler von 20–21 Uhr in die Friedenskirche Bonn-Kessenich ein\, um zentrale Fragen der religiösen Kindererziehung zu beleuchten. Begleitend durch ausgewählte Literatur und ergänzt durch Vorträge externer Fachleute bietet die Reihe praxisnahe Impulse und Raum für Austausch. \nWeitere Informationen: Tel. 0228 23 83 71 | E-Mail: buero@friedenskirche-bonn.de \n 
URL:https://www.evforum-bonn.de/veranstaltung/religioese-kindererziehung/2025-01-15/
LOCATION:Friedenskirche\, Franz-Bücheler-Str. 10\, Bonn\, 53129 \, Deutschland
CATEGORIES:Existenzielle Fragestellungen,Lesung - Vortrag,Pädagogische Bildung,Veranstaltungen von Gemeinden,Veranstaltungsreihen,Weiterbildung allgemein
ATTACH;FMTTYPE=image/png:https://www.evforum-bonn.de/wp-content/uploads/2025/04/Religioese-Kindererziehung-e1744024216838.png
END:VEVENT
BEGIN:VEVENT
DTSTART;TZID=Europe/Berlin:20250115T200000
DTEND;TZID=Europe/Berlin:20250115T210000
DTSTAMP:20260423T151556
CREATED:20250407T111957Z
LAST-MODIFIED:20250407T111958Z
UID:10005632-1736971200-1736974800@www.evforum-bonn.de
SUMMARY:Religiöse Kindererziehung
DESCRIPTION:Impulse zur religiösen Kindererziehung – jeden Mittwoch (außer Ferien ab 20 Uhr in der Friedenskirche \nJeden Mittwochabend (außer in den Ferien) lädt Pastorin Annette Ziegler von 20–21 Uhr in die Friedenskirche Bonn-Kessenich ein\, um zentrale Fragen der religiösen Kindererziehung zu beleuchten. Begleitend durch ausgewählte Literatur und ergänzt durch Vorträge externer Fachleute bietet die Reihe praxisnahe Impulse und Raum für Austausch. \nWeitere Informationen: Tel. 0228 23 83 71 | E-Mail: buero@friedenskirche-bonn.de \n 
URL:https://www.evforum-bonn.de/veranstaltung/religioese-kindererziehung-2/2025-01-15/
LOCATION:Friedenskirche\, Franz-Bücheler-Str. 10\, Bonn\, 53129 \, Deutschland
CATEGORIES:Existenzielle Fragestellungen,Lesung - Vortrag,Pädagogische Bildung,Veranstaltungen von Gemeinden,Veranstaltungsreihen,Weiterbildung allgemein
ATTACH;FMTTYPE=image/png:https://www.evforum-bonn.de/wp-content/uploads/2025/04/Religioese-Kindererziehung-e1744024216838.png
END:VEVENT
END:VCALENDAR