BEGIN:VCALENDAR
VERSION:2.0
PRODID:-//Evangelisches Forum Bonn - ECPv6.15.20//NONSGML v1.0//EN
CALSCALE:GREGORIAN
METHOD:PUBLISH
X-ORIGINAL-URL:https://www.evforum-bonn.de
X-WR-CALDESC:Veranstaltungen für Evangelisches Forum Bonn
REFRESH-INTERVAL;VALUE=DURATION:PT1H
X-Robots-Tag:noindex
X-PUBLISHED-TTL:PT1H
BEGIN:VTIMEZONE
TZID:Europe/Berlin
BEGIN:DAYLIGHT
TZOFFSETFROM:+0100
TZOFFSETTO:+0200
TZNAME:CEST
DTSTART:20240331T010000
END:DAYLIGHT
BEGIN:STANDARD
TZOFFSETFROM:+0200
TZOFFSETTO:+0100
TZNAME:CET
DTSTART:20241027T010000
END:STANDARD
BEGIN:DAYLIGHT
TZOFFSETFROM:+0100
TZOFFSETTO:+0200
TZNAME:CEST
DTSTART:20250330T010000
END:DAYLIGHT
BEGIN:STANDARD
TZOFFSETFROM:+0200
TZOFFSETTO:+0100
TZNAME:CET
DTSTART:20251026T010000
END:STANDARD
BEGIN:DAYLIGHT
TZOFFSETFROM:+0100
TZOFFSETTO:+0200
TZNAME:CEST
DTSTART:20260329T010000
END:DAYLIGHT
BEGIN:STANDARD
TZOFFSETFROM:+0200
TZOFFSETTO:+0100
TZNAME:CET
DTSTART:20261025T010000
END:STANDARD
END:VTIMEZONE
BEGIN:VEVENT
DTSTART;TZID=Europe/Berlin:20250120T100000
DTEND;TZID=Europe/Berlin:20250120T130000
DTSTAMP:20260423T134812
CREATED:20250703T124105Z
LAST-MODIFIED:20250703T124105Z
UID:10005929-1737367200-1737378000@www.evforum-bonn.de
SUMMARY:Mal- und Zeichenkurs Hardtberg
DESCRIPTION:Der fortlaufende Mal- und Zeichenkurs unter der Leitung von Gerhild Bergknecht bietet Raum für künstlerisches Gestalten\, experimentelles Arbeiten und den Austausch über Kunst und Bildsprache. \nIn entspannter Atmosphäre erlernen und vertiefen die Teilnehmenden Techniken des Zeichnens und Malens – von Grundlagen wie Komposition\, Perspektive und Farbwirkung bis hin zu freien Ausdrucksformen. Der Kurs richtet sich an Interessierte mit und ohne Vorkenntnisse. \nDie eigene Kreativität steht im Mittelpunkt – verbunden mit der Möglichkeit\, unter fachkundiger Anleitung den eigenen Blick zu schärfen und neue Impulse aufzunehmen. \n📅 Jeden Montag (außer in den Ferien) | 10:00–13:00 Uhr📍 Matthäikirche\, Gutenbergstraße 10\, 53123 Bonn🖌️ Leitung: Gerhild Bergknecht
URL:https://www.evforum-bonn.de/veranstaltung/mal-und-zeichenkurs-hardtberg_2025-1/2025-01-20/
LOCATION:Matthäikirche\, Gutenbergstr. 10\, Bonn\, 53123\, Germany
CATEGORIES:Ausstellung - Kunst - Kultur,Kunst - Musik - Literatur,Lehrgang | Kurs,Veranstaltungen von Gemeinden,Veranstaltungsreihen
ATTACH;FMTTYPE=image/jpeg:https://www.evforum-bonn.de/wp-content/uploads/2025/02/schenk-mir-deine-farbe-e1739531762592.jpg
ORGANIZER;CN="Ev. Kirchengemeinde im Bonner Westen (Hardtberg)":MAILTO:hardtberg@ekir.de
END:VEVENT
BEGIN:VEVENT
DTSTART;TZID=Europe/Berlin:20250120T140000
DTEND;TZID=Europe/Berlin:20250120T160000
DTSTAMP:20260423T134812
CREATED:20250204T110341Z
LAST-MODIFIED:20250204T110417Z
UID:10005333-1737381600-1737388800@www.evforum-bonn.de
SUMMARY:Offenes Konversationscafé
DESCRIPTION:Wir freuen uns auf Ihren Besuch: jeden Montag von 14.00 – 16.00 Uhr im MIGRApolis-Haus der Vielfalt\nSeit 2014 bietet die EMFA (Evangelische Migrations und Flüchtlingsarbeit Bonn – Integrationsagentur) ein Konversations-Café für Zuwander*innen unterschiedlicher Nationalitäten an. \nHier gibt es Gelegenheit\, einfache Gespräche zu führen und neue Kontakte zu knüpfen. Je nach Bedarf der Besucher*innen werden Sprachanlässe vorbereitet\, die oft einen aktuellen Anlass haben. Die letzten Themen waren: Ausbildungen im Pflegebereich für Migranten und Geflüchtete – verschiedene Anbieter stellen sich vor; Klimawandel und Umweltschutz – was jeder tun kann; Erfolgsgeschichten: Geflüchtete berichten von Ausbildung und Schule – Biographie-Ausstellung; Corona (immer wieder) – Ansteckungen\, AHA-Regeln und deshalb: veränderte Bedingungen im Café; Vorstellung des Projektes: Familien fit machen für Kitas und Schulen im Rahmen der Interkulturellen Woche; Herbst: Grippe und Corona – Unterschiede\, Gemeinsamkeiten und wie kann ich mich schützen? \nKleine Texte laden zum Austausch ein und erweitern den Wortschatz. Ehrenamtliche Helfer*innen und Frau Hussain\, die wunderbar Deutsch spricht\, helfen bei Verständnisschwierigkeiten. \nLeiterin: Barbara Schlüter (schlueter@bimev.de) Offenes Konversationscafé – Willkommen bei der EMFA
URL:https://www.evforum-bonn.de/veranstaltung/offenes-konversationscafe-2-copy-copy/
LOCATION:Migrapolis- Haus der Vielfalt\, Brüdergasse 16–18\, Bonn\, 53111\, Deutschland
CATEGORIES:Migration - Kultur - Kultureller Austausch,Veranstaltungen von Gemeinden,Veranstaltungen von Institutionen und Verbänden,Veranstaltungsreihen
ATTACH;FMTTYPE=image/jpeg:https://www.evforum-bonn.de/wp-content/uploads/2025/02/migrapolis.jpg
END:VEVENT
BEGIN:VEVENT
DTSTART;TZID=Europe/Berlin:20250120T190000
DTEND;TZID=Europe/Berlin:20250120T190000
DTSTAMP:20260423T134812
CREATED:20240814T111320Z
LAST-MODIFIED:20250110T175808Z
UID:10005016-1737399600-1737399600@www.evforum-bonn.de
SUMMARY:Tol’dot & Tarbut
DESCRIPTION:Theresienstadt steht für die menschenverachtende Politik der Nationalsozialisten. Diese richteten vor 83 Jahren\, im November 1941\, in Theresienstadt/Terezín ein Durchgangsghetto ein. Bis Mai 1945 wurden hierher 140\,000 Menschen deportiert. Die allermeisten von ihnen wurden in die Vernichtungs- und Konzentrationslager im Osten deportiert\, viele starben an Krankheiten oder Hunger. \nDie Historikerin Anna Hájková schreibt die erste analytische Studie über das Leben in Theresienstadt: über Leben und Überleben unter extremen Bedingungen. Das Buch «The Last Ghetto. An Everyday History of Theresienstadt» analysiert das Leben der Menschen im Lager ohne den Blick der Täter und ohne Sentimentalitäten. Es öffnet den Blick auf Kategorien wie Geschlecht\, Klasse\, Herkunft und wirft neues Licht darauf\, was Gesellschaft ausmacht. \nDr. Anna Hájková\, London \nReihe: Tol’dot & Tarbut – Jüdische Geschichte & Kultur \nOnline-Veranstaltung; Anmeldung über externen Zoom-Link: \nhttps://bildungswerk-ev-de.zoom.us/meeting/register/tJEsf-yprjMsGN1RyuE5FbB6eqvxT7AURj79
URL:https://www.evforum-bonn.de/veranstaltung/toldot-tarbut-5/
LOCATION:ONLINE via Zoom\, externer Zoom Link\, Germany
CATEGORIES:Aktuelles,Politik - Geschichte - Soziologie,Theologie / Philosophie,Toldot & Tarbut,Veranstaltungsreihen,Zentralprogramm
ATTACH;FMTTYPE=image/jpeg:https://www.evforum-bonn.de/wp-content/uploads/2024/08/toldot-und-tarbut-e1736348778526.jpg
ORGANIZER;CN="Katholisches Bildungsforum Bonn":MAILTO:fbs@bildungsforum-bonn.de
END:VEVENT
END:VCALENDAR