BEGIN:VCALENDAR
VERSION:2.0
PRODID:-//Evangelisches Forum Bonn - ECPv6.15.20//NONSGML v1.0//EN
CALSCALE:GREGORIAN
METHOD:PUBLISH
X-ORIGINAL-URL:https://www.evforum-bonn.de
X-WR-CALDESC:Veranstaltungen für Evangelisches Forum Bonn
REFRESH-INTERVAL;VALUE=DURATION:PT1H
X-Robots-Tag:noindex
X-PUBLISHED-TTL:PT1H
BEGIN:VTIMEZONE
TZID:Europe/Berlin
BEGIN:DAYLIGHT
TZOFFSETFROM:+0100
TZOFFSETTO:+0200
TZNAME:CEST
DTSTART:20240331T010000
END:DAYLIGHT
BEGIN:STANDARD
TZOFFSETFROM:+0200
TZOFFSETTO:+0100
TZNAME:CET
DTSTART:20241027T010000
END:STANDARD
BEGIN:DAYLIGHT
TZOFFSETFROM:+0100
TZOFFSETTO:+0200
TZNAME:CEST
DTSTART:20250330T010000
END:DAYLIGHT
BEGIN:STANDARD
TZOFFSETFROM:+0200
TZOFFSETTO:+0100
TZNAME:CET
DTSTART:20251026T010000
END:STANDARD
BEGIN:DAYLIGHT
TZOFFSETFROM:+0100
TZOFFSETTO:+0200
TZNAME:CEST
DTSTART:20260329T010000
END:DAYLIGHT
BEGIN:STANDARD
TZOFFSETFROM:+0200
TZOFFSETTO:+0100
TZNAME:CET
DTSTART:20261025T010000
END:STANDARD
END:VTIMEZONE
BEGIN:VEVENT
DTSTART;TZID=Europe/Berlin:20250128T170000
DTEND;TZID=Europe/Berlin:20250128T183000
DTSTAMP:20260423T152538
CREATED:20250703T092554Z
LAST-MODIFIED:20250703T093548Z
UID:10005883-1738083600-1738089000@www.evforum-bonn.de
SUMMARY:"Mystik entdecken" Theologiekreis der Auferstehungskirche
DESCRIPTION:📅 4. Dienstag im Monat (außer in den Ferien)📍Gemeindehaus der Ev. Auferstehungskirchengemeinde \nSeit vielen Jahren trifft sich ein Kreis theologisch und spirituell interessierter Menschen\, um sich mit der Geschichte christlicher Mystik und der Vielfalt spiritueller Wege vertraut zu machen. Von den Wüstenvätern und -müttern des 4. Jahrhunderts über die Tradition der Klöster bis in die Gegenwart suchen Christinnen und Christen nach einem inneren Zugang zu Gott. \nIm Gespräch gehen wir Zeugnissen und Texten der Mystik nach\, lassen uns von deren Erfahrungen inspirieren und tauschen uns über die Bedeutung für unser eigenes Glaubensleben aus. \nDie Reihe lebt von gemeinsamer Neugier\, Erfahrung und Offenheit – neue Interessierte sind herzlich willkommen. \n📧 Ansprechpartner: Pfarrer Christian Knoche-Hager – christian.knoche-hager@ekir.de
URL:https://www.evforum-bonn.de/veranstaltung/mystik-entdecken_25_01/
LOCATION:Gemeindehaus der Ev. Auferstehungskirche\, Haager Weg 40\, Bonn\, NRW\, 53127\, Germany
CATEGORIES:Bibel - Bibelgespräch,Bibel und Buch,Theologie / Philosophie,Veranstaltungen von Gemeinden,Veranstaltungsreihen
ATTACH;FMTTYPE=image/jpeg:https://www.evforum-bonn.de/wp-content/uploads/2025/07/Mystik-entdecken_Bildquelle-Ev.-Auferstehungskirche-Bonn.jpg
ORGANIZER;CN="Ev. Kirchengemeinde im Bonner Westen (Auferstehung)":MAILTO:carla.hornberger@ekir.de
END:VEVENT
BEGIN:VEVENT
DTSTART;TZID=Europe/Berlin:20250128T193000
DTEND;TZID=Europe/Berlin:20250128T203000
DTSTAMP:20260423T152538
CREATED:20250725T113808Z
LAST-MODIFIED:20250725T113808Z
UID:10006022-1738092600-1738096200@www.evforum-bonn.de
SUMMARY:Lindy Hop | Offener Tanzunterricht
DESCRIPTION:Lindy Hop ist ein beschwingter Swing-Tanzstil mit Wurzeln in der afroamerikanischen Kultur der 1930er Jahre. In diesem offenen Tanzunterricht steht nicht nur die Freude an Bewegung im Mittelpunkt\, sondern auch das gemeinschaftliche Lernen: Vom ersten Grundschritt bis zur Improvisation können alle – mit oder ohne Vorkenntnisse – neue Schritte erlernen\, Koordination und Rhythmusgefühl schulen und dabei die Geschichte eines kulturell bedeutenden Tanzstils kennenlernen. \nDie Abende bieten Raum für Begegnung\, körperliche Aktivität und kulturelle Bildung – immer in respektvoller Atmosphäre und mit viel Spaß. Kommen Sie vorbei\, tanzen Sie mit! \n📍 Ort: Melanchthonhaus der Kreuzkirche📩 Anmeldung & Infos: lindyhop@justmail.de🕒 Wöchentlich dienstags um 19:30 Uhr (außer ggf. in den Ferien und an Feiertagen)
URL:https://www.evforum-bonn.de/veranstaltung/lindy-hop-offener-tanzunterricht/2025-01-28/
LOCATION:Melanchthon Haus der Kreuzkirche\, An der Evangelischen Kirche 6\, Bonn\, NRW\, 53113\, Germany
CATEGORIES:Gesundheit - Krankheit - Medizin,Lindy Hop,Tanz - Bewegung - Gesundheit,Veranstaltungen von Gemeinden,Veranstaltungsreihen
ATTACH;FMTTYPE=image/jpeg:https://www.evforum-bonn.de/wp-content/uploads/2025/07/Lindy-Hop_Foto-by-Lindy-Hop-e1753443452177.jpg
END:VEVENT
END:VCALENDAR