BEGIN:VCALENDAR
VERSION:2.0
PRODID:-//Evangelisches Forum Bonn - ECPv6.15.20//NONSGML v1.0//EN
CALSCALE:GREGORIAN
METHOD:PUBLISH
X-WR-CALNAME:Evangelisches Forum Bonn
X-ORIGINAL-URL:https://www.evforum-bonn.de
X-WR-CALDESC:Veranstaltungen für Evangelisches Forum Bonn
REFRESH-INTERVAL;VALUE=DURATION:PT1H
X-Robots-Tag:noindex
X-PUBLISHED-TTL:PT1H
BEGIN:VTIMEZONE
TZID:Europe/Berlin
BEGIN:DAYLIGHT
TZOFFSETFROM:+0100
TZOFFSETTO:+0200
TZNAME:CEST
DTSTART:20240331T010000
END:DAYLIGHT
BEGIN:STANDARD
TZOFFSETFROM:+0200
TZOFFSETTO:+0100
TZNAME:CET
DTSTART:20241027T010000
END:STANDARD
BEGIN:DAYLIGHT
TZOFFSETFROM:+0100
TZOFFSETTO:+0200
TZNAME:CEST
DTSTART:20250330T010000
END:DAYLIGHT
BEGIN:STANDARD
TZOFFSETFROM:+0200
TZOFFSETTO:+0100
TZNAME:CET
DTSTART:20251026T010000
END:STANDARD
BEGIN:DAYLIGHT
TZOFFSETFROM:+0100
TZOFFSETTO:+0200
TZNAME:CEST
DTSTART:20260329T010000
END:DAYLIGHT
BEGIN:STANDARD
TZOFFSETFROM:+0200
TZOFFSETTO:+0100
TZNAME:CET
DTSTART:20261025T010000
END:STANDARD
END:VTIMEZONE
BEGIN:VEVENT
DTSTART;TZID=Europe/Berlin:20250129T190000
DTEND;TZID=Europe/Berlin:20250129T210000
DTSTAMP:20260423T153807
CREATED:20250113T131801Z
LAST-MODIFIED:20250516T115952Z
UID:10005154-1738177200-1738184400@www.evforum-bonn.de
SUMMARY:Vortrag: Befreiungstheologien - Eine Einführung\, Matthew Robinson
DESCRIPTION:Gottesdienste am 26.1.\, 2.2. und 9.2.2025 um 11 Uhr in der Friedenskirche jeweils mit Predigtnachgespräch \nVorträge am 29.1. und 5.2.2025 jeweils um 19.30 Uhr im großen Saal an der Friedenskirche \n\nAbend: Befreiungstheologien – Eine Einführung\, Matthew Robinson\nAbend: Podium mit Vertreter*innen von Bewegungen\, die heute in befreiungstheologischen Kontexten unterwegs sind\n\n  \nBefreiungstheologien haben Menschen\, die Unterdrückung und Verachtung erlebt haben oder sich in lebensfeindlichen Lebensverhältnissen befunden haben\, immer wieder Hoffnung\, Selbstwert und Mut gegeben\, für ein lebenswertes Leben zu kämpfen. \nWir möchten in der Predigtreihe 2025 die Frage stellen\, wo Gott uns heute in die Freiheit führen könnte\, so wie er vor vielen 1000 Jahren sein Volk aus der Sklaverei in Ägypten in die Freiheit geführt hat. \nWoraus müssten wir als Gemeinschaft befreit werden und was würden wir gewinnen? Könnte es um Freiheit vom Haben wollen und unnötigem Überfluss gehen\, der uns belastet? Brauchen wir Befreiung von unserem ökologischen Verhalten\, um zu einem Leben in größerem Einklang mit der Schöpfung zu finden? Brauchen wir Befreiung vom Stress hin zu mehr Ruhe und Entspannung oder vom ständigen Klagen und Jammern hin zu mehr Dankbarkeit und Demut\, die den Segen Gottes spüren kann; oder von immer mehr Militarismus hin zum Frieden\, zum göttlichen Shalom? \nDr. Anne-Kathrin Quaas\, Stefanie Graner\, Merle Niederwemmer \nZur Freiheit befreit 29.01. und 05.02.2025
URL:https://www.evforum-bonn.de/veranstaltung/befreiungstheologien-eine-einfuehrung-copy/
LOCATION:Gemeindehaus der Friedenskirchengemeinde\, Franz-Bücheler-Straße 10\, Bonn\, NRW\, 53129\, Germany
CATEGORIES:Aktuelles,Veranstaltungen von Gemeinden,Veranstaltungsreihen,Zentralprogramm
ATTACH;FMTTYPE=image/png:https://www.evforum-bonn.de/wp-content/uploads/2025/01/befreit.png
ORGANIZER;CN="Evangelisches Forum Bonn":MAILTO:info@evforum-bonn.de
END:VEVENT
BEGIN:VEVENT
DTSTART;TZID=Europe/Berlin:20250129T193000
DTEND;TZID=Europe/Berlin:20250129T210000
DTSTAMP:20260423T153807
CREATED:20250124T083544Z
LAST-MODIFIED:20250124T083544Z
UID:10005254-1738179000-1738184400@www.evforum-bonn.de
SUMMARY:Ökumenischer Bibelkreis Auerberg
DESCRIPTION:28.01.2025 – 19:30 Uhr im Gemeindeforum Auerberg \nWir werden Markus 11\,12-26 miteinander lesen und besprechen: Jesus verflucht den Feigenbaum\, vertreibt die Händler aus dem Tempelvorhof und spricht über die Wirkung des Betens \n„Herzlich willkommen zu unserem Bibelgesprächskreis!\nIn einer offenen und inspirierenden Runde lesen und diskutieren wir gemeinsam biblische Texte\, tauschen Gedanken aus und lassen uns von neuen Perspektiven bereichern. Jede und jeder ist herzlich eingeladen\, teilzunehmen!“ \nÖkumenischer Bibelkreis Auerberg
URL:https://www.evforum-bonn.de/veranstaltung/oekumenischer-bibelkreis-auerberg/
LOCATION:Ev. Gemeindeforum Auerberg\, Helsinkistraße 4\, Bonn\, 53117\, Deutschland
CATEGORIES:Veranstaltungen von Gemeinden
ATTACH;FMTTYPE=image/jpeg:https://www.evforum-bonn.de/wp-content/uploads/2025/01/Oekumene_auerberg.jpg
END:VEVENT
BEGIN:VEVENT
DTSTART;TZID=Europe/Berlin:20250129T200000
DTEND;TZID=Europe/Berlin:20250129T210000
DTSTAMP:20260423T153807
CREATED:20250407T111453Z
LAST-MODIFIED:20250407T111559Z
UID:10005596-1738180800-1738184400@www.evforum-bonn.de
SUMMARY:Religiöse Kindererziehung
DESCRIPTION:Impulse zur religiösen Kindererziehung – jeden Mittwoch (außer Ferien ab 20 Uhr in der Friedenskirche \nJeden Mittwochabend (außer in den Ferien) lädt Pastorin Annette Ziegler von 20–21 Uhr in die Friedenskirche Bonn-Kessenich ein\, um zentrale Fragen der religiösen Kindererziehung zu beleuchten. Begleitend durch ausgewählte Literatur und ergänzt durch Vorträge externer Fachleute bietet die Reihe praxisnahe Impulse und Raum für Austausch. \nWeitere Informationen: Tel. 0228 23 83 71 | E-Mail: buero@friedenskirche-bonn.de \n 
URL:https://www.evforum-bonn.de/veranstaltung/religioese-kindererziehung/2025-01-29/
LOCATION:Friedenskirche\, Franz-Bücheler-Str. 10\, Bonn\, 53129 \, Deutschland
CATEGORIES:Existenzielle Fragestellungen,Lesung - Vortrag,Pädagogische Bildung,Veranstaltungen von Gemeinden,Veranstaltungsreihen,Weiterbildung allgemein
ATTACH;FMTTYPE=image/png:https://www.evforum-bonn.de/wp-content/uploads/2025/04/Religioese-Kindererziehung-e1744024216838.png
END:VEVENT
BEGIN:VEVENT
DTSTART;TZID=Europe/Berlin:20250129T200000
DTEND;TZID=Europe/Berlin:20250129T210000
DTSTAMP:20260423T153807
CREATED:20250407T111957Z
LAST-MODIFIED:20250407T111958Z
UID:10005634-1738180800-1738184400@www.evforum-bonn.de
SUMMARY:Religiöse Kindererziehung
DESCRIPTION:Impulse zur religiösen Kindererziehung – jeden Mittwoch (außer Ferien ab 20 Uhr in der Friedenskirche \nJeden Mittwochabend (außer in den Ferien) lädt Pastorin Annette Ziegler von 20–21 Uhr in die Friedenskirche Bonn-Kessenich ein\, um zentrale Fragen der religiösen Kindererziehung zu beleuchten. Begleitend durch ausgewählte Literatur und ergänzt durch Vorträge externer Fachleute bietet die Reihe praxisnahe Impulse und Raum für Austausch. \nWeitere Informationen: Tel. 0228 23 83 71 | E-Mail: buero@friedenskirche-bonn.de \n 
URL:https://www.evforum-bonn.de/veranstaltung/religioese-kindererziehung-2/2025-01-29/
LOCATION:Friedenskirche\, Franz-Bücheler-Str. 10\, Bonn\, 53129 \, Deutschland
CATEGORIES:Existenzielle Fragestellungen,Lesung - Vortrag,Pädagogische Bildung,Veranstaltungen von Gemeinden,Veranstaltungsreihen,Weiterbildung allgemein
ATTACH;FMTTYPE=image/png:https://www.evforum-bonn.de/wp-content/uploads/2025/04/Religioese-Kindererziehung-e1744024216838.png
END:VEVENT
END:VCALENDAR