BEGIN:VCALENDAR
VERSION:2.0
PRODID:-//Evangelisches Forum Bonn - ECPv6.15.20//NONSGML v1.0//EN
CALSCALE:GREGORIAN
METHOD:PUBLISH
X-WR-CALNAME:Evangelisches Forum Bonn
X-ORIGINAL-URL:https://www.evforum-bonn.de
X-WR-CALDESC:Veranstaltungen für Evangelisches Forum Bonn
REFRESH-INTERVAL;VALUE=DURATION:PT1H
X-Robots-Tag:noindex
X-PUBLISHED-TTL:PT1H
BEGIN:VTIMEZONE
TZID:Europe/Berlin
BEGIN:DAYLIGHT
TZOFFSETFROM:+0100
TZOFFSETTO:+0200
TZNAME:CEST
DTSTART:20240331T010000
END:DAYLIGHT
BEGIN:STANDARD
TZOFFSETFROM:+0200
TZOFFSETTO:+0100
TZNAME:CET
DTSTART:20241027T010000
END:STANDARD
BEGIN:DAYLIGHT
TZOFFSETFROM:+0100
TZOFFSETTO:+0200
TZNAME:CEST
DTSTART:20250330T010000
END:DAYLIGHT
BEGIN:STANDARD
TZOFFSETFROM:+0200
TZOFFSETTO:+0100
TZNAME:CET
DTSTART:20251026T010000
END:STANDARD
BEGIN:DAYLIGHT
TZOFFSETFROM:+0100
TZOFFSETTO:+0200
TZNAME:CEST
DTSTART:20260329T010000
END:DAYLIGHT
BEGIN:STANDARD
TZOFFSETFROM:+0200
TZOFFSETTO:+0100
TZNAME:CET
DTSTART:20261025T010000
END:STANDARD
END:VTIMEZONE
BEGIN:VEVENT
DTSTART;TZID=Europe/Berlin:20250205T100000
DTEND;TZID=Europe/Berlin:20250205T113000
DTSTAMP:20260423T163701
CREATED:20250114T115537Z
LAST-MODIFIED:20250114T115904Z
UID:10005161-1738749600-1738755000@www.evforum-bonn.de
SUMMARY:KÖNNEN wir diskutieren?! Drei Lektüretreffen im Haus der Kirche
DESCRIPTION:05.02.2025 – Anmeldung formlos per Mail an info@stiftung-informationskompetenz \n  \nTeil 1: Lektüretreffen (drei Termine\, kostenfreie Teilnahme)\nIn dem Buch „Wider die Verrohung“ schreibt Ingrid Brodnig über gezielte Zerstörung öffentlicher Debatten und erklärt Strategien\, um auf Emotionalisierung und Desinformation besser antworten zu können. Brodnig formulierte: „Dieses Buch will Rüstzeug geben – zur Abwehr von Spaltungsversuchen und zur Verteidigung fair geführter\, demokratischer Diskussionen.“\nDie Teilnehmenden werden gebeten\, das Buch zu erwerben und für sich zu lesen. Bei den moderierten Treffen werden Auszüge aus dem Buch gemeinsam gelesen\, der Schwerpunkt liegt auf Austausch und Diskussion. Beim Bucherwerb kann es finanzielle Unterstützung geben. \nAngaben zum Buch: Brodnig\, Ingrid: Wider die Verrohung. Brandstätter Verlag\, Wien 2024. 22 Euro. \n  \nEin Buch – drei Termine \n\nDrei Lektüretreffen online : „KÖNNEN wir diskutieren?!“\, Do\, 23. Januar\, 6. Februar\, 20. Februar\, jeweils 19.30 bis 21 Uhr. Moderation Dr. Bettina Förster\, Anmeldung hier.\nDrei Lektüretreffen im Kirchenpavillon am Abend : „KÖNNEN wir diskutieren?!\, Kirchenpavillon Bonn (Kaiserpl. 1a\, 53113 Bonn)\, Di\, 4. Februar\, 11. Februar und 18. Februar\, jeweils 19 bis 20.30 Uhr. Moderation Dr. Anne-Kathrin Quaas\, Anmeldung: Formlose E-Mail an info@stiftung-informationskompetenz. Anmeldung bis 31. Januar 2025.\nDrei Lektüretreffen im Haus der Kirche vormittags : „KÖNNEN wir diskutieren?!“\, Haus der Kirche (Adenauerallee 37\, 53113 Bonn)\, Mi\, 5. Februar\, 12. Februar und 19. Februar\, jeweils 10 bis 11.30 Uhr. Moderation Dr. Susannah Cremer-Bermbach\, Anmeldung: Formlose E-Mail an info@stiftung-informationskompetenz. Anmeldung bis 31. Januar 2025.\n\nInformationen zur Veranstaltungsreihe
URL:https://www.evforum-bonn.de/veranstaltung/koennen-wir-diskutieren-drei-lektueretreffen-hdk05-02/
LOCATION:Haus der Ev. Kirche Bonn\, Adenauerallee 37\, Bonn\, NRW\, 53113\, Germany
CATEGORIES:Aktuelles,Haus der Ev. Kirche Bonn,Philosophisch-psychologische Kaffeehausgespräche,Veranstaltungsreihen,Wissenschaftsstadt,Zentralprogramm
ATTACH;FMTTYPE=image/jpeg:https://www.evforum-bonn.de/wp-content/uploads/2025/01/widerdieverrohung.jpg
ORGANIZER;CN="Ev. Akademie im Rheinland":MAILTO:info@akademie.ekir.de
END:VEVENT
BEGIN:VEVENT
DTSTART;TZID=Europe/Berlin:20250205T190000
DTEND;TZID=Europe/Berlin:20250205T210000
DTSTAMP:20260423T163701
CREATED:20250110T211037Z
LAST-MODIFIED:20250516T115911Z
UID:10005151-1738782000-1738789200@www.evforum-bonn.de
SUMMARY:Zur Freiheit befreit - Podiumsgespräch über Befreiungserfahrungen
DESCRIPTION:Gottesdienste am 26.1.\, 2.2. und 9.2.2025 um 11 Uhr in der Friedenskirche jeweils mit Predigtnachgespräch \nVorträge am 29.1. und 5.2.2025 jeweils um 19.30 Uhr im großen Saal an der Friedenskirche \n\nAbend: Befreiungstheologien – Eine Einführung\, Matthew Robinson\nAbend: Podium mit Vertreter*innen von Bewegungen\, die heute in befreiungstheologischen Kontexten unterwegs sind\n\n  \nBefreiungstheologien haben Menschen\, die Unterdrückung und Verachtung erlebt haben oder sich in lebensfeindlichen Lebensverhältnissen befunden haben\, immer wieder Hoffnung\, Selbstwert und Mut gegeben\, für ein lebenswertes Leben zu kämpfen. \nWir möchten in der Predigtreihe 2025 die Frage stellen\, wo Gott uns heute in die Freiheit führen könnte\, so wie er vor vielen 1000 Jahren sein Volk aus der Sklaverei in Ägypten in die Freiheit geführt hat. \nWoraus müssten wir als Gemeinschaft befreit werden und was würden wir gewinnen? Könnte es um Freiheit vom Haben wollen und unnötigem Überfluss gehen\, der uns belastet? Brauchen wir Befreiung von unserem ökologischen Verhalten\, um zu einem Leben in größerem Einklang mit der Schöpfung zu finden? Brauchen wir Befreiung vom Stress hin zu mehr Ruhe und Entspannung oder vom ständigen Klagen und Jammern hin zu mehr Dankbarkeit und Demut\, die den Segen Gottes spüren kann; oder von immer mehr Militarismus hin zum Frieden\, zum göttlichen Shalom? \nDr. Anne-Kathrin Quaas\, Stefanie Graner\, Merle Niederwemmer \nZur Freiheit befreit 29.01. und 05.02.2025
URL:https://www.evforum-bonn.de/veranstaltung/befreiungstheologien-eine-einfuehrung/
LOCATION:Gemeindehaus der Friedenskirchengemeinde\, Franz-Bücheler-Straße 10\, Bonn\, NRW\, 53129\, Germany
CATEGORIES:Aktuelles,Veranstaltungen von Gemeinden,Veranstaltungsreihen,Zentralprogramm
ATTACH;FMTTYPE=image/png:https://www.evforum-bonn.de/wp-content/uploads/2025/01/befreit.png
ORGANIZER;CN="Evangelisches Forum Bonn":MAILTO:info@evforum-bonn.de
END:VEVENT
BEGIN:VEVENT
DTSTART;TZID=Europe/Berlin:20250205T200000
DTEND;TZID=Europe/Berlin:20250205T210000
DTSTAMP:20260423T163701
CREATED:20250407T111453Z
LAST-MODIFIED:20250407T111559Z
UID:10005597-1738785600-1738789200@www.evforum-bonn.de
SUMMARY:Religiöse Kindererziehung
DESCRIPTION:Impulse zur religiösen Kindererziehung – jeden Mittwoch (außer Ferien ab 20 Uhr in der Friedenskirche \nJeden Mittwochabend (außer in den Ferien) lädt Pastorin Annette Ziegler von 20–21 Uhr in die Friedenskirche Bonn-Kessenich ein\, um zentrale Fragen der religiösen Kindererziehung zu beleuchten. Begleitend durch ausgewählte Literatur und ergänzt durch Vorträge externer Fachleute bietet die Reihe praxisnahe Impulse und Raum für Austausch. \nWeitere Informationen: Tel. 0228 23 83 71 | E-Mail: buero@friedenskirche-bonn.de \n 
URL:https://www.evforum-bonn.de/veranstaltung/religioese-kindererziehung/2025-02-05/
LOCATION:Friedenskirche\, Franz-Bücheler-Str. 10\, Bonn\, 53129 \, Deutschland
CATEGORIES:Existenzielle Fragestellungen,Lesung - Vortrag,Pädagogische Bildung,Veranstaltungen von Gemeinden,Veranstaltungsreihen,Weiterbildung allgemein
ATTACH;FMTTYPE=image/png:https://www.evforum-bonn.de/wp-content/uploads/2025/04/Religioese-Kindererziehung-e1744024216838.png
END:VEVENT
BEGIN:VEVENT
DTSTART;TZID=Europe/Berlin:20250205T200000
DTEND;TZID=Europe/Berlin:20250205T210000
DTSTAMP:20260423T163701
CREATED:20250407T111957Z
LAST-MODIFIED:20250407T111958Z
UID:10005635-1738785600-1738789200@www.evforum-bonn.de
SUMMARY:Religiöse Kindererziehung
DESCRIPTION:Impulse zur religiösen Kindererziehung – jeden Mittwoch (außer Ferien ab 20 Uhr in der Friedenskirche \nJeden Mittwochabend (außer in den Ferien) lädt Pastorin Annette Ziegler von 20–21 Uhr in die Friedenskirche Bonn-Kessenich ein\, um zentrale Fragen der religiösen Kindererziehung zu beleuchten. Begleitend durch ausgewählte Literatur und ergänzt durch Vorträge externer Fachleute bietet die Reihe praxisnahe Impulse und Raum für Austausch. \nWeitere Informationen: Tel. 0228 23 83 71 | E-Mail: buero@friedenskirche-bonn.de \n 
URL:https://www.evforum-bonn.de/veranstaltung/religioese-kindererziehung-2/2025-02-05/
LOCATION:Friedenskirche\, Franz-Bücheler-Str. 10\, Bonn\, 53129 \, Deutschland
CATEGORIES:Existenzielle Fragestellungen,Lesung - Vortrag,Pädagogische Bildung,Veranstaltungen von Gemeinden,Veranstaltungsreihen,Weiterbildung allgemein
ATTACH;FMTTYPE=image/png:https://www.evforum-bonn.de/wp-content/uploads/2025/04/Religioese-Kindererziehung-e1744024216838.png
END:VEVENT
END:VCALENDAR