BEGIN:VCALENDAR
VERSION:2.0
PRODID:-//Evangelisches Forum Bonn - ECPv6.15.20//NONSGML v1.0//EN
CALSCALE:GREGORIAN
METHOD:PUBLISH
X-ORIGINAL-URL:https://www.evforum-bonn.de
X-WR-CALDESC:Veranstaltungen für Evangelisches Forum Bonn
REFRESH-INTERVAL;VALUE=DURATION:PT1H
X-Robots-Tag:noindex
X-PUBLISHED-TTL:PT1H
BEGIN:VTIMEZONE
TZID:Europe/Berlin
BEGIN:DAYLIGHT
TZOFFSETFROM:+0100
TZOFFSETTO:+0200
TZNAME:CEST
DTSTART:20240331T010000
END:DAYLIGHT
BEGIN:STANDARD
TZOFFSETFROM:+0200
TZOFFSETTO:+0100
TZNAME:CET
DTSTART:20241027T010000
END:STANDARD
BEGIN:DAYLIGHT
TZOFFSETFROM:+0100
TZOFFSETTO:+0200
TZNAME:CEST
DTSTART:20250330T010000
END:DAYLIGHT
BEGIN:STANDARD
TZOFFSETFROM:+0200
TZOFFSETTO:+0100
TZNAME:CET
DTSTART:20251026T010000
END:STANDARD
BEGIN:DAYLIGHT
TZOFFSETFROM:+0100
TZOFFSETTO:+0200
TZNAME:CEST
DTSTART:20260329T010000
END:DAYLIGHT
BEGIN:STANDARD
TZOFFSETFROM:+0200
TZOFFSETTO:+0100
TZNAME:CET
DTSTART:20261025T010000
END:STANDARD
END:VTIMEZONE
BEGIN:VEVENT
DTSTART;TZID=Europe/Berlin:20250206T150000
DTEND;TZID=Europe/Berlin:20250206T180000
DTSTAMP:20260423T152416
CREATED:20250123T083447Z
LAST-MODIFIED:20250123T085303Z
UID:10005215-1738854000-1738864800@www.evforum-bonn.de
SUMMARY:Frauengesprächskreis 2025
DESCRIPTION:„Alle Frauen\, die christliche Gemeinschaft suchen und ihren Beitrag dazu leisten möchten\, finden bei uns einen Platz. \n Gemeinsam tauschen wir uns aus unserer persönlichen Sicht – als Frauen – über verschiedene Themen aus.“  \nNähere Informationen bei der Leiterin: Iris Richter\, Tel. 0228 22 57 86 \ngeplant 2025 – jeden 1. Donnerstag im Monat 15.00- 18.00 Uhr (ggf. nicht in den Ferien) \nThema des Tages entnehmen Sie bitte der Gemeindehomepage – Thema: Frauengesprächskreis
URL:https://www.evforum-bonn.de/veranstaltung/frauengespraechskreis-2025/
LOCATION:Gemeindehaus der Friedenskirchengemeinde\, Franz-Bücheler-Straße 10\, Bonn\, NRW\, 53129\, Germany
CATEGORIES:Veranstaltungen von Gemeinden
ATTACH;FMTTYPE=image/jpeg:https://www.evforum-bonn.de/wp-content/uploads/2025/01/Papiermaennchen-Kreis.jpg
END:VEVENT
BEGIN:VEVENT
DTSTART;TZID=Europe/Berlin:20250206T160000
DTEND;TZID=Europe/Berlin:20250206T173000
DTSTAMP:20260423T152416
CREATED:20250815T084346Z
LAST-MODIFIED:20250815T084518Z
UID:10006159-1738857600-1738863000@www.evforum-bonn.de
SUMMARY:Christlich-Jüdisches Cafè
DESCRIPTION:Der Gesprächskreis zwischen Juden und Christen bietet Raum für einen offenen Dialog und gegenseitiges Verständnis. In wechselnden Themenabenden sprechen Referentinnen und Referenten aus jüdischer und christlicher Perspektive über Glaubensfragen\, Geschichte\, Kultur und aktuelle gesellschaftliche Entwicklungen. \n\nEinmal im Monat am 1. Donnerstag (außer in den Ferien/ an Feiertagen) sind Interessierte von 16 – ca\,. 17:30 Uhr herzlich eingeladen\, sich einzubringen\, Fragen zu stellen und im gemeinsamen Gespräch neue Blickwinkel zu entdecken. \n\nOrt: Meist im Gemeindesaal der Kreuzkirche\, Adenauerallee 6\, Bonn (Abweichungen möglich – bitte Ankündigung beachten)Veranstalter: Gesellschaft für Christlich-Jüdische Zusammenarbeit Bonn e.V.Weitere Informationen: www.gcjz-bonn.de · info@gcjz-bonn.de
URL:https://www.evforum-bonn.de/veranstaltung/christlich-juedisches-cafe-25-02/
LOCATION:Gemeindehaus/ -zentrum der Ev. Kreuzkirche\, An der Evangelischen Kirche 6\, Bonn\, NRW\, 53113
CATEGORIES:Bildung & Café,Migration - Kultur - Kultureller Austausch,Philosophisch-psychologische Kaffeehausgespräche,Politik - Geschichte - Soziologie,Theologie / Philosophie,Veranstaltungen von Gemeinden,Veranstaltungen von Institutionen und Verbänden,Veranstaltungsreihen
ATTACH;FMTTYPE=image/jpeg:https://www.evforum-bonn.de/wp-content/uploads/2025/06/Christlich-Juedisches-Cafe-e1750936329504.jpg
ORGANIZER;CN="GCJZ Gesellschaft f%C3%BCr Christlich-J%C3%BCdische Zusammenarbeit Bonn e.V.":MAILTO:info@gcjz-bonn.de
END:VEVENT
BEGIN:VEVENT
DTSTART;TZID=Europe/Berlin:20250206T193000
DTEND;TZID=Europe/Berlin:20250206T210000
DTSTAMP:20260423T152416
CREATED:20250114T113040Z
LAST-MODIFIED:20250114T113205Z
UID:10005156-1738870200-1738875600@www.evforum-bonn.de
SUMMARY:KÖNNEN wir diskutieren?! Drei Lektüretreffen online
DESCRIPTION:Anmeldung Do\, 6. Februar: https://ekir.zoom.us/meeting/register/u5Itf–pqDwtEt1pYxEGocidcURJ_kQ4iod_ \n  \nTeil 1: Lektüretreffen (drei Termine\, kostenfreie Teilnahme)\nIn dem Buch „Wider die Verrohung“ schreibt Ingrid Brodnig über gezielte Zerstörung öffentlicher Debatten und erklärt Strategien\, um auf Emotionalisierung und Desinformation besser antworten zu können. Brodnig formulierte: „Dieses Buch will Rüstzeug geben – zur Abwehr von Spaltungsversuchen und zur Verteidigung fair geführter\, demokratischer Diskussionen.“\nDie Teilnehmenden werden gebeten\, das Buch zu erwerben und für sich zu lesen. Bei den moderierten Treffen werden Auszüge aus dem Buch gemeinsam gelesen\, der Schwerpunkt liegt auf Austausch und Diskussion. Beim Bucherwerb kann es finanzielle Unterstützung geben. \nAngaben zum Buch: Brodnig\, Ingrid: Wider die Verrohung. Brandstätter Verlag\, Wien 2024. 22 Euro. \n  \nEin Buch – drei Termine \n\nDrei Lektüretreffen online : „KÖNNEN wir diskutieren?!“\, Do\, 23. Januar\, 6. Februar\, 20. Februar\, jeweils 19.30 bis 21 Uhr. Moderation Dr. Bettina Förster\, Anmeldung hier.\nDrei Lektüretreffen im Kirchenpavillon am Abend : „KÖNNEN wir diskutieren?!\, Kirchenpavillon Bonn (Kaiserpl. 1a\, 53113 Bonn)\, Di\, 4. Februar\, 11. Februar und 18. Februar\, jeweils 19 bis 20.30 Uhr. Moderation Dr. Anne-Kathrin Quaas\, Anmeldung: Formlose E-Mail an info@stiftung-informationskompetenz. Anmeldung bis 31. Januar 2025.\nDrei Lektüretreffen im Haus der Kirche vormittags : „KÖNNEN wir diskutieren?!“\, Haus der Kirche (Adenauerallee 37\, 53113 Bonn)\, Mi\, 5. Februar\, 12. Februar und 19. Februar\, jeweils 10 bis 11.30 Uhr. Moderation Dr. Susannah Cremer-Bermbach\, Anmeldung: Formlose E-Mail an info@stiftung-informationskompetenz. Anmeldung bis 31. Januar 2025.\n\nInformationen zur Veranstaltungsreihe
URL:https://www.evforum-bonn.de/veranstaltung/koennen-wir-diskutieren-drei-lektueretreffen-online_06-02/
LOCATION:ONLINE via Zoom\, externer Zoom Link\, Germany
CATEGORIES:Aktuelles,Philosophisch-psychologische Kaffeehausgespräche,Veranstaltungsreihen,Wissenschaftsstadt,Zentralprogramm
ATTACH;FMTTYPE=image/jpeg:https://www.evforum-bonn.de/wp-content/uploads/2025/01/widerdieverrohung.jpg
ORGANIZER;CN="Ev. Akademie im Rheinland":MAILTO:info@akademie.ekir.de
END:VEVENT
END:VCALENDAR