BEGIN:VCALENDAR
VERSION:2.0
PRODID:-//Evangelisches Forum Bonn - ECPv6.15.20//NONSGML v1.0//EN
CALSCALE:GREGORIAN
METHOD:PUBLISH
X-WR-CALNAME:Evangelisches Forum Bonn
X-ORIGINAL-URL:https://www.evforum-bonn.de
X-WR-CALDESC:Veranstaltungen für Evangelisches Forum Bonn
REFRESH-INTERVAL;VALUE=DURATION:PT1H
X-Robots-Tag:noindex
X-PUBLISHED-TTL:PT1H
BEGIN:VTIMEZONE
TZID:Europe/Berlin
BEGIN:DAYLIGHT
TZOFFSETFROM:+0100
TZOFFSETTO:+0200
TZNAME:CEST
DTSTART:20240331T010000
END:DAYLIGHT
BEGIN:STANDARD
TZOFFSETFROM:+0200
TZOFFSETTO:+0100
TZNAME:CET
DTSTART:20241027T010000
END:STANDARD
BEGIN:DAYLIGHT
TZOFFSETFROM:+0100
TZOFFSETTO:+0200
TZNAME:CEST
DTSTART:20250330T010000
END:DAYLIGHT
BEGIN:STANDARD
TZOFFSETFROM:+0200
TZOFFSETTO:+0100
TZNAME:CET
DTSTART:20251026T010000
END:STANDARD
BEGIN:DAYLIGHT
TZOFFSETFROM:+0100
TZOFFSETTO:+0200
TZNAME:CEST
DTSTART:20260329T010000
END:DAYLIGHT
BEGIN:STANDARD
TZOFFSETFROM:+0200
TZOFFSETTO:+0100
TZNAME:CET
DTSTART:20261025T010000
END:STANDARD
END:VTIMEZONE
BEGIN:VEVENT
DTSTART;TZID=Europe/Berlin:20250212T100000
DTEND;TZID=Europe/Berlin:20250212T113000
DTSTAMP:20260423T151514
CREATED:20250114T115733Z
LAST-MODIFIED:20250114T115824Z
UID:10005162-1739354400-1739359800@www.evforum-bonn.de
SUMMARY:KÖNNEN wir diskutieren?! Drei Lektüretreffen im Haus der Kirche
DESCRIPTION:12.02.2025 – Anmeldung formlos per Mail an info@stiftung-informationskompetenz \n  \nTeil 1: Lektüretreffen (drei Termine\, kostenfreie Teilnahme)\nIn dem Buch „Wider die Verrohung“ schreibt Ingrid Brodnig über gezielte Zerstörung öffentlicher Debatten und erklärt Strategien\, um auf Emotionalisierung und Desinformation besser antworten zu können. Brodnig formulierte: „Dieses Buch will Rüstzeug geben – zur Abwehr von Spaltungsversuchen und zur Verteidigung fair geführter\, demokratischer Diskussionen.“\nDie Teilnehmenden werden gebeten\, das Buch zu erwerben und für sich zu lesen. Bei den moderierten Treffen werden Auszüge aus dem Buch gemeinsam gelesen\, der Schwerpunkt liegt auf Austausch und Diskussion. Beim Bucherwerb kann es finanzielle Unterstützung geben. \nAngaben zum Buch: Brodnig\, Ingrid: Wider die Verrohung. Brandstätter Verlag\, Wien 2024. 22 Euro. \n  \nEin Buch – drei Termine \n\nDrei Lektüretreffen online : „KÖNNEN wir diskutieren?!“\, Do\, 23. Januar\, 6. Februar\, 20. Februar\, jeweils 19.30 bis 21 Uhr. Moderation Dr. Bettina Förster\, Anmeldung hier.\nDrei Lektüretreffen im Kirchenpavillon am Abend : „KÖNNEN wir diskutieren?!\, Kirchenpavillon Bonn (Kaiserpl. 1a\, 53113 Bonn)\, Di\, 4. Februar\, 11. Februar und 18. Februar\, jeweils 19 bis 20.30 Uhr. Moderation Dr. Anne-Kathrin Quaas\, Anmeldung: Formlose E-Mail an info@stiftung-informationskompetenz. Anmeldung bis 31. Januar 2025.\nDrei Lektüretreffen im Haus der Kirche vormittags : „KÖNNEN wir diskutieren?!“\, Haus der Kirche (Adenauerallee 37\, 53113 Bonn)\, Mi\, 5. Februar\, 12. Februar und 19. Februar\, jeweils 10 bis 11.30 Uhr. Moderation Dr. Susannah Cremer-Bermbach\, Anmeldung: Formlose E-Mail an info@stiftung-informationskompetenz. Anmeldung bis 31. Januar 2025.\n\nInformationen zur Veranstaltungsreihe
URL:https://www.evforum-bonn.de/veranstaltung/koennen-wir-diskutieren-drei-lektueretreffen-hdk12-02/
LOCATION:Haus der Ev. Kirche Bonn\, Adenauerallee 37\, Bonn\, NRW\, 53113\, Germany
CATEGORIES:Aktuelles,Haus der Ev. Kirche Bonn,Philosophisch-psychologische Kaffeehausgespräche,Veranstaltungsreihen,Wissenschaftsstadt,Zentralprogramm
ATTACH;FMTTYPE=image/jpeg:https://www.evforum-bonn.de/wp-content/uploads/2025/01/widerdieverrohung.jpg
ORGANIZER;CN="Ev. Akademie im Rheinland":MAILTO:info@akademie.ekir.de
END:VEVENT
BEGIN:VEVENT
DTSTART;TZID=Europe/Berlin:20250212T150000
DTEND;TZID=Europe/Berlin:20250212T163000
DTSTAMP:20260423T151514
CREATED:20250707T082442Z
LAST-MODIFIED:20260202T111338Z
UID:10006002-1739372400-1739377800@www.evforum-bonn.de
SUMMARY:Seniorentreff Oedekoven
DESCRIPTION:Der Seniorenkreis in Oedekoven bietet einmal im Monat Gelegenheit zum Austausch\, gemeinsamen Erleben und Nachdenken. Nach einer gemütlichen Kaffeerunde mit selbstgebackenem Kuchen folgt jeweils ein thematisch gestalteter Teil: Das Programm reicht von Bibelarbeiten mit dem Pfarrer über Lichtbildvorträge und Referate zu wechselnden Themen bis hin zu musikalischen oder geselligen Angeboten. \nBesondere Höhepunkte sind Ausflüge in die Umgebung und die festliche Adventsfeier. Auch jüngere Senior*innen sind herzlich willkommen – ebenso wie Menschen\, die sich ehrenamtlich engagieren möchten. \n📅 Treffen: jeweils am 2. Mittwoch im Monat\, 15:00 Uhr👤 Kontakt: Rosemarie Backhaus\, Tel. 01577-4577824
URL:https://www.evforum-bonn.de/veranstaltung/seniorentreff-oedekoven/2025-02-12/
LOCATION:Gemeindezentrum der Kirchengemeinde am Kottenforst\, Herzogsfreudenweg 42\, Bonn\, 53125\, Deutschland
CATEGORIES:Altern und Alter,Angebote für Senioren,Lesung - Vortrag,Philosophisch-psychologische Kaffeehausgespräche,Seniorenbildung,Seniorenkreis -nachmittag,Thematische Schwerpunkte,Veranstaltungen von Gemeinden,Veranstaltungsreihen
ATTACH;FMTTYPE=image/jpeg:https://www.evforum-bonn.de/wp-content/uploads/2022/12/Senior-e1751876645808.jpg
END:VEVENT
BEGIN:VEVENT
DTSTART;TZID=Europe/Berlin:20250212T150000
DTEND;TZID=Europe/Berlin:20250212T170000
DTSTAMP:20260423T151514
CREATED:20250130T104435Z
LAST-MODIFIED:20250203T114822Z
UID:10005298-1739372400-1739379600@www.evforum-bonn.de
SUMMARY:Kulturnachmittag in Trinitatis
DESCRIPTION:12.02.2025 – Ev Trinitatiskirche Bonn\nAller guten Dinge sind elf \nElf Artikel kennt et kölsche Jrundjesetz. Sie sind gut für einen entspannten\, humorvollen Lebensalltag. Manche zählen als 12. Artikel noch hinzu\, dass jede Jeck anders es. Wie dem auch sei\, wir wollen Spaß haben mit den rheinischen Redensarten und laden herzlich zum karnevalistischen Kulturnachmittag ein. Prinz Oliver I. und Bonna Meike I. haben ihren Besuch zugesagt.\nTrini Alaaf! \n\nAnsprechpartner\n\nPfarrer Uwe Grieser u.grieser@trinitatiskirche-bonn.de\nTel. 0228-9784021\nFax 0228-9784022
URL:https://www.evforum-bonn.de/veranstaltung/kulturnachmittag-in-trinitatis/
LOCATION:Gemeindehaus der Trinitatiskirchengemeinde\, Brahmsstraße 14\, Bonn\, NRW\, 53121\, Germany
CATEGORIES:Aktuelles,Veranstaltungen von Gemeinden
ATTACH;FMTTYPE=image/webp:https://www.evforum-bonn.de/wp-content/uploads/2025/01/kirche-und-karneval.webp
END:VEVENT
BEGIN:VEVENT
DTSTART;TZID=Europe/Berlin:20250212T153000
DTEND;TZID=Europe/Berlin:20250212T173000
DTSTAMP:20260423T151514
CREATED:20250707T074754Z
LAST-MODIFIED:20250707T080023Z
UID:10005980-1739374200-1739381400@www.evforum-bonn.de
SUMMARY:Frauenkreis in Röttgen
DESCRIPTION:Der Frauenkreis in Röttgen ist offen für alle kulturell Interessierten – unabhängig von Alter\, Konfession oder Herkunft. Jeden zweiten Mittwoch im Monat lädt Dorothea Kropff zu einem thematisch gestalteten Nachmittag in die Thomaskirche ein. \nOb philosophische Fragen\, biografische Porträts\, Reiseberichte oder Ausstellungsbesuche – jedes Treffen widmet sich einem neuen Schwerpunkt. Eingebettet in eine Atmosphäre des Austauschs\, ergänzt durch passende Texte\, Bibelstellen und gemeinsames Singen\, entstehen lebendige Gespräche und neue Perspektiven. \nDie Treffen finden von 15:30 bis 17:30 Uhr statt\, bei Tee\, Kaffee und Gebäck. Neue Teilnehmende sind herzlich willkommen.📍 Ort: Thomaskirche\, Bonn-Röttgen \nWeitere Informationen: Dorothea Kropff\, Tel. 25 25 48📅 Nächste Termine jeweils am 2. Mittwoch im Monat
URL:https://www.evforum-bonn.de/veranstaltung/frauenkreis-in-roettgen-1-hj25/2025-02-12/
LOCATION:Ev. Thomaskirche Röttgen\, Herzogsfreudenweg 42\, Bonn Röttgen\, NRW\, 53125\, Germany
CATEGORIES:Altern und Alter,Existenzielle Fragestellungen,Kunst - Musik - Literatur,Lesung - Vortrag,Philosophisch-psychologische Kaffeehausgespräche,Theologie / Philosophie,Veranstaltungen von Gemeinden,Veranstaltungsreihen,Weiterbildung allgemein
ATTACH;FMTTYPE=image/jpeg:https://www.evforum-bonn.de/wp-content/uploads/2025/07/Frauen_Pixabay-Free_StockSnap-e1751874682102.jpg
END:VEVENT
BEGIN:VEVENT
DTSTART;TZID=Europe/Berlin:20250212T180000
DTEND;TZID=Europe/Berlin:20250212T200000
DTSTAMP:20260423T151514
CREATED:20250123T150032Z
LAST-MODIFIED:20250123T150059Z
UID:10005253-1739383200-1739390400@www.evforum-bonn.de
SUMMARY:Einladung des Rates der Religionen Bonn zur Vorstellung des geplanten Projektes „Garten der Religionen“
DESCRIPTION:Der Bonner Rat der Religionen hat die Vision eines „Gartens der Religionen“ mitten in unserer Stadt: ein Ort der Begegnung\, der Kommunikation\, des Kennenlernens und des Respekts vor allen Religions- und Weltanschauungsgruppen unserer vielfältigen Stadtgesellschaft. \nZur Entwicklung dieses „Gartens“ suchen wir Menschen\, die Lust haben\, ihre Gedanken und Ideen einzubringen und diese zunächst einmalig und für einige Wochen im Sommer dieses Jahres umzusetzen. \nWir erhoffen uns einen lebendigen Dialog\, bei dem wir gemeinsam ein Projekt für eine friedliche Stadtgesellschaft entwickeln und uns dabei besser kennenlernen. \nDas Thema Natur\, Garten\, Schöpfung und Zukunft unseres wunderbaren Planeten kann uns in unserer Verschiedenartigkeit des Glaubens und der Weltanschauung einen und zusammenführen. \nWir laden herzlich zu einem ersten Zusammenkommen ein\, bei dem wir vonseiten des Rates der Religionen unsere Idee eines „Gartens der Religionen“ vorstellen wollen\, um dann mit allen Interessierten in einen produktiven und spannenden Austausch zu kommen. \n  \nWann: Mittwoch\, 12. Februar\, 18 bis 20 Uhr \nWo: Gangolfsaal\, Gangolfstr. 14 \nAnmeldung per Mail bis zum 10. Februar erbeten an: integrationundvielfalt@bonn.de. \n 
URL:https://www.evforum-bonn.de/veranstaltung/einladung-des-rates-der-religionen-bonn-zur-vorstellung-des-geplanten-projektes-garten-der-religionen/
LOCATION:Gangolfsaal am Bonner Münster\, Zugang über Café LaRoc\, Gangolfstraße 14\, Bonn\, NRW\, 53113\, Germany
CATEGORIES:Aktuelles,Veranstaltungen von Institutionen und Verbänden
ATTACH;FMTTYPE=image/png:https://www.evforum-bonn.de/wp-content/uploads/2025/01/Rat-der-Religionen.png
ORGANIZER;CN="Amt f%C3%BCr Integration und Vielfalt der Bundesstadt Bonn":MAILTO:integrationundvielfalt@bonn.de
END:VEVENT
BEGIN:VEVENT
DTSTART;TZID=Europe/Berlin:20250212T180000
DTEND;TZID=Europe/Berlin:20250212T210000
DTSTAMP:20260423T151514
CREATED:20250106T135731Z
LAST-MODIFIED:20250110T174052Z
UID:10005071-1739383200-1739394000@www.evforum-bonn.de
SUMMARY:Prävention - Basisschulung (3h) Online
DESCRIPTION:Fortbildungen zur Prävention von sexualisierter Gewalt \n \nDie Evangelische Kirche in Bonn lebt durch die lebendigen Beziehungen der Menschen miteinander und mit Gott. \nIn der Arbeit mit Kindern\, Jugendlichen und Erwachsenen entsteht eine persönliche Nähe und Gemeinschaft\, die von Vertrauen geprägt ist.\nUm sicher aufwachsen und leben zu können benötigen Kinder und Jugendliche Ansprechpartner*innen\, denen sie vertrauen können und die ihnen Zuwendung und Geborgenheit schenken. Sie brauchen Menschen\, die sie stark machen\, sie unterstützen\, Schutz und Sicherheit bieten und auf sie Acht geben. \nDas Evangelische Forum Bonn bietet Präventionsfortbildungen zum Thema sexualisierter Gewalt für ehrenamtliche Mitarbeiter*innen an. \nBitte sprechen Sie mit Ihrer Kirchengemeinde bzw. Organisation\, für die Sie ehrenamtlich arbeiten\, ab\, welche Fortbildung für Sie geeignet ist. \n Die Kursgebühren werden in der Regel von den entsprechenden Kirchengemeinden bzw. Organisationen übernommen. \nWenn Sie Fragen haben\, melden Sie sich bitte unter: info@evforum-bonn.de oder 0228 6880 320 \nEine Übersicht aller angebotenen Schulungstermine finden Sie auch hier: https://www.evforum-bonn.de/start/praeventionsschulungen/ \n  \nReferentin: Frau Merle Wieschhoff – www.merle-wieschhoff.de
URL:https://www.evforum-bonn.de/veranstaltung/praeventionsschulung_basis_online_12-02-2025/
LOCATION:ONLINE via Zoom\, externer Zoom Link\, Germany
CATEGORIES:Fort- und Weiterbildung,Präventionsschulung,Veranstaltungsreihen
ATTACH;FMTTYPE=image/jpeg:https://www.evforum-bonn.de/wp-content/uploads/2025/01/achtgeben_starkmachen-1.jpg
ORGANIZER;CN="Evangelisches Forum Bonn":MAILTO:info@evforum-bonn.de
END:VEVENT
BEGIN:VEVENT
DTSTART;TZID=Europe/Berlin:20250212T190000
DTEND;TZID=Europe/Berlin:20250212T211500
DTSTAMP:20260423T151514
CREATED:20241030T091842Z
LAST-MODIFIED:20260209T092824Z
UID:10005046-1739386800-1739394900@www.evforum-bonn.de
SUMMARY:Die Hamas – Herrschaft über Gaza\, Krieg gegen Israel - Vortrag und Diskussion
DESCRIPTION:Dr. Joseph Croitoru\, Historiker\, Journalist und Buchautor\, schreibt für die deutschsprachige Presse und den Rundfunk seit vielen Jahren u.a. über den Nahostkonflikt\, jüdische und islamische Geschichte sowie religiösen Fundamentalismus.  \nEr ist ein ausgewiesener Nahost-Experte\, der die Hamas und Gaza seit vielen Jahren beobachtet und mit dieser aktuellen Publikation zum besseren Verständnis des anhaltenden Krieges Israels in Gaza beiträgt.  \nWelche Ideologie und welche Unterstützer stecken hinter der Hamas? Joseph Croitoru beschreibt die Geschichte der „Islamischen Widerstandsbewegung“\, die 1987 aus der Muslimbruderschaft hervorgegangen ist und am 25. Januar 2006 die Wahlen in Gaza gewann. Er erläutert die unterschiedlichen Gesichter der Hamas als Wohltätigkeitsorganisation\, Regierungspartei und Terrorgruppe und zeigt\, wie die palästinensische Bevölkerung letztlich in die Arme der Hamas getrieben wird. Israel kann mit seinem schon monatelang anhaltenden massiven Vernichtungskrieg die Herrschaft der Hamas über Gaza beenden\, doch es bleibt fraglich\, ob das auch das Ende der Hamas sein wird.  \nhttps://eu01web.zoom.us/j/2286880321?pwd=U8j9FbjREm4RUO9L1UwEK07IPleEJf.1&omn=67029401846 \nMeeting-ID: 228 688 0321 \nKenncode: 595797
URL:https://www.evforum-bonn.de/veranstaltung/die-hamas-herrschaft-ueber-gaza-krieg-gegen-israel-vortrag-und-diskussion/
LOCATION:ONLINE via Zoom\, externer Zoom Link\, Germany
CATEGORIES:Aktuelles,Politik - Geschichte - Soziologie,Zentralprogramm
ORGANIZER;CN="Evangelisches Forum Bonn":MAILTO:info@evforum-bonn.de
END:VEVENT
BEGIN:VEVENT
DTSTART;TZID=Europe/Berlin:20250212T193000
DTEND;TZID=Europe/Berlin:20250212T210000
DTSTAMP:20260423T151514
CREATED:20250116T095623Z
LAST-MODIFIED:20250116T101019Z
UID:10005181-1739388600-1739394000@www.evforum-bonn.de
SUMMARY:Matthäikreis
DESCRIPTION:Offener Gesprächsabend\, jeden 2. Mittwoch im Monat\, Vorträge zu verschiedenen Themen\, Gelegenheit zu Begegnung und Austausch. \nAnsprechpartner: Hildegard Berndt – Tel. 0228 62 41 33 \n  \n  \n 
URL:https://www.evforum-bonn.de/veranstaltung/mathhaeikreis-2025/
LOCATION:Matthäikirche\, Gutenbergstr. 10\, Bonn\, 53123\, Germany
CATEGORIES:Veranstaltungen von Gemeinden
ATTACH;FMTTYPE=image/jpeg:https://www.evforum-bonn.de/wp-content/uploads/2025/01/gespraech-haende-tisch.jpg
ORGANIZER;CN="Ev. Kirchengemeinde im Bonner Westen (Hardtberg)":MAILTO:hardtberg@ekir.de
END:VEVENT
BEGIN:VEVENT
DTSTART;TZID=Europe/Berlin:20250212T200000
DTEND;TZID=Europe/Berlin:20250212T210000
DTSTAMP:20260423T151514
CREATED:20250407T111453Z
LAST-MODIFIED:20250407T111559Z
UID:10005598-1739390400-1739394000@www.evforum-bonn.de
SUMMARY:Religiöse Kindererziehung
DESCRIPTION:Impulse zur religiösen Kindererziehung – jeden Mittwoch (außer Ferien ab 20 Uhr in der Friedenskirche \nJeden Mittwochabend (außer in den Ferien) lädt Pastorin Annette Ziegler von 20–21 Uhr in die Friedenskirche Bonn-Kessenich ein\, um zentrale Fragen der religiösen Kindererziehung zu beleuchten. Begleitend durch ausgewählte Literatur und ergänzt durch Vorträge externer Fachleute bietet die Reihe praxisnahe Impulse und Raum für Austausch. \nWeitere Informationen: Tel. 0228 23 83 71 | E-Mail: buero@friedenskirche-bonn.de \n 
URL:https://www.evforum-bonn.de/veranstaltung/religioese-kindererziehung/2025-02-12/
LOCATION:Friedenskirche\, Franz-Bücheler-Str. 10\, Bonn\, 53129 \, Deutschland
CATEGORIES:Existenzielle Fragestellungen,Lesung - Vortrag,Pädagogische Bildung,Veranstaltungen von Gemeinden,Veranstaltungsreihen,Weiterbildung allgemein
ATTACH;FMTTYPE=image/png:https://www.evforum-bonn.de/wp-content/uploads/2025/04/Religioese-Kindererziehung-e1744024216838.png
END:VEVENT
BEGIN:VEVENT
DTSTART;TZID=Europe/Berlin:20250212T200000
DTEND;TZID=Europe/Berlin:20250212T210000
DTSTAMP:20260423T151514
CREATED:20250407T111957Z
LAST-MODIFIED:20250407T111958Z
UID:10005636-1739390400-1739394000@www.evforum-bonn.de
SUMMARY:Religiöse Kindererziehung
DESCRIPTION:Impulse zur religiösen Kindererziehung – jeden Mittwoch (außer Ferien ab 20 Uhr in der Friedenskirche \nJeden Mittwochabend (außer in den Ferien) lädt Pastorin Annette Ziegler von 20–21 Uhr in die Friedenskirche Bonn-Kessenich ein\, um zentrale Fragen der religiösen Kindererziehung zu beleuchten. Begleitend durch ausgewählte Literatur und ergänzt durch Vorträge externer Fachleute bietet die Reihe praxisnahe Impulse und Raum für Austausch. \nWeitere Informationen: Tel. 0228 23 83 71 | E-Mail: buero@friedenskirche-bonn.de \n 
URL:https://www.evforum-bonn.de/veranstaltung/religioese-kindererziehung-2/2025-02-12/
LOCATION:Friedenskirche\, Franz-Bücheler-Str. 10\, Bonn\, 53129 \, Deutschland
CATEGORIES:Existenzielle Fragestellungen,Lesung - Vortrag,Pädagogische Bildung,Veranstaltungen von Gemeinden,Veranstaltungsreihen,Weiterbildung allgemein
ATTACH;FMTTYPE=image/png:https://www.evforum-bonn.de/wp-content/uploads/2025/04/Religioese-Kindererziehung-e1744024216838.png
END:VEVENT
END:VCALENDAR