BEGIN:VCALENDAR
VERSION:2.0
PRODID:-//Evangelisches Forum Bonn - ECPv6.15.20//NONSGML v1.0//EN
CALSCALE:GREGORIAN
METHOD:PUBLISH
X-ORIGINAL-URL:https://www.evforum-bonn.de
X-WR-CALDESC:Veranstaltungen für Evangelisches Forum Bonn
REFRESH-INTERVAL;VALUE=DURATION:PT1H
X-Robots-Tag:noindex
X-PUBLISHED-TTL:PT1H
BEGIN:VTIMEZONE
TZID:Europe/Berlin
BEGIN:DAYLIGHT
TZOFFSETFROM:+0100
TZOFFSETTO:+0200
TZNAME:CEST
DTSTART:20240331T010000
END:DAYLIGHT
BEGIN:STANDARD
TZOFFSETFROM:+0200
TZOFFSETTO:+0100
TZNAME:CET
DTSTART:20241027T010000
END:STANDARD
BEGIN:DAYLIGHT
TZOFFSETFROM:+0100
TZOFFSETTO:+0200
TZNAME:CEST
DTSTART:20250330T010000
END:DAYLIGHT
BEGIN:STANDARD
TZOFFSETFROM:+0200
TZOFFSETTO:+0100
TZNAME:CET
DTSTART:20251026T010000
END:STANDARD
BEGIN:DAYLIGHT
TZOFFSETFROM:+0100
TZOFFSETTO:+0200
TZNAME:CEST
DTSTART:20260329T010000
END:DAYLIGHT
BEGIN:STANDARD
TZOFFSETFROM:+0200
TZOFFSETTO:+0100
TZNAME:CET
DTSTART:20261025T010000
END:STANDARD
END:VTIMEZONE
BEGIN:VEVENT
DTSTART;TZID=Europe/Berlin:20250223T110000
DTEND;TZID=Europe/Berlin:20250223T130000
DTSTAMP:20260423T151713
CREATED:20250124T093447Z
LAST-MODIFIED:20250124T094422Z
UID:10005259-1740308400-1740315600@www.evforum-bonn.de
SUMMARY:Literaturcafé
DESCRIPTION:Das Literaturcafé\nLiteraturinteressierte treffen sich alle zwei Monate\, jeweils am 4. Sonntag im geraden Monat\, um 11 Uhr in der Turmstube des Lukaszentrums\, Kaiser-Karl-Ring 25a. Die Teilnehmer schlagen Bücher vor\, die sie gerne lesen würden und über die wir dann sprechen. Alle Literaturinteressierten sind herzlich eingeladen. \nMehr Information: Regina Milchert\, Email: regina.milchert@gmx.de
URL:https://www.evforum-bonn.de/veranstaltung/literaturcafe2025/
LOCATION:Gemeindesaal im Lukaszentrum\, Kaiser-Karl-Ring 25a\, Bonn\, NRW\, 53111\, Germany
CATEGORIES:Veranstaltungen von Gemeinden
ATTACH;FMTTYPE=image/jpeg:https://www.evforum-bonn.de/wp-content/uploads/2025/01/Lesung.jpg
END:VEVENT
BEGIN:VEVENT
DTSTART;TZID=Europe/Berlin:20250223T113000
DTEND;TZID=Europe/Berlin:20250223T140000
DTSTAMP:20260423T151713
CREATED:20250214T115042Z
LAST-MODIFIED:20250214T115630Z
UID:10005509-1740310200-1740319200@www.evforum-bonn.de
SUMMARY:KULTÜRCAFE für ALLE: LitArt Rheinschiene Forum für Begegnungen in Vielfalt
DESCRIPTION:Willkommen im KULTÜRCAFÉ! Ein offener Ort für alle\, unabhängig von Migrations- oder Fluchterfahrung und Behinderung. Genießen Sie Kaffee\, Tee\, Gespräche und kreative Aktivitäten! \n\nWann: Sonntag\, 23. Februar\, 11.30 bis 14 Uhr im Haus MIGRApolis 2. OG (der Veranstaltungsraum ist barrierearm)\nSpecial ab 13 Uhr: BODY PERCUSSION Workshop – Erleben Sie\, wie Ihr Körper zum Instrument wird – ganz ohne Vorkenntnisse! \n  \nProjekt „Anders sehen – inklusiv gestalten. Begegnung und Kultur in Vielfalt“ der Evangelische Migrations- und Flüchtlingsarbeit Bonn (EMFA) / Integrationsagentur \nLeitung: Iman Aghajanloo \nSprachen: Farsi\, Englisch\, Deutsch \nTeilnahme: kostenlos & voller Rhythmus! \nWir bitten um Anmeldung unter: projektanderssehen@ekir.de \n \nwww.anderssehen-bonn.de \nProjektleiterin: Gergana Ghanbarian-Baleva (gergana.ghanabrian-baleva@ekir.de)
URL:https://www.evforum-bonn.de/veranstaltung/kultuercafe-fuer-alle-2025-02/
LOCATION:Migrapolis- Haus der Vielfalt\, Brüdergasse 16–18\, Bonn\, 53111\, Deutschland
CATEGORIES:Migration - Kultur - Kultureller Austausch,Veranstaltungen von Gemeinden,Veranstaltungen von Institutionen und Verbänden
ATTACH;FMTTYPE=image/jpeg:https://www.evforum-bonn.de/wp-content/uploads/2025/02/kultuer_percussion-e1739534093747.jpg
END:VEVENT
BEGIN:VEVENT
DTSTART;TZID=Europe/Berlin:20250223T113000
DTEND;TZID=Europe/Berlin:20250223T140000
DTSTAMP:20260423T151713
CREATED:20250228T101235Z
LAST-MODIFIED:20250228T102240Z
UID:10005525-1740310200-1740319200@www.evforum-bonn.de
SUMMARY:KULTÜRCAFE für ALLE: LitArt Rheinschiene Forum für Begegnungen in Vielfalt
DESCRIPTION:Willkommen im KULTÜRCAFÉ! Ein offener Ort für alle\, unabhängig von Migrations- oder Fluchterfahrung und Behinderung. Genießen Sie Kaffee\, Tee\, Gespräche und kreative Aktivitäten! \n\nWann: Sonntag\, 23. März\, 11.30 bis 14 Uhr im Haus MIGRApolis 2. OG (der Veranstaltungsraum ist barrierearm)\n\nRassismus bzw. Diskriminierung zeigt sich in vielen Formen: Sie betrifft Menschen mit Migrationsgeschichte\, Ältere\, Menschen mit Behinderungen oder erfolgt aufgrund des Geschlechts. Häufig erfahren Menschen Mehrfachdiskriminierung durch das Zusammenwirken verschiedener Diskriminierungsformen\, beispielsweise im Kontext von Behinderung und Migration bzw. Rassismus. \nDiese Veranstaltung hat das Ziel\, ein Bewusstsein für die Ursachen und Wirkungen von Diskriminierung zu schaffen und insbesondere Strategien für deren Abbau und Vermeidung zu entwickeln. Wir wollen gemeinsam erarbeiten\, wie wir in unterschiedlichen gesellschaftlichen Bereichen Diskriminierung reduzieren und Barrieren abbauen können\, um allen Menschen eine gleichberechtigte Teilhabe zu ermöglichen. \nAblauf der Veranstaltung: \n\n Begrüßung & Einführung (10 Min.)\n\n\nVorstellung der Veranstaltung und ihrer Zielsetzung\nEinführung in die Thematik durch die Moderation\n\n\n Fachimpuls: „Diskriminierung – Formen\, Dimensionen und Gegenstrategien“ (30 Min.)\n\n\nVortrag von J. Michael Fischell (Dipl. Sozialwissenschaftler) mit Grundlagen zu Diskriminierung\, deren strukturellen Ursachen und möglichen Lösungsansätzen\n\n\n Interaktives Gespräch & Erfahrungsaustausch (20 Min.)\n\n\nReflexion über eigene Erfahrungen und Wahrnehmungen\nIdentifikation von Barrieren und Diskriminierungsmechanismen in verschiedenen gesellschaftlichen Bereichen\nDiskussion über Veränderungsstrategien und erfolgreiche Ansätze zur Bekämpfung von Diskriminierung\n\n\n Abschlussdiskussion & Fazit (je nach Beteiligung der Teilnehmenden)\n\n\nZusammenfassung der wichtigsten Erkenntnisse\nSammlung von Ideen für nachhaltige Maßnahmen und weiterführende Kooperationen\nOffene Fragerunde\n\nZielgruppe:\nDie Veranstaltung richtet sich an alle interessierten Personen\, insbesondere an Multiplikator*innen aus sozialen\, pädagogischen und politischen Bereichen\, Ehrenamtliche sowie von Diskriminierung betroffene Menschen. \nMethoden: \n\nFachvortrag mit Diskussionsrunde\nErfahrungsaustausch und moderierter Dialog\n\nErwartete Ergebnisse: \n\nSensibilisierung für die Vielschichtigkeit von Rassismus bzw. Diskriminierung\nEntwicklung konkreter Strategien zur Reduzierung von Diskriminierung und Barrieren\nStärkung der interdisziplinären Zusammenarbeit und Vernetzung von Akteur*innen\n\nHinweise zur Barrierefreiheit:\nDie Veranstaltung findet in einem barrierearmen Raum statt. Falls individuelle Bedarfe bestehen (z. B. Gebärdendolmetschung\, barrierefreie Materialien\, Sprachmittlerìnnen)\, bitten wir um eine frühzeitige Mitteilung. \nAnmeldung & Kontakt:\nMobil: 0157 50458917 | E-Mail: projektanderssehen@ekir.de \n \nwww.anderssehen-bonn.de \nProjektleiterin: Gergana Ghanbarian-Baleva (gergana.ghanabrian-baleva@ekir.de)
URL:https://www.evforum-bonn.de/veranstaltung/kultuercafe-fuer-alle-2025-23-03/
LOCATION:Migrapolis- Haus der Vielfalt\, Brüdergasse 16–18\, Bonn\, 53111\, Deutschland
CATEGORIES:Migration - Kultur - Kultureller Austausch,Veranstaltungen von Gemeinden,Veranstaltungen von Institutionen und Verbänden,Veranstaltungsreihen
ATTACH;FMTTYPE=image/jpeg:https://www.evforum-bonn.de/wp-content/uploads/2025/02/inclusion-3976157_1280-e1740738122256.jpg
END:VEVENT
END:VCALENDAR