BEGIN:VCALENDAR
VERSION:2.0
PRODID:-//Evangelisches Forum Bonn - ECPv6.15.20//NONSGML v1.0//EN
CALSCALE:GREGORIAN
METHOD:PUBLISH
X-WR-CALNAME:Evangelisches Forum Bonn
X-ORIGINAL-URL:https://www.evforum-bonn.de
X-WR-CALDESC:Veranstaltungen für Evangelisches Forum Bonn
REFRESH-INTERVAL;VALUE=DURATION:PT1H
X-Robots-Tag:noindex
X-PUBLISHED-TTL:PT1H
BEGIN:VTIMEZONE
TZID:Europe/Berlin
BEGIN:DAYLIGHT
TZOFFSETFROM:+0100
TZOFFSETTO:+0200
TZNAME:CEST
DTSTART:20240331T010000
END:DAYLIGHT
BEGIN:STANDARD
TZOFFSETFROM:+0200
TZOFFSETTO:+0100
TZNAME:CET
DTSTART:20241027T010000
END:STANDARD
BEGIN:DAYLIGHT
TZOFFSETFROM:+0100
TZOFFSETTO:+0200
TZNAME:CEST
DTSTART:20250330T010000
END:DAYLIGHT
BEGIN:STANDARD
TZOFFSETFROM:+0200
TZOFFSETTO:+0100
TZNAME:CET
DTSTART:20251026T010000
END:STANDARD
BEGIN:DAYLIGHT
TZOFFSETFROM:+0100
TZOFFSETTO:+0200
TZNAME:CEST
DTSTART:20260329T010000
END:DAYLIGHT
BEGIN:STANDARD
TZOFFSETFROM:+0200
TZOFFSETTO:+0100
TZNAME:CET
DTSTART:20261025T010000
END:STANDARD
END:VTIMEZONE
BEGIN:VEVENT
DTSTART;TZID=Europe/Berlin:20250224T100000
DTEND;TZID=Europe/Berlin:20250224T130000
DTSTAMP:20260423T151519
CREATED:20250703T124105Z
LAST-MODIFIED:20250703T124105Z
UID:10005934-1740391200-1740402000@www.evforum-bonn.de
SUMMARY:Mal- und Zeichenkurs Hardtberg
DESCRIPTION:Der fortlaufende Mal- und Zeichenkurs unter der Leitung von Gerhild Bergknecht bietet Raum für künstlerisches Gestalten\, experimentelles Arbeiten und den Austausch über Kunst und Bildsprache. \nIn entspannter Atmosphäre erlernen und vertiefen die Teilnehmenden Techniken des Zeichnens und Malens – von Grundlagen wie Komposition\, Perspektive und Farbwirkung bis hin zu freien Ausdrucksformen. Der Kurs richtet sich an Interessierte mit und ohne Vorkenntnisse. \nDie eigene Kreativität steht im Mittelpunkt – verbunden mit der Möglichkeit\, unter fachkundiger Anleitung den eigenen Blick zu schärfen und neue Impulse aufzunehmen. \n📅 Jeden Montag (außer in den Ferien) | 10:00–13:00 Uhr📍 Matthäikirche\, Gutenbergstraße 10\, 53123 Bonn🖌️ Leitung: Gerhild Bergknecht
URL:https://www.evforum-bonn.de/veranstaltung/mal-und-zeichenkurs-hardtberg_2025-1/2025-02-24/
LOCATION:Matthäikirche\, Gutenbergstr. 10\, Bonn\, 53123\, Germany
CATEGORIES:Ausstellung - Kunst - Kultur,Kunst - Musik - Literatur,Lehrgang | Kurs,Veranstaltungen von Gemeinden,Veranstaltungsreihen
ATTACH;FMTTYPE=image/jpeg:https://www.evforum-bonn.de/wp-content/uploads/2025/02/schenk-mir-deine-farbe-e1739531762592.jpg
ORGANIZER;CN="Ev. Kirchengemeinde im Bonner Westen (Hardtberg)":MAILTO:hardtberg@ekir.de
END:VEVENT
BEGIN:VEVENT
DTSTART;TZID=Europe/Berlin:20250224T140000
DTEND;TZID=Europe/Berlin:20250224T160000
DTSTAMP:20260423T151519
CREATED:20250204T110522Z
LAST-MODIFIED:20250204T110547Z
UID:10005335-1740405600-1740412800@www.evforum-bonn.de
SUMMARY:Offenes Konversationscafé
DESCRIPTION:Wir freuen uns auf Ihren Besuch: jeden Montag von 14.00 – 16.00 Uhr im MIGRApolis-Haus der Vielfalt\nSeit 2014 bietet die EMFA (Evangelische Migrations und Flüchtlingsarbeit Bonn – Integrationsagentur) ein Konversations-Café für Zuwander*innen unterschiedlicher Nationalitäten an. \nHier gibt es Gelegenheit\, einfache Gespräche zu führen und neue Kontakte zu knüpfen. Je nach Bedarf der Besucher*innen werden Sprachanlässe vorbereitet\, die oft einen aktuellen Anlass haben. Die letzten Themen waren: Ausbildungen im Pflegebereich für Migranten und Geflüchtete – verschiedene Anbieter stellen sich vor; Klimawandel und Umweltschutz – was jeder tun kann; Erfolgsgeschichten: Geflüchtete berichten von Ausbildung und Schule – Biographie-Ausstellung; Corona (immer wieder) – Ansteckungen\, AHA-Regeln und deshalb: veränderte Bedingungen im Café; Vorstellung des Projektes: Familien fit machen für Kitas und Schulen im Rahmen der Interkulturellen Woche; Herbst: Grippe und Corona – Unterschiede\, Gemeinsamkeiten und wie kann ich mich schützen? \nKleine Texte laden zum Austausch ein und erweitern den Wortschatz. Ehrenamtliche Helfer*innen und Frau Hussain\, die wunderbar Deutsch spricht\, helfen bei Verständnisschwierigkeiten. \nLeiterin: Barbara Schlüter (schlueter@bimev.de) Offenes Konversationscafé – Willkommen bei der EMFA
URL:https://www.evforum-bonn.de/veranstaltung/offenes-konversationscafe-2-copy-copy-copy-copy/
LOCATION:Migrapolis- Haus der Vielfalt\, Brüdergasse 16–18\, Bonn\, 53111\, Deutschland
CATEGORIES:Migration - Kultur - Kultureller Austausch,Veranstaltungen von Gemeinden,Veranstaltungen von Institutionen und Verbänden,Veranstaltungsreihen
ATTACH;FMTTYPE=image/jpeg:https://www.evforum-bonn.de/wp-content/uploads/2025/02/migrapolis.jpg
END:VEVENT
BEGIN:VEVENT
DTSTART;TZID=Europe/Berlin:20250224T180000
DTEND;TZID=Europe/Berlin:20250224T193000
DTSTAMP:20260423T151519
CREATED:20250127T093607Z
LAST-MODIFIED:20250528T103302Z
UID:10005269-1740420000-1740425400@www.evforum-bonn.de
SUMMARY:Arbeitsgruppe „Schöpfung bewahren“
DESCRIPTION:einmal im Monat montags 18:00-19:30 Uhr\n\n\nIn der Arbeitsgruppe „Schöpfung bewahren“ beschäftigen wir uns mit Schöpfungs- und Umweltthemen: \n\nEinerseits informieren wir uns selbst – zuletzt z.B. bei der gemeinsamen Lektüre eines Buchs über den Klimawandel oder bei einer Waldführung im Kottenforst mit dem Förster. \nAndererseits versuchen wir aktuelle Umweltfragen auch in die Gemeinde zu tragen – das geschieht z.B. bei Projekten wie dem Bau von Insektenhotels\, der Aktion „100 Haushalte wechseln zu BonnNaturStrom“ oder bei der Handy-Recycling-Aktion NRW. \n\nWer an diesen Themen interessiert ist\, ist herzlich willkommen: Wenden Sie sich einfach an Renate Ohly (Tel. 0228 31 16 78) oder Pfarrerin Stefanie Graner. \n\n\n\nWeitere Informationen
URL:https://www.evforum-bonn.de/veranstaltung/ag_schoepfung_bewahren2025/2025-02-24/
LOCATION:Gemeindehaus der Friedenskirchengemeinde\, Franz-Bücheler-Straße 10\, Bonn\, NRW\, 53129\, Germany
CATEGORIES:Existenzielle Fragestellungen,Ressourcen - Umwelt - Klima,Veranstaltungen von Gemeinden,Veranstaltungsreihen
ATTACH;FMTTYPE=image/jpeg:https://www.evforum-bonn.de/wp-content/uploads/2025/01/AG-schoepfung-bewahren-e1737971201984.jpg
END:VEVENT
BEGIN:VEVENT
DTSTART;TZID=Europe/Berlin:20250224T193000
DTEND;TZID=Europe/Berlin:20250224T210000
DTSTAMP:20260423T151519
CREATED:20250108T120816Z
LAST-MODIFIED:20250217T105153Z
UID:10005089-1740425400-1740430800@www.evforum-bonn.de
SUMMARY:Montagsvortrag: "Bennick“ trifft Bartning - Raum trifft Musik"
DESCRIPTION:24.02.2025 – „Montagsvortrag“  19:30 Uhr – Emmaus-Kirche-Bonn Duidorf\n„Bennick“ trifft Bartning – Raum trifft Musik“  \nMusikalischer Vortrag von Joe Bennick zu Leben und Werk von Otto Bartning\, dem Architekten der 43 Notkirchen \nDie Bartning-Notkirchen waren ein Kirchbauprogramm des Evangelischen Hilfswerks\, das nach dem Ende des Zweiten Weltkriegs von dem renommierten Architekten und ehemaligen Direktor der Staatlichen Bauhochschule Weimar Otto Bartning entwickelt wurde. Der durch Kriegsschäden und Zuzug von Flüchtlingen entstandene Mangel an gottesdienstlichen Räumen sollte mit schnellen und einfachen Mitteln behoben werden. Die zwischen 1947 und 1953 errichteten 43 sogenannten Notkirchen „sind herausragende Bauzeugnisse der Architekturgeschichte und bildeten als Gesamtheit ein einzigartiges sakrales und kulturhistorisches Flächendenkmal.“– (Otto Bartning-Arbeitsgemeinschaft: Evangelische Zeitung\, 30. September 2012\, S. 39 N) Dabei galten Bartning-Notkirchen von Anfang an keineswegs als Provisorien. Zahlreiche Kirchen werden nach wie vor heute genutzt. \nJoe Bennick\, Künstler und Urenkel des Architekten Otto Bartning\, gibt mit Wort und Musik\, Einblicke in das besondere Schaffen seines Urgroßvaters. Dazu trägt der preisgekrönte Singer-Songwriter durch das Leben seines Urgroßvaters inspirierte Songs vor. \nModeration: Barbara Kliesch \nBeginn 19:30h – Eintritt frei\, Getränkespenden für den anschließenden Umtrunk willkommen!    \nMontagsvortrag 24.02.25
URL:https://www.evforum-bonn.de/veranstaltung/montagsvortrag_februar/
LOCATION:Emmaus-Kirche\, Borsigallee 23\, Bonn\, 53125
CATEGORIES:Aktuelles,Montagsvortrag,Veranstaltungen von Gemeinden,Veranstaltungsreihen
ORGANIZER;CN="Ev. Kirchengemeinde im Bonner Westen (Hardtberg)":MAILTO:hardtberg@ekir.de
END:VEVENT
END:VCALENDAR