BEGIN:VCALENDAR
VERSION:2.0
PRODID:-//Evangelisches Forum Bonn - ECPv6.15.20//NONSGML v1.0//EN
CALSCALE:GREGORIAN
METHOD:PUBLISH
X-WR-CALNAME:Evangelisches Forum Bonn
X-ORIGINAL-URL:https://www.evforum-bonn.de
X-WR-CALDESC:Veranstaltungen für Evangelisches Forum Bonn
REFRESH-INTERVAL;VALUE=DURATION:PT1H
X-Robots-Tag:noindex
X-PUBLISHED-TTL:PT1H
BEGIN:VTIMEZONE
TZID:Europe/Berlin
BEGIN:DAYLIGHT
TZOFFSETFROM:+0100
TZOFFSETTO:+0200
TZNAME:CEST
DTSTART:20240331T010000
END:DAYLIGHT
BEGIN:STANDARD
TZOFFSETFROM:+0200
TZOFFSETTO:+0100
TZNAME:CET
DTSTART:20241027T010000
END:STANDARD
BEGIN:DAYLIGHT
TZOFFSETFROM:+0100
TZOFFSETTO:+0200
TZNAME:CEST
DTSTART:20250330T010000
END:DAYLIGHT
BEGIN:STANDARD
TZOFFSETFROM:+0200
TZOFFSETTO:+0100
TZNAME:CET
DTSTART:20251026T010000
END:STANDARD
BEGIN:DAYLIGHT
TZOFFSETFROM:+0100
TZOFFSETTO:+0200
TZNAME:CEST
DTSTART:20260329T010000
END:DAYLIGHT
BEGIN:STANDARD
TZOFFSETFROM:+0200
TZOFFSETTO:+0100
TZNAME:CET
DTSTART:20261025T010000
END:STANDARD
END:VTIMEZONE
BEGIN:VEVENT
DTSTART;TZID=Europe/Berlin:20250226T170000
DTEND;TZID=Europe/Berlin:20250226T210000
DTSTAMP:20260423T151513
CREATED:20241105T115242Z
LAST-MODIFIED:20250219T134349Z
UID:10005043-1740589200-1740603600@www.evforum-bonn.de
SUMMARY:Workshops zum Thema - Öko-fair-soziale Beschaffung
DESCRIPTION:26.02.2025 – 17 Uhr im Haus der Ev. Kirche\nIn zwei Veranstaltungen geht es um nachhaltigen & öko-fair-sozialen Einkauf in kirchlichen Einrichtungen. An beiden Abenden wird es um die Frage gehen „Warum brauchen wir eine öko-fair-soziale Beschaffung und wie funktioniert das?“. Zunächst sprechen wir über Suffizienz und es gibt praktische Tipps\, z. B. zum Umgang mit Siegeln. \nReferent: Christoph Diefenbach (Nachhaltigkeitsmanagement Ev. Kirche im Rheinland) \nIm Anschluss gibt es folgende Themen-Angebote zur Auswahl: \nFokus-Workshop 1: \nNachhaltige Textilien \nReferentin: Kenza Podieh\, Projektleiterin Nachhaltige Beschaffung bei FEMNETe.V. \nWie können textile Produkte nachhaltig und sozial gerecht eingekauft werden? In diesem Workshop tauchen wir in die komplexe Welt der textilen Lieferketten ein und beleuchten die ökologischen\, sozialen und menschenrechtlichen Herausforderungen. Dabei lernen Sie\, wie Sie durch strategische Bedarfsanalyse und Marktrecherche Nachhaltigkeitskriterien erfolgreich in den Beschaffungsprozess integrieren können. Außerdem erhalten Sie Einblicke in Gütezeichen und Nachweismethoden sowie praktische Ansätze zur Kostenbewertung und effektiven Marktkommunikation. Gemeinsam setzen wir Impulse für faire Arbeitsbedingungen und umweltfreundliche Beschaffung – seien Sie dabei! \nFokus-Workshop 2: \nEnergiesparen \nReferent: Dr. Reinhard Loch\, Dr. Reinhard Loch\, ehem. Energieberater der Verbraucherzentrale NRW\n \nJede Gemeinde verbraucht jede Menge Energie in Form von Strom und Wärme. Das Ziel ist vorgegeben: auch der Betrieb aller Gemeinden\, insbesondere die Gebäude\, müssen klimaneutral werden.  Gemeinsam wollen wir uns anschauen\, wie wir die wichtigsten Daten zum Energieverbrauch zusammentragen\, bewerten und nach Einsparpotentialen Ausschau halten.  Dabei geht es im Workshop insbesondere um den Erfahrungsaustausch\, was wir in unseren Gemeinden schon unternommen haben und wo wir noch offene Fragen haben.\nDer Referent Reinhard Loch ist langjähriger Energieberater der Verbraucherzentrale NRW und in seiner Gemeinde Mitglied im Bau- und Umweltausschuss. \nFokus-Workshop 3: \nNachhaltige Veranstaltungen \nEv. Forum \nWie können wir unsere Veranstaltungen in Gemeinden\, Einrichtungen und Netzwerken nachhaltig gestalten? Geht es bei Nachhaltigkeit immer nur um veganes Essen und Fahrradfahren? Gemeinsam wollen wir erarbeiten\, welche Schritte wir gehen können\, um unsere Veranstaltungen nicht nur für den Planeten\, sondern auch für uns Menschen nachhaltig und zugänglich zu machen. Dabei richtet sich der Blick auf ökologische und sozialgerechte Fragen. \nProgramm WS Ökofaire Beschaffung am 26.02._07.05.25
URL:https://www.evforum-bonn.de/veranstaltung/workshops-zum-thema-oeko-fair-soziale-beschaffung/
LOCATION:Haus der Ev. Kirche Bonn\, Adenauerallee 37\, Bonn\, NRW\, 53113\, Germany
CATEGORIES:Aktuelles,Haus der Ev. Kirche Bonn,Zentralprogramm
ATTACH;FMTTYPE=image/jpeg:https://www.evforum-bonn.de/wp-content/uploads/2024/11/oekofair.jpg
END:VEVENT
BEGIN:VEVENT
DTSTART;TZID=Europe/Berlin:20250226T183000
DTEND;TZID=Europe/Berlin:20250226T203000
DTSTAMP:20260423T151513
CREATED:20250311T103328Z
LAST-MODIFIED:20250528T120802Z
UID:10005553-1740594600-1740601800@www.evforum-bonn.de
SUMMARY:"Wege durch die Trauer" - Trauerkurs
DESCRIPTION:Variante ohne Osterferien\n26.02 – 05.03 – 12.03 – 19.03 – 26.03 – 02.04 – 09.04. – 16.04 – 23.04 – 30.04. \nVariante mit Osterferien\n26.02 – 05.03 – 12.03 – 19.03 – 26.03 – 02.04 – 09.04. – 30.04 – 07.05 – 14.05. \nDer Kurs umfasst insgesamt zehn Kurseinheiten zu jeweils zwei Stunden (mit 15 Minuten Pause) und findet mittwochs ab 18:30 Uhr in den Räumlichkeiten der Friedenskirchengemeinde Bonn in der Franz-Bücheler-Str. 10\, 53129 Bonn statt. \n„Trauer- und Klageraum wünsche ich dir. Orte des Vertrauens\, in denen Gefühle sein dürfen\, Vielleicht auch verwandelt werden.“ (Pierre Stutz 2004) \nTrauern ist eine Fähigkeit\, die Trauernden helfen kann einen Weg zu finden\, um mit dem schmerzlichen Verlust leben zu lernen. Trauer braucht Raum\, Trauer braucht Zeit\, sie braucht die Anerkennung sowie die Gemeinschaft. Deshalb möchten wir trauernden Menschen den so wichtigen Klage- und Trauerraum anbieten. Neben Impulsen\, die Trauernden einen Zugang zu den eigenen Gefühlen sowie ein Verständnis dafür ermöglichen sollen\, wird der Kurs von persönlichem Austausch in der Gruppe geprägt sein. \nEine Teilnahme ist nur nach vorheriger Anmeldung möglich. Die Anzahl der Teilnehmenden ist auf etwa zehn Personen begrenzt. Anmeldeschluss ist der 19.02.2025 \nAnmeldung per E-Mail:  uwebrenmoehl@web.de  Telefon:  01733443516 \nKursleitung: Uwe Brenmöhl (Sterbebegleiter\, Trauerbegleiter (BvT zertifiziert)\, Psychologischer Berater) und Esther Goßmann (Trauerbegleiterin\, Hospizbegleiterin im ambulanten Kinder- und Jugendhospizdienst Bonn\, Sterbebegleiterin im ökumenischen Hospizdienst Königswinter e.V.)
URL:https://www.evforum-bonn.de/veranstaltung/wege-durch-die-trauer-trauerkurs/2025-02-26/
LOCATION:Gemeindehaus der Friedenskirchengemeinde\, Franz-Bücheler-Straße 10\, Bonn\, NRW\, 53129\, Germany
CATEGORIES:Altern und Alter,Existenzielle Fragestellungen,Lehrgang | Kurs,Theologie / Philosophie,Veranstaltungen von Gemeinden,Veranstaltungsreihen
ATTACH;FMTTYPE=image/jpeg:https://www.evforum-bonn.de/wp-content/uploads/2025/03/sunset-5139139_640-e1741686430302.jpg
END:VEVENT
BEGIN:VEVENT
DTSTART;TZID=Europe/Berlin:20250226T200000
DTEND;TZID=Europe/Berlin:20250226T210000
DTSTAMP:20260423T151513
CREATED:20250407T111453Z
LAST-MODIFIED:20250407T111559Z
UID:10005600-1740600000-1740603600@www.evforum-bonn.de
SUMMARY:Religiöse Kindererziehung
DESCRIPTION:Impulse zur religiösen Kindererziehung – jeden Mittwoch (außer Ferien ab 20 Uhr in der Friedenskirche \nJeden Mittwochabend (außer in den Ferien) lädt Pastorin Annette Ziegler von 20–21 Uhr in die Friedenskirche Bonn-Kessenich ein\, um zentrale Fragen der religiösen Kindererziehung zu beleuchten. Begleitend durch ausgewählte Literatur und ergänzt durch Vorträge externer Fachleute bietet die Reihe praxisnahe Impulse und Raum für Austausch. \nWeitere Informationen: Tel. 0228 23 83 71 | E-Mail: buero@friedenskirche-bonn.de \n 
URL:https://www.evforum-bonn.de/veranstaltung/religioese-kindererziehung/2025-02-26/
LOCATION:Friedenskirche\, Franz-Bücheler-Str. 10\, Bonn\, 53129 \, Deutschland
CATEGORIES:Existenzielle Fragestellungen,Lesung - Vortrag,Pädagogische Bildung,Veranstaltungen von Gemeinden,Veranstaltungsreihen,Weiterbildung allgemein
ATTACH;FMTTYPE=image/png:https://www.evforum-bonn.de/wp-content/uploads/2025/04/Religioese-Kindererziehung-e1744024216838.png
END:VEVENT
BEGIN:VEVENT
DTSTART;TZID=Europe/Berlin:20250226T200000
DTEND;TZID=Europe/Berlin:20250226T210000
DTSTAMP:20260423T151513
CREATED:20250407T111957Z
LAST-MODIFIED:20250407T111958Z
UID:10005638-1740600000-1740603600@www.evforum-bonn.de
SUMMARY:Religiöse Kindererziehung
DESCRIPTION:Impulse zur religiösen Kindererziehung – jeden Mittwoch (außer Ferien ab 20 Uhr in der Friedenskirche \nJeden Mittwochabend (außer in den Ferien) lädt Pastorin Annette Ziegler von 20–21 Uhr in die Friedenskirche Bonn-Kessenich ein\, um zentrale Fragen der religiösen Kindererziehung zu beleuchten. Begleitend durch ausgewählte Literatur und ergänzt durch Vorträge externer Fachleute bietet die Reihe praxisnahe Impulse und Raum für Austausch. \nWeitere Informationen: Tel. 0228 23 83 71 | E-Mail: buero@friedenskirche-bonn.de \n 
URL:https://www.evforum-bonn.de/veranstaltung/religioese-kindererziehung-2/2025-02-26/
LOCATION:Friedenskirche\, Franz-Bücheler-Str. 10\, Bonn\, 53129 \, Deutschland
CATEGORIES:Existenzielle Fragestellungen,Lesung - Vortrag,Pädagogische Bildung,Veranstaltungen von Gemeinden,Veranstaltungsreihen,Weiterbildung allgemein
ATTACH;FMTTYPE=image/png:https://www.evforum-bonn.de/wp-content/uploads/2025/04/Religioese-Kindererziehung-e1744024216838.png
END:VEVENT
END:VCALENDAR