BEGIN:VCALENDAR
VERSION:2.0
PRODID:-//Evangelisches Forum Bonn - ECPv6.15.20//NONSGML v1.0//EN
CALSCALE:GREGORIAN
METHOD:PUBLISH
X-ORIGINAL-URL:https://www.evforum-bonn.de
X-WR-CALDESC:Veranstaltungen für Evangelisches Forum Bonn
REFRESH-INTERVAL;VALUE=DURATION:PT1H
X-Robots-Tag:noindex
X-PUBLISHED-TTL:PT1H
BEGIN:VTIMEZONE
TZID:Europe/Berlin
BEGIN:DAYLIGHT
TZOFFSETFROM:+0100
TZOFFSETTO:+0200
TZNAME:CEST
DTSTART:20240331T010000
END:DAYLIGHT
BEGIN:STANDARD
TZOFFSETFROM:+0200
TZOFFSETTO:+0100
TZNAME:CET
DTSTART:20241027T010000
END:STANDARD
BEGIN:DAYLIGHT
TZOFFSETFROM:+0100
TZOFFSETTO:+0200
TZNAME:CEST
DTSTART:20250330T010000
END:DAYLIGHT
BEGIN:STANDARD
TZOFFSETFROM:+0200
TZOFFSETTO:+0100
TZNAME:CET
DTSTART:20251026T010000
END:STANDARD
BEGIN:DAYLIGHT
TZOFFSETFROM:+0100
TZOFFSETTO:+0200
TZNAME:CEST
DTSTART:20260329T010000
END:DAYLIGHT
BEGIN:STANDARD
TZOFFSETFROM:+0200
TZOFFSETTO:+0100
TZNAME:CET
DTSTART:20261025T010000
END:STANDARD
END:VTIMEZONE
BEGIN:VEVENT
DTSTART;TZID=Europe/Berlin:20250305T160000
DTEND;TZID=Europe/Berlin:20250305T173000
DTSTAMP:20260423T151826
CREATED:20250305T090249Z
LAST-MODIFIED:20250610T093857Z
UID:10005536-1741190400-1741195800@www.evforum-bonn.de
SUMMARY:Stadtführung - Krieg und Frieden "Der Hofgarten erzählt"
DESCRIPTION:05.03.2025  um 16 Uhr – Treffpunkt: Ev. Kirchenpavillon\, Kaiserplatz 1a\, Bonn\nIn der zweiten Hälfte des 20. Jahrhunderts machte der Bonner Hofgarten durch seine Groß-Demonstrationen von sich reden. Unvergessen die große Friedensdemonstration von 1983. Aber schon mehrfach zuvor wurde der Ort als Bühne für Frieden und Demokratie genutzt. Im März 1920 war er Sammelplatz von 30.000 Bonner Bürgern\, welche von hier aus zum Marktplatz zogen\, um die durch den Kapp-Putsch in Bedrängnis geratene junge deutsche Demokratie zu unterstützen. – Auch der Krieg warf seine Schatten. Paraden\, militärische Aufmärsche und selbst die Nutzung als Kartoffelacker oder als Durchgangslager für Kriegsgefangene hat er erlebt. – Vom Hauptgebäude der Universität aus wacht Regina Pacis\, die Königin des Friedens\, über die Hofgartenwiese\, die nun fast ausschließlich den Student*innen und Bonner Bürger*innen gehört. Lassen wir die Königin des Friedens erzählen\, was sie von 1744 bis zur Gegenwart hier so alles gesehen hat. \nTeilnahmegebühr pro Person: 8 Euro / ermäßigt 5 Euro. Dauer ca. 90 Minuten. \nEs führen Sie: \n-> mit Erreichen der Mindest-Teilnehmendenzahl erhalten Sie eine Bestätigung mit Zahlungsanweisung
URL:https://www.evforum-bonn.de/veranstaltung/stadtfuehrung-krieg_u_frieden-25/
LOCATION:Stadtführung – indiv. Treffpunkt\, Bonn\, NRW\, 53113\, Germany
CATEGORIES:Evangelische Stadtführungen
ATTACH;FMTTYPE=image/jpeg:https://www.evforum-bonn.de/wp-content/uploads/2025/03/Kreuzkirche-mit-Hofgarten-Foto-ekir-edited-e1741165543459.jpg
ORGANIZER;CN="Evangelisches Forum Bonn":MAILTO:info@evforum-bonn.de
END:VEVENT
BEGIN:VEVENT
DTSTART;TZID=Europe/Berlin:20250305T183000
DTEND;TZID=Europe/Berlin:20250305T203000
DTSTAMP:20260423T151826
CREATED:20250311T103328Z
LAST-MODIFIED:20250528T120802Z
UID:10005554-1741199400-1741206600@www.evforum-bonn.de
SUMMARY:"Wege durch die Trauer" - Trauerkurs
DESCRIPTION:Variante ohne Osterferien\n26.02 – 05.03 – 12.03 – 19.03 – 26.03 – 02.04 – 09.04. – 16.04 – 23.04 – 30.04. \nVariante mit Osterferien\n26.02 – 05.03 – 12.03 – 19.03 – 26.03 – 02.04 – 09.04. – 30.04 – 07.05 – 14.05. \nDer Kurs umfasst insgesamt zehn Kurseinheiten zu jeweils zwei Stunden (mit 15 Minuten Pause) und findet mittwochs ab 18:30 Uhr in den Räumlichkeiten der Friedenskirchengemeinde Bonn in der Franz-Bücheler-Str. 10\, 53129 Bonn statt. \n„Trauer- und Klageraum wünsche ich dir. Orte des Vertrauens\, in denen Gefühle sein dürfen\, Vielleicht auch verwandelt werden.“ (Pierre Stutz 2004) \nTrauern ist eine Fähigkeit\, die Trauernden helfen kann einen Weg zu finden\, um mit dem schmerzlichen Verlust leben zu lernen. Trauer braucht Raum\, Trauer braucht Zeit\, sie braucht die Anerkennung sowie die Gemeinschaft. Deshalb möchten wir trauernden Menschen den so wichtigen Klage- und Trauerraum anbieten. Neben Impulsen\, die Trauernden einen Zugang zu den eigenen Gefühlen sowie ein Verständnis dafür ermöglichen sollen\, wird der Kurs von persönlichem Austausch in der Gruppe geprägt sein. \nEine Teilnahme ist nur nach vorheriger Anmeldung möglich. Die Anzahl der Teilnehmenden ist auf etwa zehn Personen begrenzt. Anmeldeschluss ist der 19.02.2025 \nAnmeldung per E-Mail:  uwebrenmoehl@web.de  Telefon:  01733443516 \nKursleitung: Uwe Brenmöhl (Sterbebegleiter\, Trauerbegleiter (BvT zertifiziert)\, Psychologischer Berater) und Esther Goßmann (Trauerbegleiterin\, Hospizbegleiterin im ambulanten Kinder- und Jugendhospizdienst Bonn\, Sterbebegleiterin im ökumenischen Hospizdienst Königswinter e.V.)
URL:https://www.evforum-bonn.de/veranstaltung/wege-durch-die-trauer-trauerkurs/2025-03-05/
LOCATION:Gemeindehaus der Friedenskirchengemeinde\, Franz-Bücheler-Straße 10\, Bonn\, NRW\, 53129\, Germany
CATEGORIES:Altern und Alter,Existenzielle Fragestellungen,Lehrgang | Kurs,Theologie / Philosophie,Veranstaltungen von Gemeinden,Veranstaltungsreihen
ATTACH;FMTTYPE=image/jpeg:https://www.evforum-bonn.de/wp-content/uploads/2025/03/sunset-5139139_640-e1741686430302.jpg
END:VEVENT
END:VCALENDAR