BEGIN:VCALENDAR
VERSION:2.0
PRODID:-//Evangelisches Forum Bonn - ECPv6.15.20//NONSGML v1.0//EN
CALSCALE:GREGORIAN
METHOD:PUBLISH
X-ORIGINAL-URL:https://www.evforum-bonn.de
X-WR-CALDESC:Veranstaltungen für Evangelisches Forum Bonn
REFRESH-INTERVAL;VALUE=DURATION:PT1H
X-Robots-Tag:noindex
X-PUBLISHED-TTL:PT1H
BEGIN:VTIMEZONE
TZID:Europe/Berlin
BEGIN:DAYLIGHT
TZOFFSETFROM:+0100
TZOFFSETTO:+0200
TZNAME:CEST
DTSTART:20240331T010000
END:DAYLIGHT
BEGIN:STANDARD
TZOFFSETFROM:+0200
TZOFFSETTO:+0100
TZNAME:CET
DTSTART:20241027T010000
END:STANDARD
BEGIN:DAYLIGHT
TZOFFSETFROM:+0100
TZOFFSETTO:+0200
TZNAME:CEST
DTSTART:20250330T010000
END:DAYLIGHT
BEGIN:STANDARD
TZOFFSETFROM:+0200
TZOFFSETTO:+0100
TZNAME:CET
DTSTART:20251026T010000
END:STANDARD
BEGIN:DAYLIGHT
TZOFFSETFROM:+0100
TZOFFSETTO:+0200
TZNAME:CEST
DTSTART:20260329T010000
END:DAYLIGHT
BEGIN:STANDARD
TZOFFSETFROM:+0200
TZOFFSETTO:+0100
TZNAME:CET
DTSTART:20261025T010000
END:STANDARD
END:VTIMEZONE
BEGIN:VEVENT
DTSTART;TZID=Europe/Berlin:20250309T111500
DTEND;TZID=Europe/Berlin:20250309T130000
DTSTAMP:20260423T151846
CREATED:20250117T140224Z
LAST-MODIFIED:20250117T140630Z
UID:10005206-1741518900-1741525200@www.evforum-bonn.de
SUMMARY:HAP Grieshaber – Der polnische Kreuzweg
DESCRIPTION:09.03.2025 – Trinitatiskirche Endenich\nDen polnischen Kreuzweg schuf der Holzschneider HAP Grieshaber (1909-1981) im Jahr 1967. Mit 14 Farbholzschnitten interpretierte der Künstler die einzelnen Stationen des Passionsgeschehens. Dem polnischen Volk\, das im Laufe seiner Geschichte so viel Unrecht\, Verfolgung und Teilungen seines Gebietes zu ertragen hatte\, fühlte sich Grieshaber verbunden. \nDie Entstehung des Holzschnitt-Zyklus hatte eine Vorgeschichte. Nach dem Ende des ersten Auschwitz-Prozesses 1965 rief der Journalist Paul Wilhelm Wenger dazu auf\, im ehemaligen Konzentrationslager Auschwitz eine Sühnekirche zu errichten – nicht vom deutschen Staat\, sondern gestiftet von den Christinnen und Christen dieses Landes. Dafür sollten Spenden gesammelt und ein Kuratorium gebildet werden. Wenger wandte sich auch an Grieshaber\, bei dem das Ansinnen auf offene Ohren stieß. „Die Sühnekapelle in Auschwitz ist auch meine Sache!“\, schrieb er an Wenger und trat spontan dem Kuratorium bei. Die Passionsfolge\, der polnische Kreuzweg\, die Grieshaber daraufhin in Angriff nahm\, war für die Sühnekirche bestimmt. Der Kalte Krieg aber verhinderte den Bau der Kirche\, so dass der Kreuzweg den ihm zugedachten Platz nicht einnehmen konnte. So erschienen die Farbholzschnitte\, jeweils von mehreren Stöcken gedruckt\, als Buch mit Meditationstexten von Stefan Kardinal Wyszynski und in kleiner Auflage als Mappenwerk. \n11:15 Uhr – Einführung: Wolfgang Glöckner
URL:https://www.evforum-bonn.de/veranstaltung/ausstellung-trinitatis/
LOCATION:Evangelische Trinitatiskirche Bonn\, Brahmsstraße 14\, Bonn\, NRW\, 53121\, Germany
CATEGORIES:Aktuelles,Veranstaltungen von Gemeinden
ATTACH;FMTTYPE=image/jpeg:https://www.evforum-bonn.de/wp-content/uploads/2025/01/Bild-Trinitatis.jpg
END:VEVENT
END:VCALENDAR