BEGIN:VCALENDAR
VERSION:2.0
PRODID:-//Evangelisches Forum Bonn - ECPv6.15.20//NONSGML v1.0//EN
CALSCALE:GREGORIAN
METHOD:PUBLISH
X-ORIGINAL-URL:https://www.evforum-bonn.de
X-WR-CALDESC:Veranstaltungen für Evangelisches Forum Bonn
REFRESH-INTERVAL;VALUE=DURATION:PT1H
X-Robots-Tag:noindex
X-PUBLISHED-TTL:PT1H
BEGIN:VTIMEZONE
TZID:Europe/Berlin
BEGIN:DAYLIGHT
TZOFFSETFROM:+0100
TZOFFSETTO:+0200
TZNAME:CEST
DTSTART:20240331T010000
END:DAYLIGHT
BEGIN:STANDARD
TZOFFSETFROM:+0200
TZOFFSETTO:+0100
TZNAME:CET
DTSTART:20241027T010000
END:STANDARD
BEGIN:DAYLIGHT
TZOFFSETFROM:+0100
TZOFFSETTO:+0200
TZNAME:CEST
DTSTART:20250330T010000
END:DAYLIGHT
BEGIN:STANDARD
TZOFFSETFROM:+0200
TZOFFSETTO:+0100
TZNAME:CET
DTSTART:20251026T010000
END:STANDARD
BEGIN:DAYLIGHT
TZOFFSETFROM:+0100
TZOFFSETTO:+0200
TZNAME:CEST
DTSTART:20260329T010000
END:DAYLIGHT
BEGIN:STANDARD
TZOFFSETFROM:+0200
TZOFFSETTO:+0100
TZNAME:CET
DTSTART:20261025T010000
END:STANDARD
END:VTIMEZONE
BEGIN:VEVENT
DTSTART;TZID=Europe/Berlin:20250311T100000
DTEND;TZID=Europe/Berlin:20250311T121500
DTSTAMP:20260423T151807
CREATED:20250121T090709Z
LAST-MODIFIED:20250121T090819Z
UID:10005211-1741687200-1741695300@www.evforum-bonn.de
SUMMARY:Literatur und Kreativität
DESCRIPTION:11.03.2025 – Kirchenpavillon Bonn\nEin literarischer Text erzeugt in uns Bilder\, ruft Farben und Formen hervor. Wir gestalten unsere eigenen Orte\, Figuren und Stimmungen durch die Kraft unserer angeborenen Kreativität. So erleben wir Literatur vor jeder Analyse. Dieser Kurs bietet die Gelegenheit\, unserer innewohnenden Gestaltungskraft Ausdruck zu verleihen. Sie bekommen eine Erzählung vorgelesen\, ein Gedicht\, ein Bibelzitat\, vielleicht ein Märchen. Mit verschiedenen  Farbmitteln und in Ihrer eigenen Formensprache geben Sie Ihrem Literaturverständnis Ausdruck – ohne jeden Anspruch an Perfektion und ohne jegliche Kritik. Was zählt\, ist Ihre Freude am Tun. Eine ungewohnte Weise der Literaturinterpretation. Dann ist auch Gelegenheit\, davon zu erzählen. Als Malmittel werden leuchtende Ölpastellkreiden und zarte Buntstifte angeboten. Das Material wird gestellt. \nEs begleitet Sie: Christina Jahnen-Foit | Germanistin\, Pädagogin\, Kunsttherapeutin \n\nDieser Kurs richtet sich an alle\, die die Welt der Literatur auf kreative und ungewohnte Weise erleben möchten.\n\nHinweis: \n\nDie Teilnahme ist kostenpflichtig (EUR – Info folgt).\nAnmeldung erforderlich über das Formular unten.
URL:https://www.evforum-bonn.de/veranstaltung/literatur-und-kreativitaet/
LOCATION:Ev. Kirchenpavillon Bonn\, Kaiserplatz 1a\, Bonn\, NRW\, 53113\, Germany
CATEGORIES:Aktuelles,Bibel - Bibelgespräch,Kirchenpavillon,Philosophisch-psychologische Kaffeehausgespräche,Wissenschaftsstadt,Zentralprogramm
ORGANIZER;CN="Evangelisches Forum Bonn":MAILTO:info@evforum-bonn.de
END:VEVENT
BEGIN:VEVENT
DTSTART;TZID=Europe/Berlin:20250311T180000
DTEND;TZID=Europe/Berlin:20250311T210000
DTSTAMP:20260423T151807
CREATED:20250106T141724Z
LAST-MODIFIED:20250306T103439Z
UID:10005075-1741716000-1741726800@www.evforum-bonn.de
SUMMARY:Prävention - Basisschulung (3h) Online *Ausgebucht!
DESCRIPTION:Fortbildungen zur Prävention von sexualisierter Gewalt \n \nDie Evangelische Kirche in Bonn lebt durch die lebendigen Beziehungen der Menschen miteinander und mit Gott. \nIn der Arbeit mit Kindern\, Jugendlichen und Erwachsenen entsteht eine persönliche Nähe und Gemeinschaft\, die von Vertrauen geprägt ist.\nUm sicher aufwachsen und leben zu können benötigen Kinder und Jugendliche Ansprechpartner*innen\, denen sie vertrauen können und die ihnen Zuwendung und Geborgenheit schenken. Sie brauchen Menschen\, die sie stark machen\, sie unterstützen\, Schutz und Sicherheit bieten und auf sie Acht geben. \nDas Evangelische Forum Bonn bietet Präventionsfortbildungen zum Thema sexualisierter Gewalt für ehrenamtliche Mitarbeiter*innen an. \nBitte sprechen Sie mit Ihrer Kirchengemeinde bzw. Organisation\, für die Sie ehrenamtlich arbeiten\, ab\, welche Fortbildung für Sie geeignet ist. \n Die Kursgebühren werden in der Regel von den entsprechenden Kirchengemeinden bzw. Organisationen übernommen. \nWenn Sie Fragen haben\, melden Sie sich bitte unter: info@evforum-bonn.de oder 0228 6880 320 \nEine Übersicht aller angebotenen Schulungstermine finden Sie auch hier: https://www.evforum-bonn.de/start/praeventionsschulungen/ \n  \nReferentin: Frau Merle Wieschhoff – www.merle-wieschhoff.de
URL:https://www.evforum-bonn.de/veranstaltung/praeventionsschulung_basis_online-11-03-2025/
LOCATION:ONLINE via Zoom\, externer Zoom Link\, Germany
CATEGORIES:Fort- und Weiterbildung,Präventionsschulung,Veranstaltungsreihen
ATTACH;FMTTYPE=image/jpeg:https://www.evforum-bonn.de/wp-content/uploads/2025/01/achtgeben_starkmachen-1.jpg
ORGANIZER;CN="Evangelisches Forum Bonn":MAILTO:info@evforum-bonn.de
END:VEVENT
BEGIN:VEVENT
DTSTART;TZID=Europe/Berlin:20250311T193000
DTEND;TZID=Europe/Berlin:20250311T203000
DTSTAMP:20260423T151807
CREATED:20250725T113808Z
LAST-MODIFIED:20250725T113808Z
UID:10006028-1741721400-1741725000@www.evforum-bonn.de
SUMMARY:Lindy Hop | Offener Tanzunterricht
DESCRIPTION:Lindy Hop ist ein beschwingter Swing-Tanzstil mit Wurzeln in der afroamerikanischen Kultur der 1930er Jahre. In diesem offenen Tanzunterricht steht nicht nur die Freude an Bewegung im Mittelpunkt\, sondern auch das gemeinschaftliche Lernen: Vom ersten Grundschritt bis zur Improvisation können alle – mit oder ohne Vorkenntnisse – neue Schritte erlernen\, Koordination und Rhythmusgefühl schulen und dabei die Geschichte eines kulturell bedeutenden Tanzstils kennenlernen. \nDie Abende bieten Raum für Begegnung\, körperliche Aktivität und kulturelle Bildung – immer in respektvoller Atmosphäre und mit viel Spaß. Kommen Sie vorbei\, tanzen Sie mit! \n📍 Ort: Melanchthonhaus der Kreuzkirche📩 Anmeldung & Infos: lindyhop@justmail.de🕒 Wöchentlich dienstags um 19:30 Uhr (außer ggf. in den Ferien und an Feiertagen)
URL:https://www.evforum-bonn.de/veranstaltung/lindy-hop-offener-tanzunterricht/2025-03-11/
LOCATION:Melanchthon Haus der Kreuzkirche\, An der Evangelischen Kirche 6\, Bonn\, NRW\, 53113\, Germany
CATEGORIES:Gesundheit - Krankheit - Medizin,Lindy Hop,Tanz - Bewegung - Gesundheit,Veranstaltungen von Gemeinden,Veranstaltungsreihen
ATTACH;FMTTYPE=image/jpeg:https://www.evforum-bonn.de/wp-content/uploads/2025/07/Lindy-Hop_Foto-by-Lindy-Hop-e1753443452177.jpg
END:VEVENT
BEGIN:VEVENT
DTSTART;TZID=Europe/Berlin:20250311T200000
DTEND;TZID=Europe/Berlin:20250311T220000
DTSTAMP:20260423T151807
CREATED:20250528T105619Z
LAST-MODIFIED:20250528T105619Z
UID:10005739-1741723200-1741730400@www.evforum-bonn.de
SUMMARY:Fotogruppe
DESCRIPTION:Jeden zweiten Dienstag im Monat 20:00-22:00 Uhr\n\n\nDie Fotogruppe trifft sich regelmäßig um dem gemeinsamen Hobby der Fotografie nachzugehen. Wir probieren zusammen unterschiedliche Motive und Lichtverhältnisse aus\, erlernen Fotografiertechniken und erleben eine schöne gemeinsame Zeit. Manche der Fotos auf unserer Website stammen von der Fotogruppe.Weitere Informationen
URL:https://www.evforum-bonn.de/veranstaltung/fotogruppe/2025-03-11/
LOCATION:Gemeindehaus der Friedenskirchengemeinde\, Franz-Bücheler-Straße 10\, Bonn\, NRW\, 53129\, Germany
CATEGORIES:Kunst - Musik - Literatur,Veranstaltungen von Gemeinden,Veranstaltungsreihen
ATTACH;FMTTYPE=image/jpeg:https://www.evforum-bonn.de/wp-content/uploads/2025/05/Kamera_Pixabay-Free_PublicDomainArchive-e1748429758644.jpg
END:VEVENT
END:VCALENDAR