BEGIN:VCALENDAR
VERSION:2.0
PRODID:-//Evangelisches Forum Bonn - ECPv6.15.20//NONSGML v1.0//EN
CALSCALE:GREGORIAN
METHOD:PUBLISH
X-ORIGINAL-URL:https://www.evforum-bonn.de
X-WR-CALDESC:Veranstaltungen für Evangelisches Forum Bonn
REFRESH-INTERVAL;VALUE=DURATION:PT1H
X-Robots-Tag:noindex
X-PUBLISHED-TTL:PT1H
BEGIN:VTIMEZONE
TZID:Europe/Berlin
BEGIN:DAYLIGHT
TZOFFSETFROM:+0100
TZOFFSETTO:+0200
TZNAME:CEST
DTSTART:20240331T010000
END:DAYLIGHT
BEGIN:STANDARD
TZOFFSETFROM:+0200
TZOFFSETTO:+0100
TZNAME:CET
DTSTART:20241027T010000
END:STANDARD
BEGIN:DAYLIGHT
TZOFFSETFROM:+0100
TZOFFSETTO:+0200
TZNAME:CEST
DTSTART:20250330T010000
END:DAYLIGHT
BEGIN:STANDARD
TZOFFSETFROM:+0200
TZOFFSETTO:+0100
TZNAME:CET
DTSTART:20251026T010000
END:STANDARD
BEGIN:DAYLIGHT
TZOFFSETFROM:+0100
TZOFFSETTO:+0200
TZNAME:CEST
DTSTART:20260329T010000
END:DAYLIGHT
BEGIN:STANDARD
TZOFFSETFROM:+0200
TZOFFSETTO:+0100
TZNAME:CET
DTSTART:20261025T010000
END:STANDARD
END:VTIMEZONE
BEGIN:VEVENT
DTSTART;TZID=Europe/Berlin:20250319T183000
DTEND;TZID=Europe/Berlin:20250319T203000
DTSTAMP:20260423T121255
CREATED:20250311T103328Z
LAST-MODIFIED:20250528T120802Z
UID:10005556-1742409000-1742416200@www.evforum-bonn.de
SUMMARY:"Wege durch die Trauer" - Trauerkurs
DESCRIPTION:Variante ohne Osterferien\n26.02 – 05.03 – 12.03 – 19.03 – 26.03 – 02.04 – 09.04. – 16.04 – 23.04 – 30.04. \nVariante mit Osterferien\n26.02 – 05.03 – 12.03 – 19.03 – 26.03 – 02.04 – 09.04. – 30.04 – 07.05 – 14.05. \nDer Kurs umfasst insgesamt zehn Kurseinheiten zu jeweils zwei Stunden (mit 15 Minuten Pause) und findet mittwochs ab 18:30 Uhr in den Räumlichkeiten der Friedenskirchengemeinde Bonn in der Franz-Bücheler-Str. 10\, 53129 Bonn statt. \n„Trauer- und Klageraum wünsche ich dir. Orte des Vertrauens\, in denen Gefühle sein dürfen\, Vielleicht auch verwandelt werden.“ (Pierre Stutz 2004) \nTrauern ist eine Fähigkeit\, die Trauernden helfen kann einen Weg zu finden\, um mit dem schmerzlichen Verlust leben zu lernen. Trauer braucht Raum\, Trauer braucht Zeit\, sie braucht die Anerkennung sowie die Gemeinschaft. Deshalb möchten wir trauernden Menschen den so wichtigen Klage- und Trauerraum anbieten. Neben Impulsen\, die Trauernden einen Zugang zu den eigenen Gefühlen sowie ein Verständnis dafür ermöglichen sollen\, wird der Kurs von persönlichem Austausch in der Gruppe geprägt sein. \nEine Teilnahme ist nur nach vorheriger Anmeldung möglich. Die Anzahl der Teilnehmenden ist auf etwa zehn Personen begrenzt. Anmeldeschluss ist der 19.02.2025 \nAnmeldung per E-Mail:  uwebrenmoehl@web.de  Telefon:  01733443516 \nKursleitung: Uwe Brenmöhl (Sterbebegleiter\, Trauerbegleiter (BvT zertifiziert)\, Psychologischer Berater) und Esther Goßmann (Trauerbegleiterin\, Hospizbegleiterin im ambulanten Kinder- und Jugendhospizdienst Bonn\, Sterbebegleiterin im ökumenischen Hospizdienst Königswinter e.V.)
URL:https://www.evforum-bonn.de/veranstaltung/wege-durch-die-trauer-trauerkurs/2025-03-19/
LOCATION:Gemeindehaus der Friedenskirchengemeinde\, Franz-Bücheler-Straße 10\, Bonn\, NRW\, 53129\, Germany
CATEGORIES:Altern und Alter,Existenzielle Fragestellungen,Lehrgang | Kurs,Theologie / Philosophie,Veranstaltungen von Gemeinden,Veranstaltungsreihen
ATTACH;FMTTYPE=image/jpeg:https://www.evforum-bonn.de/wp-content/uploads/2025/03/sunset-5139139_640-e1741686430302.jpg
END:VEVENT
BEGIN:VEVENT
DTSTART;TZID=Europe/Berlin:20250319T190000
DTEND;TZID=Europe/Berlin:20250319T210000
DTSTAMP:20260423T121255
CREATED:20250108T124321Z
LAST-MODIFIED:20250502T075323Z
UID:10005093-1742410800-1742418000@www.evforum-bonn.de
SUMMARY:Literaturkreis 2025 - Constantin Schreiber "Die Kandidatin"
DESCRIPTION:Auch in diesem Jahr laden wir Sie herzlich zu unserem Literaturkreis ein! In der Regel treffen wir uns jeden 3. Mittwoch im Monat von 19.00 bis 20.30 Uhr  in der Bücherei der Matthäikirche\, um gemeinsam spannende\, bewegende und inspirierende Bücher zu entdecken und zu besprechen. \nFreuen Sie sich auf eine abwechslungsreiche Auswahl an Titeln und Autor*innen\, interessante Diskussionen und den Austausch mit anderen Literaturbegeisterten. \nDer Eintritt ist frei\, und eine Anmeldung nicht nötig.\nDas Bücherei-Team der Matthäikirche freut sich auf Sie! \nZu den Literaturkreis-Büchern für das Jahr 2025
URL:https://www.evforum-bonn.de/veranstaltung/literaturkreis_maerz/
LOCATION:Ev. Öffentliche Bücherei an der Matthäikirche\, Gutenbergstraße 10\, Bonn\, NRW\, 53123\, Germany
CATEGORIES:Aktuelles,Grips & Geist,Kunst - Musik - Literatur,Veranstaltungen von Gemeinden,Veranstaltungsreihen
ATTACH;FMTTYPE=image/jpeg:https://www.evforum-bonn.de/wp-content/uploads/2025/01/Literaturkreis.jpg
ORGANIZER;CN="Ev. Kirchengemeinde im Bonner Westen (Hardtberg)":MAILTO:hardtberg@ekir.de
END:VEVENT
BEGIN:VEVENT
DTSTART;TZID=Europe/Berlin:20250319T190000
DTEND;TZID=Europe/Berlin:20250319T210000
DTSTAMP:20260423T121255
CREATED:20250220T104051Z
LAST-MODIFIED:20250220T120901Z
UID:10005517-1742410800-1742418000@www.evforum-bonn.de
SUMMARY:Dialog im Krieg? – Aktivistinnen aus Israel und Palästina berichten
DESCRIPTION:mit den palästinensischen und israelischen Koordinator*innen des Projekts „Wi.e.dersprechen – Dialoge über Grenzen hinweg“ \nDer Israel-Palästina-Konflikt ist ein lange andauernder\, oft als festgefahren wahrgenommener Konflikt. Spätestens seit dem 7. Oktober 2023 bestimmt er weltweit Nachrichten und politische Debatten. Seit 2002 ermöglicht das Projekt „Wi.e.dersprechen – Dialoge über Grenzen hinweg“ (früher „Ferien vom Krieg“ genannt) mit lokalen Partner*innen\, für junge Israel*innen und Palästinenser*innen zweiwöchige\, intensive politische Dialogseminare in Deutschland. \nGerade in der aktuellen Situation scheint Dialog in weite Ferne gerückt – doch die Partner*innen des Projekts arbeiten auch in Kriegszeiten weiter. Was motiviert die Aktivist*innen? Wie sieht Dialogarbeit im Krieg aus? Was kann sie bewirken? Und warum lohnt es sich\, gerade den Dialog auf Graswurzelebene zu gestalten und zu fördern? \nAuf ihrer Vortragsreise in Deutschland berichten die palästinensische und israelische Koordinatorin des Projekts von ihren Erfahrungen mit dem Dialog\, den Herausforderungen ihrer politischen Arbeit vor Ort und ihren Perspektiven für einen gerechten israelisch-palästinensischen Frieden. \nDie Veranstaltungen finden auf Englisch statt\, bei Bedarf gibt es eine Übersetzung ins Deutsche \nAnmeldung unter www.wiedersprechen.org – info@wiedersprechen.org | Offizieller Flyer zur Veranstaltung
URL:https://www.evforum-bonn.de/veranstaltung/dialog-im-krieg-aktivistinnen-aus-israel-und-palaestina-berichten/
LOCATION:Haus der Ev. Kirche Bonn\, Adenauerallee 37\, Bonn\, NRW\, 53113\, Germany
CATEGORIES:Aktuelles,Haus der Ev. Kirche Bonn,Lesung - Vortrag,Veranstaltungen von Institutionen und Verbänden
ATTACH;FMTTYPE=image/jpeg:https://www.evforum-bonn.de/wp-content/uploads/2025/02/wiedersprechen-logo.jpg
ORGANIZER;CN="Projekt Wi.e.dersprechen":MAILTO:info@wiedersprechen.org
END:VEVENT
BEGIN:VEVENT
DTSTART;TZID=Europe/Berlin:20250319T190000
DTEND;TZID=Europe/Berlin:20250319T210000
DTSTAMP:20260423T121255
CREATED:20250331T104407Z
LAST-MODIFIED:20250331T104407Z
UID:10005576-1742410800-1742418000@www.evforum-bonn.de
SUMMARY:Auf der Seite der Frauen
DESCRIPTION:Am 19.03.2025 um 19 Uhr im Kirchenpavillon | Kaiserplatz 1a\n\n1999 war Schweden das erste Land der Welt\, das mit Einführung des sogenannten Nordischen Modells den Kauf sexueller Handlungen unter Strafe stellte\, nicht aber deren Verkauf. Kriminalkommissar Simon Häggström ist Leiter der Prostitutionseinheit der Stockholmer Polizeibehörde. Täglich begegnet er denen\, die unsere Gesellschaft lieber nicht sehen möchte: den prostituierten Frauen\, den Freiern und den Zuhältern. In seinem Buch Auf der Seite der Frauen erzählt er ihre Geschichten und berichtet darüber\, wie die Arbeit eines Polizisten unter dem Nordischen Modell aussieht. \nSOLWODI fordert die Einführung des Nordischen Modells in Deutschland. Mit der Lesung soll die Diskussion zum Thema angestoßen und den Teilnehmenden die Möglichkeit gegeben werden\, sich aus erster Hand über den Erfolg des Modells in Schweden zu informieren. \nOrganisiert und moderiert von AugsburgerInnen gegen Menschenhandel e.V. \nwww.solwodi.de\nwww.lea-ackermann.de
URL:https://www.evforum-bonn.de/veranstaltung/auf-der-seite-der-frauen/
LOCATION:Ev. Kirchenpavillon Bonn\, Kaiserplatz 1a\, Bonn\, NRW\, 53113\, Germany
CATEGORIES:Aktuelles,Kirchenpavillon,Kunst - Musik - Literatur,Lesung - Vortrag,Politik - Geschichte - Soziologie,Veranstaltungen von Institutionen und Verbänden
ATTACH;FMTTYPE=image/jpeg:https://www.evforum-bonn.de/wp-content/uploads/2025/03/edition-wortschatz_auf-der-seite-der-frauen_haeggstroem_cover.jpg
ORGANIZER;CN="Solwodi":MAILTO:info@solwodi.de
END:VEVENT
BEGIN:VEVENT
DTSTART;TZID=Europe/Berlin:20250319T193000
DTEND;TZID=Europe/Berlin:20250319T210000
DTSTAMP:20260423T121255
CREATED:20250805T092627Z
LAST-MODIFIED:20250805T092627Z
UID:10006111-1742412600-1742418000@www.evforum-bonn.de
SUMMARY:Lesekreis in Trinitatis
DESCRIPTION:Gemeinsam lesen\, reflektieren und entdecken wir klassische und zeitgenössische Literatur – von Goethe bis Juli Zeh\, von Weltliteratur bis Gegenwartsroman. Im Mittelpunkt steht der lebendige Austausch über Themen\, Sprache\, Stil und gesellschaftliche Relevanz der Texte. Der Lesekreis lädt zur Auseinandersetzung mit literarischen Werken ein und fördert zugleich das kritische Denken\, die sprachliche Ausdrucksfähigkeit und das Verständnis für kulturelle\, gesellschaftliche und ethische Themen. \nZielgruppe:Alle\, die Freude an guter Literatur haben und Lust auf inspirierende Gespräche mitbringen.Literaturkenntnisse sind nicht erforderlich – Offenheit und Interesse genügen. \nInformationen auf einen Blick:📆 Wann: Jeden 3. Mittwoch im Monat\, 19:30 Uhr | 📍 Wo: Gemeindehaus der Ev. Trinitatiskirchengemeinde Bonn \nEinstieg jederzeit möglich – Ansprechpartner:in: Susanne Müller Snmlrbonn@aol.com
URL:https://www.evforum-bonn.de/veranstaltung/lesekreis-in-trinitatis/2025-03-19/
LOCATION:Gemeindehaus der Trinitatiskirchengemeinde\, Brahmsstraße 14\, Bonn\, NRW\, 53121\, Germany
CATEGORIES:Bibel und Buch,Kunst - Musik - Literatur,Theologie / Philosophie,Veranstaltungen von Gemeinden,Veranstaltungsreihen
ATTACH;FMTTYPE=image/jpeg:https://www.evforum-bonn.de/wp-content/uploads/2025/01/Literaturkreis.jpg
END:VEVENT
BEGIN:VEVENT
DTSTART;TZID=Europe/Berlin:20250319T200000
DTEND;TZID=Europe/Berlin:20250319T210000
DTSTAMP:20260423T121255
CREATED:20250407T111453Z
LAST-MODIFIED:20250407T111559Z
UID:10005602-1742414400-1742418000@www.evforum-bonn.de
SUMMARY:Religiöse Kindererziehung
DESCRIPTION:Impulse zur religiösen Kindererziehung – jeden Mittwoch (außer Ferien ab 20 Uhr in der Friedenskirche \nJeden Mittwochabend (außer in den Ferien) lädt Pastorin Annette Ziegler von 20–21 Uhr in die Friedenskirche Bonn-Kessenich ein\, um zentrale Fragen der religiösen Kindererziehung zu beleuchten. Begleitend durch ausgewählte Literatur und ergänzt durch Vorträge externer Fachleute bietet die Reihe praxisnahe Impulse und Raum für Austausch. \nWeitere Informationen: Tel. 0228 23 83 71 | E-Mail: buero@friedenskirche-bonn.de \n 
URL:https://www.evforum-bonn.de/veranstaltung/religioese-kindererziehung/2025-03-19/
LOCATION:Friedenskirche\, Franz-Bücheler-Str. 10\, Bonn\, 53129 \, Deutschland
CATEGORIES:Existenzielle Fragestellungen,Lesung - Vortrag,Pädagogische Bildung,Veranstaltungen von Gemeinden,Veranstaltungsreihen,Weiterbildung allgemein
ATTACH;FMTTYPE=image/png:https://www.evforum-bonn.de/wp-content/uploads/2025/04/Religioese-Kindererziehung-e1744024216838.png
END:VEVENT
BEGIN:VEVENT
DTSTART;TZID=Europe/Berlin:20250319T200000
DTEND;TZID=Europe/Berlin:20250319T210000
DTSTAMP:20260423T121255
CREATED:20250407T111957Z
LAST-MODIFIED:20250407T111958Z
UID:10005640-1742414400-1742418000@www.evforum-bonn.de
SUMMARY:Religiöse Kindererziehung
DESCRIPTION:Impulse zur religiösen Kindererziehung – jeden Mittwoch (außer Ferien ab 20 Uhr in der Friedenskirche \nJeden Mittwochabend (außer in den Ferien) lädt Pastorin Annette Ziegler von 20–21 Uhr in die Friedenskirche Bonn-Kessenich ein\, um zentrale Fragen der religiösen Kindererziehung zu beleuchten. Begleitend durch ausgewählte Literatur und ergänzt durch Vorträge externer Fachleute bietet die Reihe praxisnahe Impulse und Raum für Austausch. \nWeitere Informationen: Tel. 0228 23 83 71 | E-Mail: buero@friedenskirche-bonn.de \n 
URL:https://www.evforum-bonn.de/veranstaltung/religioese-kindererziehung-2/2025-03-19/
LOCATION:Friedenskirche\, Franz-Bücheler-Str. 10\, Bonn\, 53129 \, Deutschland
CATEGORIES:Existenzielle Fragestellungen,Lesung - Vortrag,Pädagogische Bildung,Veranstaltungen von Gemeinden,Veranstaltungsreihen,Weiterbildung allgemein
ATTACH;FMTTYPE=image/png:https://www.evforum-bonn.de/wp-content/uploads/2025/04/Religioese-Kindererziehung-e1744024216838.png
END:VEVENT
END:VCALENDAR