BEGIN:VCALENDAR
VERSION:2.0
PRODID:-//Evangelisches Forum Bonn - ECPv6.15.20//NONSGML v1.0//EN
CALSCALE:GREGORIAN
METHOD:PUBLISH
X-ORIGINAL-URL:https://www.evforum-bonn.de
X-WR-CALDESC:Veranstaltungen für Evangelisches Forum Bonn
REFRESH-INTERVAL;VALUE=DURATION:PT1H
X-Robots-Tag:noindex
X-PUBLISHED-TTL:PT1H
BEGIN:VTIMEZONE
TZID:Europe/Berlin
BEGIN:DAYLIGHT
TZOFFSETFROM:+0100
TZOFFSETTO:+0200
TZNAME:CEST
DTSTART:20240331T010000
END:DAYLIGHT
BEGIN:STANDARD
TZOFFSETFROM:+0200
TZOFFSETTO:+0100
TZNAME:CET
DTSTART:20241027T010000
END:STANDARD
BEGIN:DAYLIGHT
TZOFFSETFROM:+0100
TZOFFSETTO:+0200
TZNAME:CEST
DTSTART:20250330T010000
END:DAYLIGHT
BEGIN:STANDARD
TZOFFSETFROM:+0200
TZOFFSETTO:+0100
TZNAME:CET
DTSTART:20251026T010000
END:STANDARD
BEGIN:DAYLIGHT
TZOFFSETFROM:+0100
TZOFFSETTO:+0200
TZNAME:CEST
DTSTART:20260329T010000
END:DAYLIGHT
BEGIN:STANDARD
TZOFFSETFROM:+0200
TZOFFSETTO:+0100
TZNAME:CET
DTSTART:20261025T010000
END:STANDARD
END:VTIMEZONE
BEGIN:VEVENT
DTSTART;TZID=Europe/Berlin:20250320T100000
DTEND;TZID=Europe/Berlin:20250320T120000
DTSTAMP:20260423T134854
CREATED:20250123T114317Z
LAST-MODIFIED:20250123T114401Z
UID:10005230-1742464800-1742472000@www.evforum-bonn.de
SUMMARY:Männerfrühstück 2025
DESCRIPTION:Für den Mann ab 70 – Frühstück mit Vortrag und Diskussion – geplant 2025 – jeden 3. Donnerstag im Monat  \nZu den Treffen gibt es meist ein Thema\, mit dem die Runde sich nach dem Frühstück auseinandersetzt: \nMan hört einen Vortrag\, diskutiert gemeinsam oder schaut einen Filmbeitrag an. Einmal im Jahr ist ein Ausflug geplant. \nDie Themen und Ausflugsziele werden gemeinsam abgestimmt. \nEine regelmäßige Teilnahme ist nicht nötig: Man kommt nach Lust und Laune! \n  \n 
URL:https://www.evforum-bonn.de/veranstaltung/maennerfruehstueck-2023-copy-copy-2-copy-copy-copy-copy-copy-copy-copy-copy-copy/
LOCATION:Gemeindehaus der Friedenskirchengemeinde\, Franz-Bücheler-Straße 10\, Bonn\, NRW\, 53129\, Germany
CATEGORIES:Veranstaltungen von Gemeinden
ATTACH;FMTTYPE=image/jpeg:https://www.evforum-bonn.de/wp-content/uploads/2025/01/Maennerfruehstueck.jpg
END:VEVENT
BEGIN:VEVENT
DTSTART;TZID=Europe/Berlin:20250320T150000
DTEND;TZID=Europe/Berlin:20250320T180000
DTSTAMP:20260423T134854
CREATED:20250123T085422Z
LAST-MODIFIED:20250123T085454Z
UID:10005217-1742482800-1742493600@www.evforum-bonn.de
SUMMARY:Frauengesprächskreis 2025
DESCRIPTION:„Alle Frauen\, die christliche Gemeinschaft suchen und ihren Beitrag dazu leisten möchten\, finden bei uns einen Platz. \n Gemeinsam tauschen wir uns aus unserer persönlichen Sicht – als Frauen – über verschiedene Themen aus.“  \nNähere Informationen bei der Leiterin: Iris Richter\, Tel. 0228 22 57 86 \ngeplant 2025 – jeden 1. Donnerstag im Monat 15.00- 18.00 Uhr (ggf. nicht in den Ferien) \nThema des Tages entnehmen Sie bitte der Gemeindehomepage – Thema: Frauengesprächskreis
URL:https://www.evforum-bonn.de/veranstaltung/frauengespraechskreis-2025-copy-copy/
LOCATION:Gemeindehaus der Friedenskirchengemeinde\, Franz-Bücheler-Straße 10\, Bonn\, NRW\, 53129\, Germany
CATEGORIES:Veranstaltungen von Gemeinden
ATTACH;FMTTYPE=image/jpeg:https://www.evforum-bonn.de/wp-content/uploads/2025/01/Papiermaennchen-Kreis.jpg
END:VEVENT
BEGIN:VEVENT
DTSTART;TZID=Europe/Berlin:20250320T190000
DTEND;TZID=Europe/Berlin:20250320T203000
DTSTAMP:20260423T134854
CREATED:20250114T120348Z
LAST-MODIFIED:20251027T075315Z
UID:10005164-1742497200-1742502600@www.evforum-bonn.de
SUMMARY:KÖNNEN wir diskutieren?! Vortrag „Digital streiten? Gegendiskurse auf Social Media“
DESCRIPTION:20.03.2025 – Haus der Bildung – Anmeldung ? Info folgt \n  \nTeil 2: Begleitveranstaltungen (März bis Mitte April 2025\, kostenfreie Teilnahme) \n\n20. März: Vortrag „Digital streiten? Gegendiskurse auf Social Media“ von Prof. Dr. Derya Gür-Şeker. Haus der Bildung\, Bonn\, 19 Uhr.\n27. März: Online-Workshop „Diskutieren im Medienwald“ 19 – ca. 20.30 Uhr.\nWorkshop „Diskutieren in analogen Situationen“ mit Ingrid Brodnig\, Haus der Ev. Kirche\, Adenauerallee 37\, Bonn. Informationen folgen in Kürze.\nVortrag von Ingrid Brodnig. Informationen folgen in Kürze.\n\nAnmeldemöglichkeiten zu den Begleitveranstaltungen werden hier demnächst bekannt gegeben. Diese Internetseite wird im Laufe des Projektzeitraums immer aktualisiert. Auch wenn Sie nicht bei den Lektüretreffen dabei sein können\, sind Sie natürlich herzlich zu den Begleitveranstaltungen eingeladen. Sie können natürlich auch nur an den Lektüretreffen teilnehmen. \nInformationen zur Veranstaltungsreihe
URL:https://www.evforum-bonn.de/veranstaltung/koennen-wir-diskutieren-drei-lektueretreffen-hdk19-02-copy/
LOCATION:Haus der Bildung\, Mühlheimer Platz 1\, Bonn\, 53111\, Deutschland
CATEGORIES:Aktuelles,Philosophisch-psychologische Kaffeehausgespräche,Veranstaltungsreihen,Wissenschaftsstadt,Zentralprogramm
ATTACH;FMTTYPE=image/jpeg:https://www.evforum-bonn.de/wp-content/uploads/2025/01/REF-Ser.jpg
ORGANIZER;CN="Ev. Akademie im Rheinland":MAILTO:info@akademie.ekir.de
END:VEVENT
END:VCALENDAR