BEGIN:VCALENDAR
VERSION:2.0
PRODID:-//Evangelisches Forum Bonn - ECPv6.15.20//NONSGML v1.0//EN
CALSCALE:GREGORIAN
METHOD:PUBLISH
X-ORIGINAL-URL:https://www.evforum-bonn.de
X-WR-CALDESC:Veranstaltungen für Evangelisches Forum Bonn
REFRESH-INTERVAL;VALUE=DURATION:PT1H
X-Robots-Tag:noindex
X-PUBLISHED-TTL:PT1H
BEGIN:VTIMEZONE
TZID:Europe/Berlin
BEGIN:DAYLIGHT
TZOFFSETFROM:+0100
TZOFFSETTO:+0200
TZNAME:CEST
DTSTART:20240331T010000
END:DAYLIGHT
BEGIN:STANDARD
TZOFFSETFROM:+0200
TZOFFSETTO:+0100
TZNAME:CET
DTSTART:20241027T010000
END:STANDARD
BEGIN:DAYLIGHT
TZOFFSETFROM:+0100
TZOFFSETTO:+0200
TZNAME:CEST
DTSTART:20250330T010000
END:DAYLIGHT
BEGIN:STANDARD
TZOFFSETFROM:+0200
TZOFFSETTO:+0100
TZNAME:CET
DTSTART:20251026T010000
END:STANDARD
BEGIN:DAYLIGHT
TZOFFSETFROM:+0100
TZOFFSETTO:+0200
TZNAME:CEST
DTSTART:20260329T010000
END:DAYLIGHT
BEGIN:STANDARD
TZOFFSETFROM:+0200
TZOFFSETTO:+0100
TZNAME:CET
DTSTART:20261025T010000
END:STANDARD
END:VTIMEZONE
BEGIN:VEVENT
DTSTART;TZID=Europe/Berlin:20250401T180000
DTEND;TZID=Europe/Berlin:20250401T193000
DTSTAMP:20260423T151639
CREATED:20250324T101916Z
LAST-MODIFIED:20250324T102124Z
UID:10005571-1743530400-1743535800@www.evforum-bonn.de
SUMMARY:zeitzeichen: KI und Religion
DESCRIPTION:Am 01. April 2025 – 18 Uhr Online via Zoom (Anmeldung per Mail an redaktion@zeitzeichen.net) \nKünstliche Intelligenz ist kein Zukunftsthema mehr\, sondern Gegenwart. Wir nutzen sie bereits an vielen Stellen\, manchmal ohne\, dass wir es merken. Aber kann KI auch für religiöse Zwecke genutzt werden? Welche Rolle wird KI in der Kirche und der religiösen Praxis spielen? Und wo liegen die ethischen Grenzen? \n  \nÜber diese Fragen haben Autor:innen in den vergangenen Monaten in zeitzeichen geschrieben\, am 1.April um 18 Uhr können Sie als Abonnent:in mit ihnen in unserem digitalen Salon diskutieren. Dort erwarten Sie folgende Expert:innen: \nIlona Nord ist Professorin für Praktische Theologie in Würzburg und hält nichts von einer Skandalisierung der KI und ihres Einsatzes auch im kirchlichen Bereich. In Ihrem Beitrag für zeitzeichen kommt sie zu dem Schluss: „Längst ist die Technik fester Bestandteil in der Arbeit an unserem Lebenssinn: beim Predigtvorbereiten\, beim Redenschreiben\, beim Systematisieren von Projektbeschreibungen. Wir leben „Du auf Du“ mit einer kommunikativen KI\, die darauf wartet\, dass wir sie und vor allem uns selbst in Kommunikation mit ihr besser kennenlernen.“ \nPeter Zimmerling war bis vor kurzem außerplanmäßiger Professor für Praktische Theologie an der Universität Leipzig mit dem Schwerpunkt Seelsorge und Spiritualität. Nach seiner Meinung kann KI als nicht nur als Unterstützung und als Hilfsmittel in der Seelsorgeausbildung\, sondern auch als eigenständiges Instrument der Seelsorge dienen. Denn durch den zunehmenden Mangel an Hauptamtlichen in der Kirche\, stünden immer weniger professionelle Seelsorger:innen zur Verfügung. Angesichts dieser Situation könnte KI Suchenden eine Form von Selbstseelsorge bieten. \nDr. Constantin Gröhn ist wissenschaftlicher Referent für Theologie und Wirtschaftsethik beim Kirchlichen Dienst in der Arbeitswelt der Nordkirche. In zeitzeichen beschreibt er die moralische Herausforderung\, die der Einsatz von KI für Kirche bedeutet. Wie gehen wir mit einer Technologie um\, die einen Vorteil für die derzeit Nutzenden bringen kann\, aber auch erheblicheökologische und ethische Gerechtigkeits-Fragen aufwirft? Er ist der Meinung\, der wahre Beitrag der Kirche könne in einer Ethik des Genug liegen. \nDr. Hans D. Baumann ist Kulturwissenschaftler in Kassel und hat in der Märzausgabe von zeitzeichen von KI generierte Jesus-Bilder präsentiert. Das verblüffende Ergebnis\, etwa das „Foto“ der Büste eines lachenden Jesus aus dem Barock oder die Rekonstruktion eines Gesichtes aus dem Turiner Grabtuch\, kommentiert er so: „Während die meisten Kunstwissenschaftler der Meinung sind\, KI könne keine Kunstwerke erschaffen\, weil sie kein Subjekt mit Intentionen sei\, frage ich mich\, ob das ästhetische Erlebnis einer Bildbetrachtung und -interpretation wirklich davon abhängen kann und sollte\, dass Betrachter ein Vorwissen über den Entstehungsprozess eines Bildes mitbringen?“ \nDie Moderation übernimmt zeitzeichen-Redakteur Stephan Kosch. \nMöchten Sie mitdiskutieren? Melden Sie sich per Mail an: redaktion@zeitzeichen.net \nSie erhalten rechtzeitig einen Link zu unserem digitalen Salon via zoom. Wir freuen uns auf Sie!
URL:https://www.evforum-bonn.de/veranstaltung/zeitzeichen-ki-und-religion/
LOCATION:ONLINE via Zoom\, externer Zoom Link\, Germany
CATEGORIES:Aktuelles,KI Künstliche Intelligenz - Digital,Lesung - Vortrag,Theologie / Philosophie,Veranstaltungen von Institutionen und Verbänden,Veranstaltungsreihen
ATTACH;FMTTYPE=image/jpeg:https://www.evforum-bonn.de/wp-content/uploads/2025/03/zeitzeichen-e1742811375789.jpg
END:VEVENT
BEGIN:VEVENT
DTSTART;TZID=Europe/Berlin:20250401T193000
DTEND;TZID=Europe/Berlin:20250401T203000
DTSTAMP:20260423T151639
CREATED:20250725T113808Z
LAST-MODIFIED:20250725T113808Z
UID:10006031-1743535800-1743539400@www.evforum-bonn.de
SUMMARY:Lindy Hop | Offener Tanzunterricht
DESCRIPTION:Lindy Hop ist ein beschwingter Swing-Tanzstil mit Wurzeln in der afroamerikanischen Kultur der 1930er Jahre. In diesem offenen Tanzunterricht steht nicht nur die Freude an Bewegung im Mittelpunkt\, sondern auch das gemeinschaftliche Lernen: Vom ersten Grundschritt bis zur Improvisation können alle – mit oder ohne Vorkenntnisse – neue Schritte erlernen\, Koordination und Rhythmusgefühl schulen und dabei die Geschichte eines kulturell bedeutenden Tanzstils kennenlernen. \nDie Abende bieten Raum für Begegnung\, körperliche Aktivität und kulturelle Bildung – immer in respektvoller Atmosphäre und mit viel Spaß. Kommen Sie vorbei\, tanzen Sie mit! \n📍 Ort: Melanchthonhaus der Kreuzkirche📩 Anmeldung & Infos: lindyhop@justmail.de🕒 Wöchentlich dienstags um 19:30 Uhr (außer ggf. in den Ferien und an Feiertagen)
URL:https://www.evforum-bonn.de/veranstaltung/lindy-hop-offener-tanzunterricht/2025-04-01/
LOCATION:Melanchthon Haus der Kreuzkirche\, An der Evangelischen Kirche 6\, Bonn\, NRW\, 53113\, Germany
CATEGORIES:Gesundheit - Krankheit - Medizin,Lindy Hop,Tanz - Bewegung - Gesundheit,Veranstaltungen von Gemeinden,Veranstaltungsreihen
ATTACH;FMTTYPE=image/jpeg:https://www.evforum-bonn.de/wp-content/uploads/2025/07/Lindy-Hop_Foto-by-Lindy-Hop-e1753443452177.jpg
END:VEVENT
BEGIN:VEVENT
DTSTART;TZID=Europe/Berlin:20250401T193000
DTEND;TZID=Europe/Berlin:20250401T210000
DTSTAMP:20260423T151639
CREATED:20250401T105326Z
LAST-MODIFIED:20250401T105326Z
UID:10005578-1743535800-1743541200@www.evforum-bonn.de
SUMMARY:Den Geheimnissen des Sternenhimmels auf der Spur
DESCRIPTION:Am 01. April 2025 um 19:30 Uhr – Ev. Gemeindezentrum Hersel\nDer Ökumenische Sachausschuss „Miteinander Kirche (be)leben“ hat den Roisdorfer Astronom Dr. Michael Geffert zu Gast\, der eine Einführung in die Geheimnisse des Sternenhimmels gibt. \nFaszinierend\, aber auch voller Rätsel\, erscheinen den Menschen die Phänomene des Nachthimmels. Einerseits sind es die unmittelbar sichtbaren Erfahrungen wie Kometen\, Sternschnuppen und Sonnen- und Mondfinsternisse\, die unser Interesse wecken. Andererseits bewegen uns Fragen nach schwarzen Löchern\, der Krümmung von Raum und Zeit und der Möglichkeit nach Leben im Universum. In dem Vortrag wird die Arbeit der Astronomen in allgemein verständlicher Sprache vorgestellt. \nKostenbeitrag:       8 Euro (incl. Sternenlicher-Cocktail u. Snacks)\nAnmeldung:           U. Radeloff-Schaaf\, sachausschusshersel@web.de
URL:https://www.evforum-bonn.de/veranstaltung/den-geheimnissen-des-sternenhimmels-auf-der-spur/
LOCATION:Ev. Gemeindezentrum Hersel\, Mertensgasse 17a\, Bornheim-Hersel\, NRW\, 53332\, Germany
CATEGORIES:Aktuelles,Fort- und Weiterbildung,Lesung - Vortrag,Theologie / Philosophie,Veranstaltungen von Gemeinden,Weiterbildung allgemein,Zentralprogramm
ATTACH;FMTTYPE=image/jpeg:https://www.evforum-bonn.de/wp-content/uploads/2025/04/Sternenhimmel-e1743504595973.jpg
ORGANIZER;CN="Ev. Emmaus-Kirchengemeinde an Rhein u. Vorgebirge (Hersel)":MAILTO:gemeindebuero.hersel@ekir.de
END:VEVENT
END:VCALENDAR