BEGIN:VCALENDAR
VERSION:2.0
PRODID:-//Evangelisches Forum Bonn - ECPv6.15.20//NONSGML v1.0//EN
CALSCALE:GREGORIAN
METHOD:PUBLISH
X-WR-CALNAME:Evangelisches Forum Bonn
X-ORIGINAL-URL:https://www.evforum-bonn.de
X-WR-CALDESC:Veranstaltungen für Evangelisches Forum Bonn
REFRESH-INTERVAL;VALUE=DURATION:PT1H
X-Robots-Tag:noindex
X-PUBLISHED-TTL:PT1H
BEGIN:VTIMEZONE
TZID:Europe/Berlin
BEGIN:DAYLIGHT
TZOFFSETFROM:+0100
TZOFFSETTO:+0200
TZNAME:CEST
DTSTART:20240331T010000
END:DAYLIGHT
BEGIN:STANDARD
TZOFFSETFROM:+0200
TZOFFSETTO:+0100
TZNAME:CET
DTSTART:20241027T010000
END:STANDARD
BEGIN:DAYLIGHT
TZOFFSETFROM:+0100
TZOFFSETTO:+0200
TZNAME:CEST
DTSTART:20250330T010000
END:DAYLIGHT
BEGIN:STANDARD
TZOFFSETFROM:+0200
TZOFFSETTO:+0100
TZNAME:CET
DTSTART:20251026T010000
END:STANDARD
BEGIN:DAYLIGHT
TZOFFSETFROM:+0100
TZOFFSETTO:+0200
TZNAME:CEST
DTSTART:20260329T010000
END:DAYLIGHT
BEGIN:STANDARD
TZOFFSETFROM:+0200
TZOFFSETTO:+0100
TZNAME:CET
DTSTART:20261025T010000
END:STANDARD
END:VTIMEZONE
BEGIN:VEVENT
DTSTART;TZID=Europe/Berlin:20250403T150000
DTEND;TZID=Europe/Berlin:20250403T180000
DTSTAMP:20260423T134621
CREATED:20250123T085501Z
LAST-MODIFIED:20250123T085543Z
UID:10005218-1743692400-1743703200@www.evforum-bonn.de
SUMMARY:Frauengesprächskreis 2025
DESCRIPTION:„Alle Frauen\, die christliche Gemeinschaft suchen und ihren Beitrag dazu leisten möchten\, finden bei uns einen Platz. \n Gemeinsam tauschen wir uns aus unserer persönlichen Sicht – als Frauen – über verschiedene Themen aus.“  \nNähere Informationen bei der Leiterin: Iris Richter\, Tel. 0228 22 57 86 \ngeplant 2025 – jeden 1. Donnerstag im Monat 15.00- 18.00 Uhr (ggf. nicht in den Ferien) \nThema des Tages entnehmen Sie bitte der Gemeindehomepage – Thema: Frauengesprächskreis
URL:https://www.evforum-bonn.de/veranstaltung/frauengespraechskreis-2025-copy-copy-copy/
LOCATION:Gemeindehaus der Friedenskirchengemeinde\, Franz-Bücheler-Straße 10\, Bonn\, NRW\, 53129\, Germany
CATEGORIES:Veranstaltungen von Gemeinden
ATTACH;FMTTYPE=image/jpeg:https://www.evforum-bonn.de/wp-content/uploads/2025/01/Papiermaennchen-Kreis.jpg
END:VEVENT
BEGIN:VEVENT
DTSTART;TZID=Europe/Berlin:20250403T160000
DTEND;TZID=Europe/Berlin:20250403T173000
DTSTAMP:20260423T134621
CREATED:20250815T084828Z
LAST-MODIFIED:20250815T084906Z
UID:10006161-1743696000-1743701400@www.evforum-bonn.de
SUMMARY:Christlich-Jüdisches Cafè
DESCRIPTION:Der Gesprächskreis zwischen Juden und Christen bietet Raum für einen offenen Dialog und gegenseitiges Verständnis. In wechselnden Themenabenden sprechen Referentinnen und Referenten aus jüdischer und christlicher Perspektive über Glaubensfragen\, Geschichte\, Kultur und aktuelle gesellschaftliche Entwicklungen. \n\nEinmal im Monat jeden 1. Donnerstag (außer in den Ferien/ an Feiertagen) sind Interessierte von 16 – ca\,. 17:30 Uhr herzlich eingeladen\, sich einzubringen\, Fragen zu stellen und im gemeinsamen Gespräch neue Blickwinkel zu entdecken. \n\nOrt: Meist im Gemeindesaal der Kreuzkirche\, Adenauerallee 6\, Bonn (Abweichungen möglich – bitte Ankündigung beachten)Veranstalter: Gesellschaft für Christlich-Jüdische Zusammenarbeit Bonn e.V.Weitere Informationen: www.gcjz-bonn.de · info@gcjz-bonn.de
URL:https://www.evforum-bonn.de/veranstaltung/christlich-juedisches-cafe-25-04/
LOCATION:Gemeindehaus/ -zentrum der Ev. Kreuzkirche\, An der Evangelischen Kirche 6\, Bonn\, NRW\, 53113
CATEGORIES:Bildung & Café,Migration - Kultur - Kultureller Austausch,Philosophisch-psychologische Kaffeehausgespräche,Politik - Geschichte - Soziologie,Theologie / Philosophie,Veranstaltungen von Gemeinden,Veranstaltungen von Institutionen und Verbänden,Veranstaltungsreihen
ATTACH;FMTTYPE=image/jpeg:https://www.evforum-bonn.de/wp-content/uploads/2025/06/Christlich-Juedisches-Cafe-e1750936329504.jpg
ORGANIZER;CN="GCJZ Gesellschaft f%C3%BCr Christlich-J%C3%BCdische Zusammenarbeit Bonn e.V.":MAILTO:info@gcjz-bonn.de
END:VEVENT
END:VCALENDAR