BEGIN:VCALENDAR
VERSION:2.0
PRODID:-//Evangelisches Forum Bonn - ECPv6.15.20//NONSGML v1.0//EN
CALSCALE:GREGORIAN
METHOD:PUBLISH
X-ORIGINAL-URL:https://www.evforum-bonn.de
X-WR-CALDESC:Veranstaltungen für Evangelisches Forum Bonn
REFRESH-INTERVAL;VALUE=DURATION:PT1H
X-Robots-Tag:noindex
X-PUBLISHED-TTL:PT1H
BEGIN:VTIMEZONE
TZID:Europe/Berlin
BEGIN:DAYLIGHT
TZOFFSETFROM:+0100
TZOFFSETTO:+0200
TZNAME:CEST
DTSTART:20240331T010000
END:DAYLIGHT
BEGIN:STANDARD
TZOFFSETFROM:+0200
TZOFFSETTO:+0100
TZNAME:CET
DTSTART:20241027T010000
END:STANDARD
BEGIN:DAYLIGHT
TZOFFSETFROM:+0100
TZOFFSETTO:+0200
TZNAME:CEST
DTSTART:20250330T010000
END:DAYLIGHT
BEGIN:STANDARD
TZOFFSETFROM:+0200
TZOFFSETTO:+0100
TZNAME:CET
DTSTART:20251026T010000
END:STANDARD
BEGIN:DAYLIGHT
TZOFFSETFROM:+0100
TZOFFSETTO:+0200
TZNAME:CEST
DTSTART:20260329T010000
END:DAYLIGHT
BEGIN:STANDARD
TZOFFSETFROM:+0200
TZOFFSETTO:+0100
TZNAME:CET
DTSTART:20261025T010000
END:STANDARD
END:VTIMEZONE
BEGIN:VEVENT
DTSTART;TZID=Europe/Berlin:20250404T150000
DTEND;TZID=Europe/Berlin:20250404T170000
DTSTAMP:20260423T151642
CREATED:20250123T112425Z
LAST-MODIFIED:20250123T112455Z
UID:10005224-1743778800-1743786000@www.evforum-bonn.de
SUMMARY:Literaturkreis der Friedenskirchengemeinde
DESCRIPTION:„Im Literaturkreis für Erwachsene besprechen wir monatlich Bücher. Zuweilen tauschen wir uns mit Autor*innen und Buchhändler*innen über ihre und andere angesagte Texte aus.“\n\ngeplant 2025 – jeden 1. Freitag im Monat 15.00- 17.00 Uhr (ggf. nicht in den Ferien) \nThema des Tages entnehmen Sie bitte der Gemeindehomepage – Evangelische Friedenskirchengemeinde Bonn
URL:https://www.evforum-bonn.de/veranstaltung/literaturkreis-der-friedenskirchengemeinde-copy-copy/
LOCATION:Gemeindehaus der Friedenskirchengemeinde\, Franz-Bücheler-Straße 10\, Bonn\, NRW\, 53129\, Germany
CATEGORIES:Veranstaltungen von Gemeinden
ATTACH;FMTTYPE=image/jpeg:https://www.evforum-bonn.de/wp-content/uploads/2025/01/Literaturkreis.jpg
END:VEVENT
BEGIN:VEVENT
DTSTART;TZID=Europe/Berlin:20250404T193000
DTEND;TZID=Europe/Berlin:20250404T210000
DTSTAMP:20260423T151642
CREATED:20250206T114108Z
LAST-MODIFIED:20250325T083412Z
UID:10005373-1743795000-1743800400@www.evforum-bonn.de
SUMMARY:Zeit für Bildung - Altarbilder aus Kloster Heisterbach
DESCRIPTION:Verlorene Schätze wiedergefunden\n\n04.04.2025 – Evangelische Markuskirche in Hemmerich\nRheinromantik pur\, das ist die Ruine Heisterbach im Siebengebirge heute. \nUnter den großen rheinischen Zisterzienserklöstern konnte einzig die Abtei Heisterbach ihre spätromanische Kirche aus der Stauferzeit bis zur Säkularisation 1803 fast unversehrt erhalten. Aber dann? Was ist mit den wunderbaren Altarbildern im Stil von Stefan Lochner passiert? \nHeidrun Wirth ist der spannenden Frage nach den verschollenen Heisterbacher Altarbildern in München und Bamberg nachgegangen. Sie war in der Alten Pinakothek\, der Bamberger Gemäldegalerie und im Kölner Wallraf Museum. Die prunkvollen Gemälde werden Stefan Lochner\, dem bedeutendsten Maler der ausgehenden Gotik\, oder seiner Werkstatt zugeschrieben. \nReferent:             Dr. Heidrun Wirth\, Kunstjournalistin \nAnmeldung:        Bitte unter evelyn.geupel@t-online.de \nBei unseren Veranstaltungen gibt es keine Zugangsbeschränkungen. – Die Kirche ist barrierefrei erreichbar – Der Eintritt ist frei!
URL:https://www.evforum-bonn.de/veranstaltung/zeit-fuer-bildung-04-25/
LOCATION:Ev. Markuskirche Hemmerich\, Rösberger Strasse 35\, Bornheim - Hemmerich\, NRW\, 53332\, Deutschland
CATEGORIES:Aktuelles,Veranstaltungen von Gemeinden,Veranstaltungsreihen,Zeit für Bildung
ATTACH;FMTTYPE=image/jpeg:https://www.evforum-bonn.de/wp-content/uploads/2025/02/Altar-Heisterbach.jpg
ORGANIZER;CN="Ev. Emmaus-Kirchengemeinde an Rhein u. Vorgebirge (Vorgebirge)":MAILTO:vorgebirge@ekir.de
END:VEVENT
END:VCALENDAR