BEGIN:VCALENDAR
VERSION:2.0
PRODID:-//Evangelisches Forum Bonn - ECPv6.15.20//NONSGML v1.0//EN
CALSCALE:GREGORIAN
METHOD:PUBLISH
X-ORIGINAL-URL:https://www.evforum-bonn.de
X-WR-CALDESC:Veranstaltungen für Evangelisches Forum Bonn
REFRESH-INTERVAL;VALUE=DURATION:PT1H
X-Robots-Tag:noindex
X-PUBLISHED-TTL:PT1H
BEGIN:VTIMEZONE
TZID:Europe/Berlin
BEGIN:DAYLIGHT
TZOFFSETFROM:+0100
TZOFFSETTO:+0200
TZNAME:CEST
DTSTART:20240331T010000
END:DAYLIGHT
BEGIN:STANDARD
TZOFFSETFROM:+0200
TZOFFSETTO:+0100
TZNAME:CET
DTSTART:20241027T010000
END:STANDARD
BEGIN:DAYLIGHT
TZOFFSETFROM:+0100
TZOFFSETTO:+0200
TZNAME:CEST
DTSTART:20250330T010000
END:DAYLIGHT
BEGIN:STANDARD
TZOFFSETFROM:+0200
TZOFFSETTO:+0100
TZNAME:CET
DTSTART:20251026T010000
END:STANDARD
BEGIN:DAYLIGHT
TZOFFSETFROM:+0100
TZOFFSETTO:+0200
TZNAME:CEST
DTSTART:20260329T010000
END:DAYLIGHT
BEGIN:STANDARD
TZOFFSETFROM:+0200
TZOFFSETTO:+0100
TZNAME:CET
DTSTART:20261025T010000
END:STANDARD
END:VTIMEZONE
BEGIN:VEVENT
DTSTART;TZID=Europe/Berlin:20250405T090000
DTEND;TZID=Europe/Berlin:20250405T150000
DTSTAMP:20260423T134758
CREATED:20250110T164526Z
LAST-MODIFIED:20260209T092759Z
UID:10005128-1743843600-1743865200@www.evforum-bonn.de
SUMMARY:Prävention - Leitungsschulung (Intensiv 6h) Online
DESCRIPTION:Fortbildungen zur Prävention von sexualisierter Gewalt \n \nDie Evangelische Kirche in Bonn lebt durch die lebendigen Beziehungen der Menschen miteinander und mit Gott. \nIn der Arbeit mit Kindern\, Jugendlichen und Erwachsenen entsteht eine persönliche Nähe und Gemeinschaft\, die von Vertrauen geprägt ist.\nUm sicher aufwachsen und leben zu können benötigen Kinder und Jugendliche Ansprechpartner*innen\, denen sie vertrauen können und die ihnen Zuwendung und Geborgenheit schenken. Sie brauchen Menschen\, die sie stark machen\, sie unterstützen\, Schutz und Sicherheit bieten und auf sie Acht geben. \nDas Evangelische Forum Bonn bietet Präventionsfortbildungen zum Thema sexualisierter Gewalt für ehrenamtliche Mitarbeiter*innen an. \nBitte sprechen Sie mit Ihrer Kirchengemeinde bzw. Organisation\, für die Sie ehrenamtlich arbeiten\, ab\, welche Fortbildung für Sie geeignet ist. \n Die Kursgebühren werden in der Regel von den entsprechenden Kirchengemeinden bzw. Organisationen übernommen. \nWenn Sie Fragen haben\, melden Sie sich bitte unter: info@evforum-bonn.de oder 0228 6880 321 \nEine Übersicht aller angebotenen Schulungstermine finden Sie auch hier: https://www.evforum-bonn.de/start/praeventionsschulungen/ \n  \nReferentin: Frau Merle Wieschhoff – www.merle-wieschhoff.de
URL:https://www.evforum-bonn.de/veranstaltung/praeventionsschulung-achtgeben-stark-machen-leitungsschulung-2025-05-04/
LOCATION:ONLINE via Zoom\, externer Zoom Link\, Germany
CATEGORIES:Fort- und Weiterbildung,Präventionsschulung,Veranstaltungsreihen
ATTACH;FMTTYPE=image/jpeg:https://www.evforum-bonn.de/wp-content/uploads/2025/01/achtgeben_starkmachen-1.jpg
ORGANIZER;CN="Evangelisches Forum Bonn":MAILTO:info@evforum-bonn.de
END:VEVENT
BEGIN:VEVENT
DTSTART;TZID=Europe/Berlin:20250405T090000
DTEND;TZID=Europe/Berlin:20250405T180000
DTSTAMP:20260423T134758
CREATED:20250813T103435Z
LAST-MODIFIED:20250813T103634Z
UID:10006146-1743843600-1743876000@www.evforum-bonn.de
SUMMARY:Modul 6/10 Kriminalität / Überbringen der Todesnachricht
DESCRIPTION:Interne Kursveranstaltung. Dieses Modul ist Teil der Ausbildung Notfallseelsorge Bonn/Rhein-Sieg (10 Ganztagsmodule\, 09:00–18:00 Uhr).\nDie Teilnahme ist nur nach Zulassung möglich. 👉 Dieser Termin dient der Übersicht für eingeschriebene Teilnehmende. \nHinweise zur Anmeldung:\nDie Anmeldung erfolgt zweistufig (Vormerkung & telefonisches Vorgespräch – danach schriftliche Anmeldung).\nAlle Infos zum Verfahren: evforum-bonn.de/ausbildungskurs-zum-zur-notfallseelsorger-in \nOrganisatorisches (fix für alle Module): \n\nUhrzeit: 09:00–18:00 Uhr\nOrt: Collegium Josephinum Bonn (sofern nicht anders angegeben)\n\nGeplante Termine (jeden 1. Samstag im Monat\, außer in Ferien NRW & an Feiertagen):
URL:https://www.evforum-bonn.de/veranstaltung/ausbildung-notfallseelsorge_modul-6-von-10-2025/
LOCATION:Collegium Josephinum Bonn\, Kölnstraße 413\, Bonn\, NRW\, 53117\, Germany
CATEGORIES:Lehrgang | Kurs,Notfallseelsorge - Ausbildungskurs,Veranstaltungen von Institutionen und Verbänden,Veranstaltungsreihen
ATTACH;FMTTYPE=image/png:https://www.evforum-bonn.de/wp-content/uploads/2025/08/notfallseelsorge_logo_kursiv-1.png
ORGANIZER;CN="Notfallseelsorge Bonn Rhein-Sieg":MAILTO:info@nfs-bn-rsk.de
END:VEVENT
BEGIN:VEVENT
DTSTART;TZID=Europe/Berlin:20250405T100000
DTEND;TZID=Europe/Berlin:20250405T140000
DTSTAMP:20260423T134758
CREATED:20250509T084851Z
LAST-MODIFIED:20250509T085142Z
UID:10005669-1743847200-1743861600@www.evforum-bonn.de
SUMMARY:Repair Café
DESCRIPTION:Jeden 1. Samstag (außer in den Ferien und an Feiertagen) im Monat von 10 – 14 Uhr im Gemeindehaus der Auferstehungskirchengemeinde | Haager Weg 40\n\nAus Alt mach Neu – gemeinsam reparieren statt wegwerfen!Beim Repair-Café im Gemeindehaus stehen Nachhaltigkeit und Gemeinschaft im Mittelpunkt: Bringen Sie defekte Haushaltsgeräte\, Fahrräder oder tragbare Alltagsgegenstände mit – unser ehrenamtliches Team hilft Ihnen dabei\, sie wieder flott zu machen. \nReparieren spart Geld\, schont Ressourcen und setzt ein Zeichen gegen die Wegwerfgesellschaft. Ob kleiner Schaden oder große Hoffnung – wir freuen uns auf Ihren Besuch und viele spannende Reparaturprojekte!
URL:https://www.evforum-bonn.de/veranstaltung/repair-cafe-25-04/
LOCATION:Gemeindehaus der Ev. Auferstehungskirche\, Haager Weg 40\, Bonn\, NRW\, 53127\, Germany
CATEGORIES:Repair Café,Ressourcen - Umwelt - Klima,Veranstaltungen von Gemeinden,Veranstaltungsreihen
ATTACH;FMTTYPE=image/jpeg:https://www.evforum-bonn.de/wp-content/uploads/2025/05/repaircafe-Auferstehungskirchengemeinde-Auerberg-e1746780233931.jpg
ORGANIZER;CN="Ev. Kirchengemeinde im Bonner Westen (Auferstehung)":MAILTO:carla.hornberger@ekir.de
END:VEVENT
BEGIN:VEVENT
DTSTART;TZID=Europe/Berlin:20250405T140000
DTEND;TZID=Europe/Berlin:20250412T170000
DTSTAMP:20260423T134758
CREATED:20250204T092920Z
LAST-MODIFIED:20250704T071408Z
UID:10005326-1743861600-1744477200@www.evforum-bonn.de
SUMMARY:Repair-Café – gemeinschaftlich reparieren
DESCRIPTION:Entdecken Sie das Repair Café an ausgewählten Terminen im Jahr 2025 – Gemeindezentrum ARCHE Sechtem \nHaben Sie Dinge zu Hause\, die vielleicht reparierbar sind\, aber nicht mehr funktionieren? Wegwerfen ist keine Option! \nBesuchen Sie unser Repair Café\, wo Werkzeuge und Fachwissen für Ihre Reparaturen bereitstehen. Hier findet nicht nur die Reparatur\, sondern auch ein wertvoller Austausch über den verantwortlichen Umgang mit Ressourcen statt. Tauschen Sie sich aus\, lernen Sie und genießen Sie die Gemeinschaft – und das alles\, während Sie wertvolle Ressourcen schonen. Nehmen Sie teil am nachhaltigen Kreislauf und schätzen Sie die Kunst des Reparierens neu. \n 
URL:https://www.evforum-bonn.de/veranstaltung/repair-cafe-2025-copy-copy/
LOCATION:Gemeindezentrum ARCHE Sechtem\, Graue-Burg-Straße 48\, Bornheim\, 53332\, Deutschland
CATEGORIES:Repair Café,Ressourcen - Umwelt - Klima,Veranstaltungen von Gemeinden,Veranstaltungsreihen
ATTACH;FMTTYPE=image/jpeg:https://www.evforum-bonn.de/wp-content/uploads/2025/02/repair-cafe-e1738660760187.jpg
ORGANIZER;CN="Ev. Emmaus-Kirchengemeinde an Rhein u. Vorgebirge (Hersel)":MAILTO:gemeindebuero.hersel@ekir.de
END:VEVENT
BEGIN:VEVENT
DTSTART;TZID=Europe/Berlin:20250405T180000
DTEND;TZID=Europe/Berlin:20250405T193000
DTSTAMP:20260423T134758
CREATED:20250404T071557Z
LAST-MODIFIED:20250404T071741Z
UID:10005588-1743876000-1743881400@www.evforum-bonn.de
SUMMARY:Literaturgottesdienst - Literatur trifft Bibel
DESCRIPTION:Am 05. April 2025 um 18 Uhr in der Kreuzkirche Bonn\nIm Rahmen eines besonderen Literaturgottesdienstes steht das Buch „Zwei alte Frauen“ der indigenen Autorin Velma Wallis im Mittelpunkt. Die Erzählung bietet Anlass zu biblischer Reflexion und lädt zur Auseinandersetzung mit Themen wie Resilienz\, Alter und Gemeinschaft ein – begleitet von Orgelmusik und geistlichen Impulsen. Ein berührender Bildungsabend in liturgischer Form. \nMitwirkende: Pfarrerin Margitta Kruppa | Berthold Wicke\, Orgel \nKein Eintritt – Keine Anmeldung \nTermine der Ev. Kreuzkirchengemeinde Bonn
URL:https://www.evforum-bonn.de/veranstaltung/literaturgottesdienst-literatur-trifft-bibel/
LOCATION:Ev. Kreuzkirche Bonn\, Kaiserplatz 1\, Bonn\, 53113
CATEGORIES:Bibel - Bibelgespräch,Bibel und Buch,Existenzielle Fragestellungen,Gottesdienst und Bildung,Lesung - Vortrag,Theologie / Philosophie,Veranstaltungen von Gemeinden
ATTACH;FMTTYPE=image/jpeg:https://www.evforum-bonn.de/wp-content/uploads/2025/04/Kreuzkirche-e1743750626578.jpeg
END:VEVENT
END:VCALENDAR