BEGIN:VCALENDAR
VERSION:2.0
PRODID:-//Evangelisches Forum Bonn - ECPv6.15.20//NONSGML v1.0//EN
CALSCALE:GREGORIAN
METHOD:PUBLISH
X-WR-CALNAME:Evangelisches Forum Bonn
X-ORIGINAL-URL:https://www.evforum-bonn.de
X-WR-CALDESC:Veranstaltungen für Evangelisches Forum Bonn
REFRESH-INTERVAL;VALUE=DURATION:PT1H
X-Robots-Tag:noindex
X-PUBLISHED-TTL:PT1H
BEGIN:VTIMEZONE
TZID:Europe/Berlin
BEGIN:DAYLIGHT
TZOFFSETFROM:+0100
TZOFFSETTO:+0200
TZNAME:CEST
DTSTART:20240331T010000
END:DAYLIGHT
BEGIN:STANDARD
TZOFFSETFROM:+0200
TZOFFSETTO:+0100
TZNAME:CET
DTSTART:20241027T010000
END:STANDARD
BEGIN:DAYLIGHT
TZOFFSETFROM:+0100
TZOFFSETTO:+0200
TZNAME:CEST
DTSTART:20250330T010000
END:DAYLIGHT
BEGIN:STANDARD
TZOFFSETFROM:+0200
TZOFFSETTO:+0100
TZNAME:CET
DTSTART:20251026T010000
END:STANDARD
BEGIN:DAYLIGHT
TZOFFSETFROM:+0100
TZOFFSETTO:+0200
TZNAME:CEST
DTSTART:20260329T010000
END:DAYLIGHT
BEGIN:STANDARD
TZOFFSETFROM:+0200
TZOFFSETTO:+0100
TZNAME:CET
DTSTART:20261025T010000
END:STANDARD
END:VTIMEZONE
BEGIN:VEVENT
DTSTART;TZID=Europe/Berlin:20250405T140000
DTEND;TZID=Europe/Berlin:20250412T170000
DTSTAMP:20260423T134541
CREATED:20250204T092920Z
LAST-MODIFIED:20250704T071408Z
UID:10005326-1743861600-1744477200@www.evforum-bonn.de
SUMMARY:Repair-Café – gemeinschaftlich reparieren
DESCRIPTION:Entdecken Sie das Repair Café an ausgewählten Terminen im Jahr 2025 – Gemeindezentrum ARCHE Sechtem \nHaben Sie Dinge zu Hause\, die vielleicht reparierbar sind\, aber nicht mehr funktionieren? Wegwerfen ist keine Option! \nBesuchen Sie unser Repair Café\, wo Werkzeuge und Fachwissen für Ihre Reparaturen bereitstehen. Hier findet nicht nur die Reparatur\, sondern auch ein wertvoller Austausch über den verantwortlichen Umgang mit Ressourcen statt. Tauschen Sie sich aus\, lernen Sie und genießen Sie die Gemeinschaft – und das alles\, während Sie wertvolle Ressourcen schonen. Nehmen Sie teil am nachhaltigen Kreislauf und schätzen Sie die Kunst des Reparierens neu. \n 
URL:https://www.evforum-bonn.de/veranstaltung/repair-cafe-2025-copy-copy/
LOCATION:Gemeindezentrum ARCHE Sechtem\, Graue-Burg-Straße 48\, Bornheim\, 53332\, Deutschland
CATEGORIES:Repair Café,Ressourcen - Umwelt - Klima,Veranstaltungen von Gemeinden,Veranstaltungsreihen
ATTACH;FMTTYPE=image/jpeg:https://www.evforum-bonn.de/wp-content/uploads/2025/02/repair-cafe-e1738660760187.jpg
ORGANIZER;CN="Ev. Emmaus-Kirchengemeinde an Rhein u. Vorgebirge (Hersel)":MAILTO:gemeindebuero.hersel@ekir.de
END:VEVENT
BEGIN:VEVENT
DTSTART;TZID=Europe/Berlin:20250406T110000
DTEND;TZID=Europe/Berlin:20250406T140000
DTSTAMP:20260423T134541
CREATED:20250807T083728Z
LAST-MODIFIED:20250807T084857Z
UID:10006125-1743937200-1743948000@www.evforum-bonn.de
SUMMARY:Kirche kunterbunt
DESCRIPTION:Spielen\, toben\, quatschen\, kreativ sein – und vor allem: zusammen Zeit verbringen!Viermal im Jahr laden die evangelischen Gemeinden in Bad Godesberg zur bunten Familienzeit ein. Willkommen sind Babys\, Kinder\, Eltern\, Großeltern – und alle\, die einen lebendigen Sonntagnachmittag mitgestalten möchten. \nWir sagen gemeinsam Hallo zu Gott und zueinander\, hören eine kindgerechte biblische Geschichte und entdecken bei kreativen Angeboten\, was uns gut tut und was wir daraus machen wollen. Mit kleinen und großen Impulsen gehen wir am Ende satt und gesegnet nach Hause. \n🕚 Immer von 11:00–14:00 Uhr📍 Wechselnde Orte in Bad Godesberg🍲 Ein einfaches Mittagessen ist inklusive. \nWeitere Informationen und Anmeldung
URL:https://www.evforum-bonn.de/veranstaltung/kirche-kunterbunt/
LOCATION:Erlöserkirche\, Rüngsdorfer Straße 43\, Bonn\, 53173\, Deutschland
CATEGORIES:Bibel - Bibelgespräch,Pädagogische Bildung,Philosophisch-psychologische Kaffeehausgespräche,Veranstaltungen von Gemeinden,Veranstaltungsreihen
ATTACH;FMTTYPE=image/jpeg:https://www.evforum-bonn.de/wp-content/uploads/2025/08/Kirche-kunterbunt-e1754555504265.jpg
ORGANIZER;CN="Ev. Erl%C3%B6ser-Kirchengemeinde Bad Godesberg":MAILTO:info@erloeser-kirchengemeinde.de
END:VEVENT
BEGIN:VEVENT
DTSTART;TZID=Europe/Berlin:20250406T170000
DTEND;TZID=Europe/Berlin:20250406T190000
DTSTAMP:20260423T134541
CREATED:20250119T165802Z
LAST-MODIFIED:20250123T124920Z
UID:10005208-1743958800-1743966000@www.evforum-bonn.de
SUMMARY:Kreuzweg: Musik und Kunstausstellung
DESCRIPTION:06.04.2025 – Friedenskirche Bonn Kessenich\n\nAnsprechpartner\n\nPfarrerin Stefanie Graner
URL:https://www.evforum-bonn.de/veranstaltung/kreuzweg-musik-und-kunstausstellung/
LOCATION:Friedenskirche\, Franz-Bücheler-Str. 10\, Bonn\, 53129 \, Deutschland
CATEGORIES:Aktuelles,Veranstaltungen von Gemeinden
ATTACH;FMTTYPE=image/jpeg:https://www.evforum-bonn.de/wp-content/uploads/2025/01/Kunst.jpg
END:VEVENT
BEGIN:VEVENT
DTSTART;TZID=Europe/Berlin:20250406T180000
DTEND;TZID=Europe/Berlin:20250406T200000
DTSTAMP:20260423T134541
CREATED:20250321T100329Z
LAST-MODIFIED:20250321T102119Z
UID:10005570-1743962400-1743969600@www.evforum-bonn.de
SUMMARY:Workshop: Trans*ident – mit Gottes Segen
DESCRIPTION:Am Sonntag nach Ostern\, 27. April 2025\, 18.00 Uhr in der Schlosskirche im Hauptgebäude der Bonner Universität feiern wir mit allen trans*identen Menschen und sprechen ihnen den Segen Gottes zu. \n\nDarauf bereiten wir uns in einem Workshop am Sonntag\, den 6. April 2025 von 18-20 Uhr im Kirchenpavillon vor.\n\nDie Transition ist ein biographisch einzigartiger und als befreiend empfundener Übergang. Menschen auf dem Weg einer Transition brauchen Segen und wollen ein Segen sein. Sie sind Menschen\, die empfangen und die zu geben haben. Wir nehmen das Selbstbestimmungsgesetz zum Anlass\, um mit ihnen zu feiern. Wir wünschen uns\, dass queere Vielfalt unser Kirche lebendig macht und verändert. \nBildquelle Archiv des Ev. Kirchenkreis Bonn \n\nAm Anfang war es ein Wunsch: „Ich wünsche mir für meine Transition den Segen Gottes.“ – Jetzt wird es ein Fest! \nAm Sonntag nach Ostern\, 27. April\, 2025\, 18.00 Uhr in der Schlosskirche im Hauptgebäude der Bonner Universität feiern wir mit allen trans*identen Menschen und sprechen ihnen den Segen Gottes zu. \nUnser Traum: Kirche ist auch Heimat für Menschen\, die heteronormativen Normen nicht entsprechen. Deshalb sprechen wir im Gottesdienst am 27. April den Segen Gottes besonders den Menschen zu\, die trans*ident leben. \nSegen – das ist Gottes „Ja“ zu uns. \nDie Menschen\, die im Gottesdienst am 27. April segnen werden\, kommen aus verschiedenen Konfessionen. Sie sind evangelische\, katholische\, alt-katholische und freikirchliche Christ*innen. Sie sprechen dir den Segen auch dann zu\, wenn du keiner Konfession angehörst. Du bist willkommen! Bring gerne Freund:innen und Familie mit! \nWenn du für deine Transition gesegnet werden willst\, melde dich hier an .
URL:https://www.evforum-bonn.de/veranstaltung/workshop_transident-06-04-25/
LOCATION:Ev. Kirchenpavillon Bonn\, Kaiserplatz 1a\, Bonn\, NRW\, 53113\, Germany
CATEGORIES:Aktuelles,Diversity,Kirchenpavillon,Veranstaltungen von Institutionen und Verbänden
ATTACH;FMTTYPE=image/png:https://www.evforum-bonn.de/wp-content/uploads/2025/02/TransIdent-mit-Gottes-Segen-am-27.04.25-um-18-Uhr-e1742550105351.png
END:VEVENT
END:VCALENDAR