BEGIN:VCALENDAR
VERSION:2.0
PRODID:-//Evangelisches Forum Bonn - ECPv6.15.20//NONSGML v1.0//EN
CALSCALE:GREGORIAN
METHOD:PUBLISH
X-ORIGINAL-URL:https://www.evforum-bonn.de
X-WR-CALDESC:Veranstaltungen für Evangelisches Forum Bonn
REFRESH-INTERVAL;VALUE=DURATION:PT1H
X-Robots-Tag:noindex
X-PUBLISHED-TTL:PT1H
BEGIN:VTIMEZONE
TZID:Europe/Berlin
BEGIN:DAYLIGHT
TZOFFSETFROM:+0100
TZOFFSETTO:+0200
TZNAME:CEST
DTSTART:20240331T010000
END:DAYLIGHT
BEGIN:STANDARD
TZOFFSETFROM:+0200
TZOFFSETTO:+0100
TZNAME:CET
DTSTART:20241027T010000
END:STANDARD
BEGIN:DAYLIGHT
TZOFFSETFROM:+0100
TZOFFSETTO:+0200
TZNAME:CEST
DTSTART:20250330T010000
END:DAYLIGHT
BEGIN:STANDARD
TZOFFSETFROM:+0200
TZOFFSETTO:+0100
TZNAME:CET
DTSTART:20251026T010000
END:STANDARD
BEGIN:DAYLIGHT
TZOFFSETFROM:+0100
TZOFFSETTO:+0200
TZNAME:CEST
DTSTART:20260329T010000
END:DAYLIGHT
BEGIN:STANDARD
TZOFFSETFROM:+0200
TZOFFSETTO:+0100
TZNAME:CET
DTSTART:20261025T010000
END:STANDARD
END:VTIMEZONE
BEGIN:VEVENT
DTSTART;TZID=Europe/Berlin:20250405T140000
DTEND;TZID=Europe/Berlin:20250412T170000
DTSTAMP:20260423T151638
CREATED:20250204T092920Z
LAST-MODIFIED:20250704T071408Z
UID:10005326-1743861600-1744477200@www.evforum-bonn.de
SUMMARY:Repair-Café – gemeinschaftlich reparieren
DESCRIPTION:Entdecken Sie das Repair Café an ausgewählten Terminen im Jahr 2025 – Gemeindezentrum ARCHE Sechtem \nHaben Sie Dinge zu Hause\, die vielleicht reparierbar sind\, aber nicht mehr funktionieren? Wegwerfen ist keine Option! \nBesuchen Sie unser Repair Café\, wo Werkzeuge und Fachwissen für Ihre Reparaturen bereitstehen. Hier findet nicht nur die Reparatur\, sondern auch ein wertvoller Austausch über den verantwortlichen Umgang mit Ressourcen statt. Tauschen Sie sich aus\, lernen Sie und genießen Sie die Gemeinschaft – und das alles\, während Sie wertvolle Ressourcen schonen. Nehmen Sie teil am nachhaltigen Kreislauf und schätzen Sie die Kunst des Reparierens neu. \n 
URL:https://www.evforum-bonn.de/veranstaltung/repair-cafe-2025-copy-copy/
LOCATION:Gemeindezentrum ARCHE Sechtem\, Graue-Burg-Straße 48\, Bornheim\, 53332\, Deutschland
CATEGORIES:Repair Café,Ressourcen - Umwelt - Klima,Veranstaltungen von Gemeinden,Veranstaltungsreihen
ATTACH;FMTTYPE=image/jpeg:https://www.evforum-bonn.de/wp-content/uploads/2025/02/repair-cafe-e1738660760187.jpg
ORGANIZER;CN="Ev. Emmaus-Kirchengemeinde an Rhein u. Vorgebirge (Hersel)":MAILTO:gemeindebuero.hersel@ekir.de
END:VEVENT
BEGIN:VEVENT
DTSTART;TZID=Europe/Berlin:20250407T100000
DTEND;TZID=Europe/Berlin:20250407T130000
DTSTAMP:20260423T151638
CREATED:20250703T124105Z
LAST-MODIFIED:20250703T124105Z
UID:10005940-1744020000-1744030800@www.evforum-bonn.de
SUMMARY:Mal- und Zeichenkurs Hardtberg
DESCRIPTION:Der fortlaufende Mal- und Zeichenkurs unter der Leitung von Gerhild Bergknecht bietet Raum für künstlerisches Gestalten\, experimentelles Arbeiten und den Austausch über Kunst und Bildsprache. \nIn entspannter Atmosphäre erlernen und vertiefen die Teilnehmenden Techniken des Zeichnens und Malens – von Grundlagen wie Komposition\, Perspektive und Farbwirkung bis hin zu freien Ausdrucksformen. Der Kurs richtet sich an Interessierte mit und ohne Vorkenntnisse. \nDie eigene Kreativität steht im Mittelpunkt – verbunden mit der Möglichkeit\, unter fachkundiger Anleitung den eigenen Blick zu schärfen und neue Impulse aufzunehmen. \n📅 Jeden Montag (außer in den Ferien) | 10:00–13:00 Uhr📍 Matthäikirche\, Gutenbergstraße 10\, 53123 Bonn🖌️ Leitung: Gerhild Bergknecht
URL:https://www.evforum-bonn.de/veranstaltung/mal-und-zeichenkurs-hardtberg_2025-1/2025-04-07/
LOCATION:Matthäikirche\, Gutenbergstr. 10\, Bonn\, 53123\, Germany
CATEGORIES:Ausstellung - Kunst - Kultur,Kunst - Musik - Literatur,Lehrgang | Kurs,Veranstaltungen von Gemeinden,Veranstaltungsreihen
ATTACH;FMTTYPE=image/jpeg:https://www.evforum-bonn.de/wp-content/uploads/2025/02/schenk-mir-deine-farbe-e1739531762592.jpg
ORGANIZER;CN="Ev. Kirchengemeinde im Bonner Westen (Hardtberg)":MAILTO:hardtberg@ekir.de
END:VEVENT
BEGIN:VEVENT
DTSTART;TZID=Europe/Berlin:20250407T140000
DTEND;TZID=Europe/Berlin:20250407T160000
DTSTAMP:20260423T151638
CREATED:20250204T110951Z
LAST-MODIFIED:20250204T111026Z
UID:10005341-1744034400-1744041600@www.evforum-bonn.de
SUMMARY:Offenes Konversationscafé
DESCRIPTION:Wir freuen uns auf Ihren Besuch: jeden Montag von 14.00 – 16.00 Uhr im MIGRApolis-Haus der Vielfalt\nSeit 2014 bietet die EMFA (Evangelische Migrations und Flüchtlingsarbeit Bonn – Integrationsagentur) ein Konversations-Café für Zuwander*innen unterschiedlicher Nationalitäten an. \nHier gibt es Gelegenheit\, einfache Gespräche zu führen und neue Kontakte zu knüpfen. Je nach Bedarf der Besucher*innen werden Sprachanlässe vorbereitet\, die oft einen aktuellen Anlass haben. Die letzten Themen waren: Ausbildungen im Pflegebereich für Migranten und Geflüchtete – verschiedene Anbieter stellen sich vor; Klimawandel und Umweltschutz – was jeder tun kann; Erfolgsgeschichten: Geflüchtete berichten von Ausbildung und Schule – Biographie-Ausstellung; Corona (immer wieder) – Ansteckungen\, AHA-Regeln und deshalb: veränderte Bedingungen im Café; Vorstellung des Projektes: Familien fit machen für Kitas und Schulen im Rahmen der Interkulturellen Woche; Herbst: Grippe und Corona – Unterschiede\, Gemeinsamkeiten und wie kann ich mich schützen? \nKleine Texte laden zum Austausch ein und erweitern den Wortschatz. Ehrenamtliche Helfer*innen und Frau Hussain\, die wunderbar Deutsch spricht\, helfen bei Verständnisschwierigkeiten. \nLeiterin: Barbara Schlüter (schlueter@bimev.de) Offenes Konversationscafé – Willkommen bei der EMFA
URL:https://www.evforum-bonn.de/veranstaltung/offenes-konversationscafe-4/
LOCATION:Migrapolis- Haus der Vielfalt\, Brüdergasse 16–18\, Bonn\, 53111\, Deutschland
CATEGORIES:Migration - Kultur - Kultureller Austausch,Veranstaltungen von Gemeinden,Veranstaltungen von Institutionen und Verbänden,Veranstaltungsreihen
ATTACH;FMTTYPE=image/jpeg:https://www.evforum-bonn.de/wp-content/uploads/2025/02/migrapolis.jpg
END:VEVENT
BEGIN:VEVENT
DTSTART;TZID=Europe/Berlin:20250407T193000
DTEND;TZID=Europe/Berlin:20250407T210000
DTSTAMP:20260423T151638
CREATED:20250127T083623Z
LAST-MODIFIED:20250313T085425Z
UID:10005265-1744054200-1744059600@www.evforum-bonn.de
SUMMARY:Montagsvortrag: Kunsthistorischer und musikalischer Vortrag
DESCRIPTION:07.04.2025 – „Montagsvortrag“ 19:30 Uhr Matthäikirche\n\nMeisterwerke der spanischen Malerei durch fünf Jahrhunderte –  vom Goldenen Zeitalter bis in die Gegenwart\n\nProf.Dr. Helmut Jacobs\, Professor für Romanistik \nAnhand ausgewählter Beispiele der großen spanischen Maler vom Goldenen Zeitalter (Velázquez\, Murillo) bis zur Gegenwart werden repräsentative Meisterwerke der spanischen Malerei in ihren jeweiligen Kontexten vorgestellt und erläutert. Goya repräsentiert die Aufklärung\, Pérez Villaamil die Romantik\, Antoni Gaudí den Modernismus. Erläutert werden auch wichtige Meisterwerke des 20. Jahrhundert von Joaquín Sorolla\, Pablo Picasso\, Joan Miró\, Maruja Mallo\, Salvador Dalí\, sowie eine Stierkampfszene von Miquel Barceló\, dem faszinierendsten Gegenwartskünstler Spaniens. \nProf. Jakobs untermalt seinen Vortrag als Akkordeonvirtuose passend zu den Bildern mit charakteristischen Werken der spanischen Musik. \nModeration Barbara Kliesch \nEintritt frei\, Getränkespenden für den anschließenden Umtrunk willkommen \nMontagsvortrag am 07.04.2025_Meisterwerke der spanischen Malerei durch fünf Jahrhunderte \n 
URL:https://www.evforum-bonn.de/veranstaltung/montagsvortrag_2025-04/
LOCATION:Matthäikirche\, Gutenbergstr. 10\, Bonn\, 53123\, Germany
CATEGORIES:Aktuelles,Montagsvortrag,Veranstaltungen von Gemeinden,Veranstaltungsreihen
ATTACH;FMTTYPE=image/jpeg:https://www.evforum-bonn.de/wp-content/uploads/2025/01/Montagsvortraege-Spanische-Malerei-e1739789333214.jpg
ORGANIZER;CN="Ev. Kirchengemeinde im Bonner Westen (Hardtberg)":MAILTO:hardtberg@ekir.de
END:VEVENT
BEGIN:VEVENT
DTSTART;TZID=Europe/Berlin:20250407T200000
DTEND;TZID=Europe/Berlin:20250407T213000
DTSTAMP:20260423T151638
CREATED:20250117T135728Z
LAST-MODIFIED:20250117T140124Z
UID:10005202-1744056000-1744061400@www.evforum-bonn.de
SUMMARY:Bibelgespräch in Trinitatis
DESCRIPTION:07.04.2025 – Gemeindehaus Brahmsstraße 14\nMartin Luther sagte von der Heiligen Schrift\, sie sei „ein wunderbares Kräutlein\, je mehr du es reibst\, desto mehr duftet es“. \nDieser Erfahrung wollen wir im Bibelgesprächskreis auf die Spur kommen. \nWelches biblische Buch aktuell gelesen wird\, teilt Ihnen auf Anfrage Pfr. Uwe Grieser mit (0228 – 97840-21 oder uwe.grieser@ekir.de)
URL:https://www.evforum-bonn.de/veranstaltung/bibelgespraech-in-trinitatis-copy-copy/
LOCATION:Gemeindehaus der Trinitatiskirchengemeinde\, Brahmsstraße 14\, Bonn\, NRW\, 53121\, Germany
CATEGORIES:Bibel - Bibelgespräch,Veranstaltungen von Gemeinden
ATTACH;FMTTYPE=image/jpeg:https://www.evforum-bonn.de/wp-content/uploads/2025/01/Bild-Trinitatis.jpg
END:VEVENT
END:VCALENDAR