BEGIN:VCALENDAR
VERSION:2.0
PRODID:-//Evangelisches Forum Bonn - ECPv6.15.20//NONSGML v1.0//EN
CALSCALE:GREGORIAN
METHOD:PUBLISH
X-ORIGINAL-URL:https://www.evforum-bonn.de
X-WR-CALDESC:Veranstaltungen für Evangelisches Forum Bonn
REFRESH-INTERVAL;VALUE=DURATION:PT1H
X-Robots-Tag:noindex
X-PUBLISHED-TTL:PT1H
BEGIN:VTIMEZONE
TZID:Europe/Berlin
BEGIN:DAYLIGHT
TZOFFSETFROM:+0100
TZOFFSETTO:+0200
TZNAME:CEST
DTSTART:20240331T010000
END:DAYLIGHT
BEGIN:STANDARD
TZOFFSETFROM:+0200
TZOFFSETTO:+0100
TZNAME:CET
DTSTART:20241027T010000
END:STANDARD
BEGIN:DAYLIGHT
TZOFFSETFROM:+0100
TZOFFSETTO:+0200
TZNAME:CEST
DTSTART:20250330T010000
END:DAYLIGHT
BEGIN:STANDARD
TZOFFSETFROM:+0200
TZOFFSETTO:+0100
TZNAME:CET
DTSTART:20251026T010000
END:STANDARD
BEGIN:DAYLIGHT
TZOFFSETFROM:+0100
TZOFFSETTO:+0200
TZNAME:CEST
DTSTART:20260329T010000
END:DAYLIGHT
BEGIN:STANDARD
TZOFFSETFROM:+0200
TZOFFSETTO:+0100
TZNAME:CET
DTSTART:20261025T010000
END:STANDARD
END:VTIMEZONE
BEGIN:VEVENT
DTSTART;TZID=Europe/Berlin:20250416T183000
DTEND;TZID=Europe/Berlin:20250416T203000
DTSTAMP:20260423T134755
CREATED:20250311T103328Z
LAST-MODIFIED:20250528T120802Z
UID:10005560-1744828200-1744835400@www.evforum-bonn.de
SUMMARY:"Wege durch die Trauer" - Trauerkurs
DESCRIPTION:Variante ohne Osterferien\n26.02 – 05.03 – 12.03 – 19.03 – 26.03 – 02.04 – 09.04. – 16.04 – 23.04 – 30.04. \nVariante mit Osterferien\n26.02 – 05.03 – 12.03 – 19.03 – 26.03 – 02.04 – 09.04. – 30.04 – 07.05 – 14.05. \nDer Kurs umfasst insgesamt zehn Kurseinheiten zu jeweils zwei Stunden (mit 15 Minuten Pause) und findet mittwochs ab 18:30 Uhr in den Räumlichkeiten der Friedenskirchengemeinde Bonn in der Franz-Bücheler-Str. 10\, 53129 Bonn statt. \n„Trauer- und Klageraum wünsche ich dir. Orte des Vertrauens\, in denen Gefühle sein dürfen\, Vielleicht auch verwandelt werden.“ (Pierre Stutz 2004) \nTrauern ist eine Fähigkeit\, die Trauernden helfen kann einen Weg zu finden\, um mit dem schmerzlichen Verlust leben zu lernen. Trauer braucht Raum\, Trauer braucht Zeit\, sie braucht die Anerkennung sowie die Gemeinschaft. Deshalb möchten wir trauernden Menschen den so wichtigen Klage- und Trauerraum anbieten. Neben Impulsen\, die Trauernden einen Zugang zu den eigenen Gefühlen sowie ein Verständnis dafür ermöglichen sollen\, wird der Kurs von persönlichem Austausch in der Gruppe geprägt sein. \nEine Teilnahme ist nur nach vorheriger Anmeldung möglich. Die Anzahl der Teilnehmenden ist auf etwa zehn Personen begrenzt. Anmeldeschluss ist der 19.02.2025 \nAnmeldung per E-Mail:  uwebrenmoehl@web.de  Telefon:  01733443516 \nKursleitung: Uwe Brenmöhl (Sterbebegleiter\, Trauerbegleiter (BvT zertifiziert)\, Psychologischer Berater) und Esther Goßmann (Trauerbegleiterin\, Hospizbegleiterin im ambulanten Kinder- und Jugendhospizdienst Bonn\, Sterbebegleiterin im ökumenischen Hospizdienst Königswinter e.V.)
URL:https://www.evforum-bonn.de/veranstaltung/wege-durch-die-trauer-trauerkurs/2025-04-16/
LOCATION:Gemeindehaus der Friedenskirchengemeinde\, Franz-Bücheler-Straße 10\, Bonn\, NRW\, 53129\, Germany
CATEGORIES:Altern und Alter,Existenzielle Fragestellungen,Lehrgang | Kurs,Theologie / Philosophie,Veranstaltungen von Gemeinden,Veranstaltungsreihen
ATTACH;FMTTYPE=image/jpeg:https://www.evforum-bonn.de/wp-content/uploads/2025/03/sunset-5139139_640-e1741686430302.jpg
END:VEVENT
BEGIN:VEVENT
DTSTART;TZID=Europe/Berlin:20250416T193000
DTEND;TZID=Europe/Berlin:20250416T210000
DTSTAMP:20260423T134755
CREATED:20250805T092627Z
LAST-MODIFIED:20250805T092627Z
UID:10006112-1744831800-1744837200@www.evforum-bonn.de
SUMMARY:Lesekreis in Trinitatis
DESCRIPTION:Gemeinsam lesen\, reflektieren und entdecken wir klassische und zeitgenössische Literatur – von Goethe bis Juli Zeh\, von Weltliteratur bis Gegenwartsroman. Im Mittelpunkt steht der lebendige Austausch über Themen\, Sprache\, Stil und gesellschaftliche Relevanz der Texte. Der Lesekreis lädt zur Auseinandersetzung mit literarischen Werken ein und fördert zugleich das kritische Denken\, die sprachliche Ausdrucksfähigkeit und das Verständnis für kulturelle\, gesellschaftliche und ethische Themen. \nZielgruppe:Alle\, die Freude an guter Literatur haben und Lust auf inspirierende Gespräche mitbringen.Literaturkenntnisse sind nicht erforderlich – Offenheit und Interesse genügen. \nInformationen auf einen Blick:📆 Wann: Jeden 3. Mittwoch im Monat\, 19:30 Uhr | 📍 Wo: Gemeindehaus der Ev. Trinitatiskirchengemeinde Bonn \nEinstieg jederzeit möglich – Ansprechpartner:in: Susanne Müller Snmlrbonn@aol.com
URL:https://www.evforum-bonn.de/veranstaltung/lesekreis-in-trinitatis/2025-04-16/
LOCATION:Gemeindehaus der Trinitatiskirchengemeinde\, Brahmsstraße 14\, Bonn\, NRW\, 53121\, Germany
CATEGORIES:Bibel und Buch,Kunst - Musik - Literatur,Theologie / Philosophie,Veranstaltungen von Gemeinden,Veranstaltungsreihen
ATTACH;FMTTYPE=image/jpeg:https://www.evforum-bonn.de/wp-content/uploads/2025/01/Literaturkreis.jpg
END:VEVENT
END:VCALENDAR