BEGIN:VCALENDAR
VERSION:2.0
PRODID:-//Evangelisches Forum Bonn - ECPv6.15.20//NONSGML v1.0//EN
CALSCALE:GREGORIAN
METHOD:PUBLISH
X-WR-CALNAME:Evangelisches Forum Bonn
X-ORIGINAL-URL:https://www.evforum-bonn.de
X-WR-CALDESC:Veranstaltungen für Evangelisches Forum Bonn
REFRESH-INTERVAL;VALUE=DURATION:PT1H
X-Robots-Tag:noindex
X-PUBLISHED-TTL:PT1H
BEGIN:VTIMEZONE
TZID:Europe/Berlin
BEGIN:DAYLIGHT
TZOFFSETFROM:+0100
TZOFFSETTO:+0200
TZNAME:CEST
DTSTART:20240331T010000
END:DAYLIGHT
BEGIN:STANDARD
TZOFFSETFROM:+0200
TZOFFSETTO:+0100
TZNAME:CET
DTSTART:20241027T010000
END:STANDARD
BEGIN:DAYLIGHT
TZOFFSETFROM:+0100
TZOFFSETTO:+0200
TZNAME:CEST
DTSTART:20250330T010000
END:DAYLIGHT
BEGIN:STANDARD
TZOFFSETFROM:+0200
TZOFFSETTO:+0100
TZNAME:CET
DTSTART:20251026T010000
END:STANDARD
BEGIN:DAYLIGHT
TZOFFSETFROM:+0100
TZOFFSETTO:+0200
TZNAME:CEST
DTSTART:20260329T010000
END:DAYLIGHT
BEGIN:STANDARD
TZOFFSETFROM:+0200
TZOFFSETTO:+0100
TZNAME:CET
DTSTART:20261025T010000
END:STANDARD
END:VTIMEZONE
BEGIN:VEVENT
DTSTART;TZID=Europe/Berlin:20250418T150000
DTEND;TZID=Europe/Berlin:20250418T170000
DTSTAMP:20260423T134623
CREATED:20250407T112924Z
LAST-MODIFIED:20250407T112924Z
UID:10005644-1744988400-1744995600@www.evforum-bonn.de
SUMMARY:ZUKUNFT * Karfreitags-Meditation mit Musik und Literatur
DESCRIPTION:Am 18. April 2025 um 15 Uhr in der Lutherkirche\n\nDie Welt verändert sich schneller und schneller. Gewissheiten schwinden und der Blick in die Zukunft wird unsicherer. Kann ich einen neuen Blick einnehmen? Wie vor 2.000 Jahren auf Golgatha. Auch heute stellt sich die Frage: Wo ist das Ende? Wo vielleicht schon ein neuer Anfang? \nZUKUNFT ist das Thema. Darum geht es dieses Jahr in der Karfreitags-Meditation in der Lutherkirche in der Bonner Südstadt (Reuterstraße 11) am Freitag\, 18. April 2025\, um 15.00 Uhr. Lassen Sie sich inspirieren\, vielleicht auch ermutigen von einer außergewöhnlichen Meditation zur Todesstunde Jesu. \nMit WDR-Radio-Moderator Daniel Finkernagel\, Caspar Hesprich (Violine) und Ida Rausche (Gesang)\nImpulse liefern Texte der Weltliteratur\, rezitiert von Daniel Finkernagel\, bekannt u.a. aus der WDR 3 Sendung „Mosaik“\, sowie Helena Petermeier\, ehemalige Konfirmandin der Lutherkirche als Leserin. \nVikar Erik Nestler und Pfarrer Joachim Gerhardt kommentieren die Texte aus theologischer Perspektive. \nWerke von Bach\, Beethoven und Schubert\nDie musikalisch Zukunftsklänge gestalten der Bonner Geigenvirtuose Casper Hesprich und die Sängerin Ida Rausche\, Jugend-musiziert Preisträgerin und ehemalige Konfirmandin der Lutherkirche\, mit Werken ausgewählt zum Thema ZUKUNFT von Johann Sebastian Bach\, Ludwig van Beethoven und Franz Schubert. \nDer Eintritt ist frei. Wir freuen uns über Spenden. \n(22.02.2025 / Erik Nestler / ger)
URL:https://www.evforum-bonn.de/veranstaltung/zukunft-karfreitags-meditation-mit-musik-und-literatur/
LOCATION:Ev. Lutherkirche\, Reuterstr. 11\, Bonn\, 53113
CATEGORIES:Aktuelles,Kunst - Musik - Literatur,Lesung - Vortrag,Theologie / Philosophie,Veranstaltungen von Gemeinden
ORGANIZER;CN="Evangelische Lutherkirchengemeinde Bonn":MAILTO:buero@lutherkirche-bonn.de
END:VEVENT
END:VCALENDAR