BEGIN:VCALENDAR
VERSION:2.0
PRODID:-//Evangelisches Forum Bonn - ECPv6.15.20//NONSGML v1.0//EN
CALSCALE:GREGORIAN
METHOD:PUBLISH
X-WR-CALNAME:Evangelisches Forum Bonn
X-ORIGINAL-URL:https://www.evforum-bonn.de
X-WR-CALDESC:Veranstaltungen für Evangelisches Forum Bonn
REFRESH-INTERVAL;VALUE=DURATION:PT1H
X-Robots-Tag:noindex
X-PUBLISHED-TTL:PT1H
BEGIN:VTIMEZONE
TZID:Europe/Berlin
BEGIN:DAYLIGHT
TZOFFSETFROM:+0100
TZOFFSETTO:+0200
TZNAME:CEST
DTSTART:20240331T010000
END:DAYLIGHT
BEGIN:STANDARD
TZOFFSETFROM:+0200
TZOFFSETTO:+0100
TZNAME:CET
DTSTART:20241027T010000
END:STANDARD
BEGIN:DAYLIGHT
TZOFFSETFROM:+0100
TZOFFSETTO:+0200
TZNAME:CEST
DTSTART:20250330T010000
END:DAYLIGHT
BEGIN:STANDARD
TZOFFSETFROM:+0200
TZOFFSETTO:+0100
TZNAME:CET
DTSTART:20251026T010000
END:STANDARD
BEGIN:DAYLIGHT
TZOFFSETFROM:+0100
TZOFFSETTO:+0200
TZNAME:CEST
DTSTART:20260329T010000
END:DAYLIGHT
BEGIN:STANDARD
TZOFFSETFROM:+0200
TZOFFSETTO:+0100
TZNAME:CET
DTSTART:20261025T010000
END:STANDARD
END:VTIMEZONE
BEGIN:VEVENT
DTSTART;TZID=Europe/Berlin:20250427T110000
DTEND;TZID=Europe/Berlin:20250427T130000
DTSTAMP:20260423T134621
CREATED:20250124T094157Z
LAST-MODIFIED:20250124T094255Z
UID:10005260-1745751600-1745758800@www.evforum-bonn.de
SUMMARY:Literaturcafé
DESCRIPTION:Das Literaturcafé\nLiteraturinteressierte treffen sich alle zwei Monate\, jeweils am 4. Sonntag im geraden Monat\, um 11 Uhr in der Turmstube des Lukaszentrums\, Kaiser-Karl-Ring 25a. Die Teilnehmer schlagen Bücher vor\, die sie gerne lesen würden und über die wir dann sprechen. Alle Literaturinteressierten sind herzlich eingeladen. \nMehr Information: Regina Milchert\, Email: regina.milchert@gmx.de
URL:https://www.evforum-bonn.de/veranstaltung/literaturcafe2025-copy/
LOCATION:Gemeindesaal im Lukaszentrum\, Kaiser-Karl-Ring 25a\, Bonn\, NRW\, 53111\, Germany
CATEGORIES:Veranstaltungen von Gemeinden
ATTACH;FMTTYPE=image/jpeg:https://www.evforum-bonn.de/wp-content/uploads/2025/01/Lesung.jpg
END:VEVENT
BEGIN:VEVENT
DTSTART;TZID=Europe/Berlin:20250427T113000
DTEND;TZID=Europe/Berlin:20250427T140000
DTSTAMP:20260423T134621
CREATED:20250214T110456Z
LAST-MODIFIED:20250214T115854Z
UID:10005504-1745753400-1745762400@www.evforum-bonn.de
SUMMARY:KULTÜRCAFE für ALLE: LitArt Rheinschiene Forum für Begegnungen in Vielfalt
DESCRIPTION:Willkommen im KULTÜRCAFÉ! Ein offener Ort für alle\, unabhängig von Migrations- oder Fluchterfahrung und Behinderung. Genießen Sie Kaffee\, Tee\, Gespräche und kreative Aktivitäten! \n\nWann: Sonntag\, 27. April\, 11.30 bis 14 Uhr im Haus MIGRApolis 2. OG (der Raum ist barrierearm)\nAb 13 Uhr: Schreibwerkstatt für ALLE– keine Vorkenntnisse nötig! Entdecken Sie Ihre kreativen Seiten und bringen Sie Ihre Gedanken zu Papier. \n  \nProjekt „Anders sehen – inklusiv gestalten. Begegnung und Kultur in Vielfalt“ der Evangelische Migrations- und Flüchtlingsarbeit Bonn (EMFA) / Integrationsagentur \nLeitung: Michael Fischell\, Schriftsteller und  Sozialwissenschaftler \nTeilnahme: kostenlos & voller Rhythmus! \nWir bitten um Anmeldung unter: projektanderssehen@ekir.de \n \nwww.anderssehen-bonn.de \nProjektleiterin: Gergana Ghanbarian-Baleva (gergana.ghanabrian-baleva@ekir.de)
URL:https://www.evforum-bonn.de/veranstaltung/kultuercafe-fuer-alle-2025-04/
LOCATION:Migrapolis- Haus der Vielfalt\, Brüdergasse 16–18\, Bonn\, 53111\, Deutschland
CATEGORIES:Migration - Kultur - Kultureller Austausch,Veranstaltungen von Gemeinden,Veranstaltungen von Institutionen und Verbänden
ATTACH;FMTTYPE=image/jpeg:https://www.evforum-bonn.de/wp-content/uploads/2025/02/frau_umhangtuch_buch-e1739531014171.jpg
END:VEVENT
BEGIN:VEVENT
DTSTART;TZID=Europe/Berlin:20250427T180000
DTEND;TZID=Europe/Berlin:20250427T200000
DTSTAMP:20260423T134621
CREATED:20250321T094332Z
LAST-MODIFIED:20250321T101721Z
UID:10005569-1745776800-1745784000@www.evforum-bonn.de
SUMMARY:Einzigartig gesegnet! Trans*ident – mit Gottes Segen
DESCRIPTION:Am Anfang war es ein Wunsch: „Ich wünsche mir für meine Transition den Segen Gottes.“ – Jetzt wird es ein Fest! \nAm Sonntag nach Ostern\, 27. April\, 2025\, 18.00 Uhr in der Schlosskirche im Hauptgebäude der Bonner Universität feiern wir mit allen trans*identen Menschen und sprechen ihnen den Segen Gottes zu. \nUnser Traum: Kirche ist auch Heimat für Menschen\, die heteronormativen Normen nicht entsprechen. Deshalb sprechen wir im Gottesdienst am 27. April den Segen Gottes besonders den Menschen zu\, die trans*ident leben. \nSegen – das ist Gottes „Ja“ zu uns. \nDie Menschen\, die im Gottesdienst am 27. April segnen werden\, kommen aus verschiedenen Konfessionen. Sie sind evangelische\, katholische\, alt-katholische und freikirchliche Christ*innen. Sie sprechen dir den Segen auch dann zu\, wenn du keiner Konfession angehörst. Du bist willkommen! Bring gerne Freund:innen und Familie mit! \nWenn du für deine Transition gesegnet werden willst\, melde dich hier an . \n\nHerzliche Einladung auch zum Workshop zur Einstimmung am 6. April\nIn einem Workshop am Sonntag\, 6. April 2025\, von 18.00 – 20.00 Uhr im Kirchenpavillon (Kaiserplatz 1a\, Bonn) klären wir Details und planen gemeinsam. \nHier weitere aktuelle Infos zum Thema: WO STEHEN WIR? – GESELLSCHAFTLICHE UND INNERKIRCHLICHE PERSPEKTIVEN\nBildquelle Archiv des Ev. Kirchenkreis Bonn
URL:https://www.evforum-bonn.de/veranstaltung/einzigartig-gesegnet-transident-mit-gottes-segen/
LOCATION:Schlosskirche der Universität Bonn\, An der Schloßkirche\, Bonn\, 53113\, Deutschland
CATEGORIES:Aktuelles,Diversity,Veranstaltungen von Institutionen und Verbänden
ATTACH;FMTTYPE=image/png:https://www.evforum-bonn.de/wp-content/uploads/2025/02/TransIdent-mit-Gottes-Segen-am-27.04.25-um-18-Uhr-e1742550105351.png
END:VEVENT
END:VCALENDAR