BEGIN:VCALENDAR
VERSION:2.0
PRODID:-//Evangelisches Forum Bonn - ECPv6.15.20//NONSGML v1.0//EN
CALSCALE:GREGORIAN
METHOD:PUBLISH
X-WR-CALNAME:Evangelisches Forum Bonn
X-ORIGINAL-URL:https://www.evforum-bonn.de
X-WR-CALDESC:Veranstaltungen für Evangelisches Forum Bonn
REFRESH-INTERVAL;VALUE=DURATION:PT1H
X-Robots-Tag:noindex
X-PUBLISHED-TTL:PT1H
BEGIN:VTIMEZONE
TZID:Europe/Berlin
BEGIN:DAYLIGHT
TZOFFSETFROM:+0100
TZOFFSETTO:+0200
TZNAME:CEST
DTSTART:20240331T010000
END:DAYLIGHT
BEGIN:STANDARD
TZOFFSETFROM:+0200
TZOFFSETTO:+0100
TZNAME:CET
DTSTART:20241027T010000
END:STANDARD
BEGIN:DAYLIGHT
TZOFFSETFROM:+0100
TZOFFSETTO:+0200
TZNAME:CEST
DTSTART:20250330T010000
END:DAYLIGHT
BEGIN:STANDARD
TZOFFSETFROM:+0200
TZOFFSETTO:+0100
TZNAME:CET
DTSTART:20251026T010000
END:STANDARD
BEGIN:DAYLIGHT
TZOFFSETFROM:+0100
TZOFFSETTO:+0200
TZNAME:CEST
DTSTART:20260329T010000
END:DAYLIGHT
BEGIN:STANDARD
TZOFFSETFROM:+0200
TZOFFSETTO:+0100
TZNAME:CET
DTSTART:20261025T010000
END:STANDARD
END:VTIMEZONE
BEGIN:VEVENT
DTSTART;TZID=Europe/Berlin:20250429T170000
DTEND;TZID=Europe/Berlin:20250429T170000
DTSTAMP:20260423T121016
CREATED:20250703T101831Z
LAST-MODIFIED:20250703T102502Z
UID:10005886-1745946000-1745946000@www.evforum-bonn.de
SUMMARY:"Mystik entdecken" Theologiekreis der Auferstehungskirche
DESCRIPTION:📅 4. Dienstag im Monat (außer in den Ferien)📍Gemeindehaus der Ev. Auferstehungskirchengemeinde \nSeit vielen Jahren trifft sich ein Kreis theologisch und spirituell interessierter Menschen\, um sich mit der Geschichte christlicher Mystik und der Vielfalt spiritueller Wege vertraut zu machen. Von den Wüstenvätern und -müttern des 4. Jahrhunderts über die Tradition der Klöster bis in die Gegenwart suchen Christinnen und Christen nach einem inneren Zugang zu Gott. \nIm Gespräch gehen wir Zeugnissen und Texten der Mystik nach\, lassen uns von deren Erfahrungen inspirieren und tauschen uns über die Bedeutung für unser eigenes Glaubensleben aus. \nDie Reihe lebt von gemeinsamer Neugier\, Erfahrung und Offenheit – neue Interessierte sind herzlich willkommen. \n📧 Ansprechpartner: Pfarrer Christian Knoche-Hager – christian.knoche-hager@ekir.de
URL:https://www.evforum-bonn.de/veranstaltung/mystik-entdecken_25_04/
LOCATION:Gemeindehaus der Ev. Auferstehungskirche\, Haager Weg 40\, Bonn\, NRW\, 53127\, Germany
CATEGORIES:Bibel - Bibelgespräch,Bibel und Buch,Theologie / Philosophie,Veranstaltungen von Gemeinden,Veranstaltungsreihen
ATTACH;FMTTYPE=image/jpeg:https://www.evforum-bonn.de/wp-content/uploads/2025/07/Mystik-entdecken_Bildquelle-Ev.-Auferstehungskirche-Bonn.jpg
ORGANIZER;CN="Ev. Kirchengemeinde im Bonner Westen (Auferstehung)":MAILTO:carla.hornberger@ekir.de
END:VEVENT
BEGIN:VEVENT
DTSTART;TZID=Europe/Berlin:20250429T190000
DTEND;TZID=Europe/Berlin:20250429T203000
DTSTAMP:20260423T121016
CREATED:20250218T084948Z
LAST-MODIFIED:20250402T074226Z
UID:10005513-1745953200-1745958600@www.evforum-bonn.de
SUMMARY:Tol’dot & Tarbut: Tradition und Synthese
DESCRIPTION:29.04.2025 um 19 Uhr | Online via Zoom\n\nTradition und Synthese – Der Aufbau als Auftrag\n\n1934 von deutsch-jüdischen Nazi-Flüchtlingen in New York gegründet\, trug der »Aufbau« als Wochenzeitung mit wachsender Verbreitung wesentlich zu der Entwicklung einer gemeinsamen Identität der Leserschaft bei.\nDazu gehörten die jüdische Tradition\, die Erfahrung der Verfolgung\, aber auch eine »liberale und demokratische Haltung« im amerikanischen Sinne – so ein Grundsatz-Manifest der Zeitung aus der Kriegszeit. Aus Flüchtlingen wurden so rasch selbstbewusste Amerikaner. Dieses komplexe Fundament spornt die kleine Redaktion seit der Übernahme durch die JM Jüdische Medien AG in Zürich 2004 zu einem weltoffenen und unternehmungslustigen Journalismus im Sinne der Gründer an. \nAndreas Mink\, Connecticut \nAnmeldung: externer Zoom Link\nDie Anmeldung erfogt über den QR-Code in der Ausschreibung oder über info@bildungswerk-bonn.de und 0228 42979-0.\nDie Teilnahme ist kostenfrei. \nOffizieller Flyer – TOLDOT & TARBUT_Sommersemester 2025
URL:https://www.evforum-bonn.de/veranstaltung/toldot-tarbut-2025-04-29/
LOCATION:ONLINE via Zoom\, externer Zoom Link\, Germany
CATEGORIES:Aktuelles,Migration - Kultur - Kultureller Austausch,Toldot & Tarbut,Veranstaltungsreihen,Zentralprogramm
ATTACH;FMTTYPE=image/jpeg:https://www.evforum-bonn.de/wp-content/uploads/2024/08/toldot-und-tarbut-e1736348778526.jpg
ORGANIZER;CN="Katholisches Bildungsforum Bonn":MAILTO:fbs@bildungsforum-bonn.de
END:VEVENT
BEGIN:VEVENT
DTSTART;TZID=Europe/Berlin:20250429T193000
DTEND;TZID=Europe/Berlin:20250429T203000
DTSTAMP:20260423T121016
CREATED:20250725T113808Z
LAST-MODIFIED:20250725T113808Z
UID:10006035-1745955000-1745958600@www.evforum-bonn.de
SUMMARY:Lindy Hop | Offener Tanzunterricht
DESCRIPTION:Lindy Hop ist ein beschwingter Swing-Tanzstil mit Wurzeln in der afroamerikanischen Kultur der 1930er Jahre. In diesem offenen Tanzunterricht steht nicht nur die Freude an Bewegung im Mittelpunkt\, sondern auch das gemeinschaftliche Lernen: Vom ersten Grundschritt bis zur Improvisation können alle – mit oder ohne Vorkenntnisse – neue Schritte erlernen\, Koordination und Rhythmusgefühl schulen und dabei die Geschichte eines kulturell bedeutenden Tanzstils kennenlernen. \nDie Abende bieten Raum für Begegnung\, körperliche Aktivität und kulturelle Bildung – immer in respektvoller Atmosphäre und mit viel Spaß. Kommen Sie vorbei\, tanzen Sie mit! \n📍 Ort: Melanchthonhaus der Kreuzkirche📩 Anmeldung & Infos: lindyhop@justmail.de🕒 Wöchentlich dienstags um 19:30 Uhr (außer ggf. in den Ferien und an Feiertagen)
URL:https://www.evforum-bonn.de/veranstaltung/lindy-hop-offener-tanzunterricht/2025-04-29/
LOCATION:Melanchthon Haus der Kreuzkirche\, An der Evangelischen Kirche 6\, Bonn\, NRW\, 53113\, Germany
CATEGORIES:Gesundheit - Krankheit - Medizin,Lindy Hop,Tanz - Bewegung - Gesundheit,Veranstaltungen von Gemeinden,Veranstaltungsreihen
ATTACH;FMTTYPE=image/jpeg:https://www.evforum-bonn.de/wp-content/uploads/2025/07/Lindy-Hop_Foto-by-Lindy-Hop-e1753443452177.jpg
END:VEVENT
END:VCALENDAR