BEGIN:VCALENDAR
VERSION:2.0
PRODID:-//Evangelisches Forum Bonn - ECPv6.15.20//NONSGML v1.0//EN
CALSCALE:GREGORIAN
METHOD:PUBLISH
X-WR-CALNAME:Evangelisches Forum Bonn
X-ORIGINAL-URL:https://www.evforum-bonn.de
X-WR-CALDESC:Veranstaltungen für Evangelisches Forum Bonn
REFRESH-INTERVAL;VALUE=DURATION:PT1H
X-Robots-Tag:noindex
X-PUBLISHED-TTL:PT1H
BEGIN:VTIMEZONE
TZID:Europe/Berlin
BEGIN:DAYLIGHT
TZOFFSETFROM:+0100
TZOFFSETTO:+0200
TZNAME:CEST
DTSTART:20240331T010000
END:DAYLIGHT
BEGIN:STANDARD
TZOFFSETFROM:+0200
TZOFFSETTO:+0100
TZNAME:CET
DTSTART:20241027T010000
END:STANDARD
BEGIN:DAYLIGHT
TZOFFSETFROM:+0100
TZOFFSETTO:+0200
TZNAME:CEST
DTSTART:20250330T010000
END:DAYLIGHT
BEGIN:STANDARD
TZOFFSETFROM:+0200
TZOFFSETTO:+0100
TZNAME:CET
DTSTART:20251026T010000
END:STANDARD
BEGIN:DAYLIGHT
TZOFFSETFROM:+0100
TZOFFSETTO:+0200
TZNAME:CEST
DTSTART:20260329T010000
END:DAYLIGHT
BEGIN:STANDARD
TZOFFSETFROM:+0200
TZOFFSETTO:+0100
TZNAME:CET
DTSTART:20261025T010000
END:STANDARD
END:VTIMEZONE
BEGIN:VEVENT
DTSTART;TZID=Europe/Berlin:20250430T153000
DTEND;TZID=Europe/Berlin:20250430T170000
DTSTAMP:20260423T121015
CREATED:20250401T110924Z
LAST-MODIFIED:20250606T074112Z
UID:10005579-1746027000-1746032400@www.evforum-bonn.de
SUMMARY:Café Lichtblick der Auferstehungsgemeinde Bonn
DESCRIPTION:Am 30. April 2025 um 15:30 Uhr im Gemeindehaus\n\n…findet unser nächstes Café Lichtblick. Ankommen bei Kaffee und Kuchen um 15:30 Uhr und ab 16 Uhr beginnt dann ein Vortrag im Rahmen unserer diesjährigen Themenreihe Religion und Kirche: Blicke über den Tellerrand mit dem Titel „Christen aus Palästina erzählen“. Referenten: Dr. Bassel Makhouly u. Aline Makhouly.  Das deutsch-palästinensisch-israelische Ehepaar Makhouly\, christliche Palästinenser aus Galiläa\, lebt seit 2009 in Bonn. Sie haben die israelische und die deutsche Staatsbürgerschaft.  Offizieller Flyer – Einladung zur Veranstaltung \n__________________Info zur Reihe: \nVier Mal im Jahr um 15:30 Uhr laden wir sie sehr herzlich ein ins Cafe Lichtblick! Zunächst können Sie sich bei Kaffee\, Tee und Kuchen angeregt unterhalten. \nAnschließend halten Referenten und Referentinnen Vorträge zu den unterschiedlichsten Themen\, bisher z.B.: Verschiedene Aspekte der Bonner Stadtgeschichte / Reiseberichte / Theologische Fragen / Vorsorgevollmacht und vieles mehr. Das Cafe-Lichtblick-Team (Graciela Heidenreich\, Carla Hornberger\, Heike Jakob-Bartels) freut sich auf ihren Besuch. \nProgramm der Ev. Auferstehungskirchengemeinde \nGemeindebüro Carla Hornberger – Tel. 0228-28 13 21
URL:https://www.evforum-bonn.de/veranstaltung/cafe-lichtblick-2/
LOCATION:Gemeindehaus der Ev. Auferstehungskirche\, Haager Weg 40\, Bonn\, NRW\, 53127\, Germany
CATEGORIES:Bildung & Café,Demokratie-Krieg,Existenzielle Fragestellungen,Lesung - Vortrag,Migration - Kultur - Kultureller Austausch,Philosophisch-psychologische Kaffeehausgespräche,Politik - Geschichte - Soziologie,Theologie / Philosophie,Veranstaltungen von Gemeinden,Veranstaltungsreihen
ORGANIZER;CN="Ev. Kirchengemeinde im Bonner Westen (Auferstehung)":MAILTO:carla.hornberger@ekir.de
END:VEVENT
BEGIN:VEVENT
DTSTART;TZID=Europe/Berlin:20250430T180000
DTEND;TZID=Europe/Berlin:20250430T193000
DTSTAMP:20260423T121015
CREATED:20250402T090746Z
LAST-MODIFIED:20250402T090746Z
UID:10005583-1746036000-1746041400@www.evforum-bonn.de
SUMMARY:Israel und Iran\, es wird ganz bestimmt Frieden geben\, wie und wann?
DESCRIPTION:Am 30. April 2025 um 18 Uhr in der Emmaus-Kirche | Brüser Berg\nDr. Khassalian ist auf dem Hardtberg bereits eine bekannte Größe und engagiert sich für das friedliche Zusammenleben aller Religionen und den Abbau von Hass und Intoleranz. Er wurde 1938 im Iran geboren\, studierte in Bonn zwischen 1957 und 1964. Nach 36 Jahren als Facharzt für Urologie in Hagen ist Dr. Khassalian seit 2001 wieder wohnhaft in Bonn und seit dem „11.09.2001″ aktiv im interreligiösen Dialog. \nAnsprechpartner – Veranstalter: Ev. Kirchengemeinde Hardtberg Gemeindebüro\nBorsigallee 23-25\n53125 Bonn\nhardtberg@ekir.de\nTel: +49(228) 6880-482
URL:https://www.evforum-bonn.de/veranstaltung/israel-und-iran-es-wird-ganz-bestimmt-frieden-geben-wie-und-wann/
LOCATION:Emmaus-Kirche\, Borsigallee 23\, Bonn\, 53125
CATEGORIES:Aktuelles,Lesung - Vortrag,Migration - Kultur - Kultureller Austausch,Politik - Geschichte - Soziologie,Theologie / Philosophie,Veranstaltungen von Gemeinden
ATTACH;FMTTYPE=image/jpeg:https://www.evforum-bonn.de/wp-content/uploads/2025/04/Khassalian_Foto-und-Bildrechte-Benjamin-Westhoff-e1743584838945.jpg
ORGANIZER;CN="Ev. Kirchengemeinde im Bonner Westen (Hardtberg)":MAILTO:hardtberg@ekir.de
END:VEVENT
BEGIN:VEVENT
DTSTART;TZID=Europe/Berlin:20250430T183000
DTEND;TZID=Europe/Berlin:20250430T203000
DTSTAMP:20260423T121015
CREATED:20250311T103328Z
LAST-MODIFIED:20250528T120802Z
UID:10005562-1746037800-1746045000@www.evforum-bonn.de
SUMMARY:"Wege durch die Trauer" - Trauerkurs
DESCRIPTION:Variante ohne Osterferien\n26.02 – 05.03 – 12.03 – 19.03 – 26.03 – 02.04 – 09.04. – 16.04 – 23.04 – 30.04. \nVariante mit Osterferien\n26.02 – 05.03 – 12.03 – 19.03 – 26.03 – 02.04 – 09.04. – 30.04 – 07.05 – 14.05. \nDer Kurs umfasst insgesamt zehn Kurseinheiten zu jeweils zwei Stunden (mit 15 Minuten Pause) und findet mittwochs ab 18:30 Uhr in den Räumlichkeiten der Friedenskirchengemeinde Bonn in der Franz-Bücheler-Str. 10\, 53129 Bonn statt. \n„Trauer- und Klageraum wünsche ich dir. Orte des Vertrauens\, in denen Gefühle sein dürfen\, Vielleicht auch verwandelt werden.“ (Pierre Stutz 2004) \nTrauern ist eine Fähigkeit\, die Trauernden helfen kann einen Weg zu finden\, um mit dem schmerzlichen Verlust leben zu lernen. Trauer braucht Raum\, Trauer braucht Zeit\, sie braucht die Anerkennung sowie die Gemeinschaft. Deshalb möchten wir trauernden Menschen den so wichtigen Klage- und Trauerraum anbieten. Neben Impulsen\, die Trauernden einen Zugang zu den eigenen Gefühlen sowie ein Verständnis dafür ermöglichen sollen\, wird der Kurs von persönlichem Austausch in der Gruppe geprägt sein. \nEine Teilnahme ist nur nach vorheriger Anmeldung möglich. Die Anzahl der Teilnehmenden ist auf etwa zehn Personen begrenzt. Anmeldeschluss ist der 19.02.2025 \nAnmeldung per E-Mail:  uwebrenmoehl@web.de  Telefon:  01733443516 \nKursleitung: Uwe Brenmöhl (Sterbebegleiter\, Trauerbegleiter (BvT zertifiziert)\, Psychologischer Berater) und Esther Goßmann (Trauerbegleiterin\, Hospizbegleiterin im ambulanten Kinder- und Jugendhospizdienst Bonn\, Sterbebegleiterin im ökumenischen Hospizdienst Königswinter e.V.)
URL:https://www.evforum-bonn.de/veranstaltung/wege-durch-die-trauer-trauerkurs/2025-04-30/
LOCATION:Gemeindehaus der Friedenskirchengemeinde\, Franz-Bücheler-Straße 10\, Bonn\, NRW\, 53129\, Germany
CATEGORIES:Altern und Alter,Existenzielle Fragestellungen,Lehrgang | Kurs,Theologie / Philosophie,Veranstaltungen von Gemeinden,Veranstaltungsreihen
ATTACH;FMTTYPE=image/jpeg:https://www.evforum-bonn.de/wp-content/uploads/2025/03/sunset-5139139_640-e1741686430302.jpg
END:VEVENT
BEGIN:VEVENT
DTSTART;TZID=Europe/Berlin:20250430T200000
DTEND;TZID=Europe/Berlin:20250430T210000
DTSTAMP:20260423T121015
CREATED:20250407T111957Z
LAST-MODIFIED:20250407T111958Z
UID:10005606-1746043200-1746046800@www.evforum-bonn.de
SUMMARY:Religiöse Kindererziehung
DESCRIPTION:Impulse zur religiösen Kindererziehung – jeden Mittwoch (außer Ferien ab 20 Uhr in der Friedenskirche \nJeden Mittwochabend (außer in den Ferien) lädt Pastorin Annette Ziegler von 20–21 Uhr in die Friedenskirche Bonn-Kessenich ein\, um zentrale Fragen der religiösen Kindererziehung zu beleuchten. Begleitend durch ausgewählte Literatur und ergänzt durch Vorträge externer Fachleute bietet die Reihe praxisnahe Impulse und Raum für Austausch. \nWeitere Informationen: Tel. 0228 23 83 71 | E-Mail: buero@friedenskirche-bonn.de \n 
URL:https://www.evforum-bonn.de/veranstaltung/religioese-kindererziehung-2/2025-04-30/
LOCATION:Friedenskirche\, Franz-Bücheler-Str. 10\, Bonn\, 53129 \, Deutschland
CATEGORIES:Existenzielle Fragestellungen,Lesung - Vortrag,Pädagogische Bildung,Veranstaltungen von Gemeinden,Veranstaltungsreihen,Weiterbildung allgemein
ATTACH;FMTTYPE=image/png:https://www.evforum-bonn.de/wp-content/uploads/2025/04/Religioese-Kindererziehung-e1744024216838.png
END:VEVENT
END:VCALENDAR