BEGIN:VCALENDAR
VERSION:2.0
PRODID:-//Evangelisches Forum Bonn - ECPv6.15.20//NONSGML v1.0//EN
CALSCALE:GREGORIAN
METHOD:PUBLISH
X-ORIGINAL-URL:https://www.evforum-bonn.de
X-WR-CALDESC:Veranstaltungen für Evangelisches Forum Bonn
REFRESH-INTERVAL;VALUE=DURATION:PT1H
X-Robots-Tag:noindex
X-PUBLISHED-TTL:PT1H
BEGIN:VTIMEZONE
TZID:Europe/Berlin
BEGIN:DAYLIGHT
TZOFFSETFROM:+0100
TZOFFSETTO:+0200
TZNAME:CEST
DTSTART:20240331T010000
END:DAYLIGHT
BEGIN:STANDARD
TZOFFSETFROM:+0200
TZOFFSETTO:+0100
TZNAME:CET
DTSTART:20241027T010000
END:STANDARD
BEGIN:DAYLIGHT
TZOFFSETFROM:+0100
TZOFFSETTO:+0200
TZNAME:CEST
DTSTART:20250330T010000
END:DAYLIGHT
BEGIN:STANDARD
TZOFFSETFROM:+0200
TZOFFSETTO:+0100
TZNAME:CET
DTSTART:20251026T010000
END:STANDARD
BEGIN:DAYLIGHT
TZOFFSETFROM:+0100
TZOFFSETTO:+0200
TZNAME:CEST
DTSTART:20260329T010000
END:DAYLIGHT
BEGIN:STANDARD
TZOFFSETFROM:+0200
TZOFFSETTO:+0100
TZNAME:CET
DTSTART:20261025T010000
END:STANDARD
END:VTIMEZONE
BEGIN:VEVENT
DTSTART;TZID=Europe/Berlin:20250507T170000
DTEND;TZID=Europe/Berlin:20250507T210000
DTSTAMP:20260423T121416
CREATED:20241105T115944Z
LAST-MODIFIED:20250502T090034Z
UID:10005047-1746637200-1746651600@www.evforum-bonn.de
SUMMARY:Workshops zum Thema – Öko-fair-soziale Beschaffung ABGESAGT
DESCRIPTION:Abgesagt\n07.05.2025 – 17 Uhr im Haus der Ev. Kirche\nIn zwei Veranstaltungen geht es um nachhaltigen & öko-fair-sozialen Einkauf in kirchlichen Einrichtungen. An beiden Abenden wird es um die Frage gehen „Warum brauchen wir eine öko-fair-soziale Beschaffung und wie funktioniert das?“. Zunächst sprechen wir über Suffizienz und es gibt praktische Tipps\, z. B. zum Umgang mit Siegeln. \nReferent: Christoph Diefenbach (Nachhaltigkeitsmanagement Ev. Kirche im Rheinland) \nIm Anschluss gibt es folgende Themen-Angebote zur Auswahl: \nFokus-Workshop 1: \n „Nachhaltig mit gutem Gewissen sein Geld sinnvoll investieren – wie geht das?“ \n  Referent: Manfred Murschall\, IHK registrierter Finanzanlagenvermittler \nÖko-Geldanlagen: Was ist die allgemeine Definition? ESG-Kriterien\, UN-Vorgaben\, Grundsätze einer ausgewogenen Geldanlage… Gehören Kernkraftwerke mit dazu? Gibt es gute und schlechte Waffen je nach Herkunft und Verwendung? \nFokus-Workshop 2: \nLebensmittelverluste reduzieren \nReferentin: Kerstin Neuber\,  Wissenschaftliche Mitarbeiterin Verbraucherzentrale NRW\, Bereich Ernährung und Umwelt \nIn diesem Workshop widmen wir uns den Fragen\, warum Lebensmittelverluste entstehen und wie sie sich reduzieren lassen. Gemeinsam erarbeiten wir\, welche Aspekte bei der Auswahl/ Planung\, dem Einkauf und der Küche wichtig sind und wie Sie mit konkreten Schritten dem Wert von Lebensmitteln in Ihrer Arbeit Bedeutung geben. \nFokus-Workshop 3: \nElektronik \nInfo folgt \nProgramm WS Ökofaire Beschaffung am 26.02._07.05.25
URL:https://www.evforum-bonn.de/veranstaltung/workshops-zum-thema-oeko-fair-soziale-beschaffung-2/
LOCATION:Haus der Ev. Kirche Bonn\, Adenauerallee 37\, Bonn\, NRW\, 53113\, Germany
CATEGORIES:Aktuelles,Haus der Ev. Kirche Bonn,Zentralprogramm
ATTACH;FMTTYPE=image/jpeg:https://www.evforum-bonn.de/wp-content/uploads/2024/11/oekofair.jpg
ORGANIZER;CN="Evangelisches Forum Bonn":MAILTO:info@evforum-bonn.de
END:VEVENT
BEGIN:VEVENT
DTSTART;TZID=Europe/Berlin:20250507T180000
DTEND;TZID=Europe/Berlin:20250507T193000
DTSTAMP:20260423T121416
CREATED:20250509T073842Z
LAST-MODIFIED:20250509T074122Z
UID:10005666-1746640800-1746646200@www.evforum-bonn.de
SUMMARY:Ausstellung „Kirchen als Vierte Orte. Perspektiven aus NRW“
DESCRIPTION:Die Ausstellung „Kirchen als Vierte Orte. Perspektiven aus NRW“ von Baukultur NRW thematisiert die Umnutzung von Sakralgebäuden\, die vom Leerstand bedroht sind. Von 28. April bis 26. Mai 2025 ist die Ausstellung in der Nathanaelkirche in Köln zu sehen. Die Eröffnung findet am Mittwoch\, 7. Mai\, um 18 Uhr statt. (Nathanaelkirche\, Escher Str. 160\, 50739 Köln) \nDie Nathanaelkirche in Köln-Bilderstöckchen gehört zur evangelischen Nathanael-Kirchengemeinde und wurde 1965 fertiggestellt. Sie besteht aus Sichtbeton\, Holz\, Glas und Schiefer; architektonisch zeichnet sich das Gemeindezentrum durch seinen sechsseitigen Grundriss\, eine Rotziegelverkleidung und eine markante gläserne Giebelfassade aus. \nNathanaelkirche Köln_Foto: Felix Hemmers via Baukultur.nrw \nDer imposante Glockenturm aus Beton hat drei spitz zulaufende Standbeine\, eines davon bildet mit der Grundplatte ein Kreuz. Geprägt von Sichtbetonwänden und einer Holzdecke ist der Innenraum schlicht gehalten. Die kirchliche Ausstattung\, darunter der ochsenblutrote Altarquader mit filigranem Stahlkreuz\, wurde vom Künstler Heinz Heiber gestaltet. \nDie Nathanaelkirche wird heute aktiv von der Evangelischen Kirchengemeinde genutzt. Außerdem finden hier Gottesdienste einer afrikanischen Gemeinde statt. Kirche und Gemeindehaus werden zudem von Asylsuchenden im Rahmen des Kirchenasyls als temporäre Schutzunterkunft genutzt. Für die Zukunft gibt es Pläne\, den sozialen Charakter des Ortes weiter auszubauen und das Kirchengebäudes als Begegnungsort für die neu entstehenden Wohnungen zu nutzen. \nBis zu 3.000 Kirchen in NRW betroffen\nZwischen 30 und 50 Prozent der Kirchengebäude in Deutschland werden in den kommenden Jahrzehnten leer stehen. Von den ungefähr 6.000 Kirchen in Nordrhein-Westfalen fallen also bis zu 3.000 aus der Nutzung. Dem Leerstand und Abriss von Kirchen steht ein gesellschaftlicher Bedarf nach Orten für sozialen Austausch\, Gemeinschaft und gesellschaftliche Identifikation gegenüber. \nAusstellungsinformationen Nathanaelkirche\, Köln \nLaufzeit: 28. April bis 26. Mai 2025\nAusstellungsort: Nathanaelkirche\, Escher Str. 160\, 50739 Köln\nÖffnungszeiten: montags 15.30–17.30 Uhr\, dienstags 15–17 Uhr\, freitags 16–18 Uhr\, Eintritt: frei\nEröffnung: Mittwoch\, 7.5.2025\, 18 Uhr: mit Pfarrerin Reinhild Widdig und Jörg Beste\, synergon \nBegleitveranstaltungen: \n\nDienstag\, 29.4.2025: Eine Stunde Baukultur im Haus der Architektur Köln (hdak)\, mit Kurator Felix Hemmers\nDienstag\, 13.5.2025\, 19 Uhr: Ausstellungsführung und Diskussion\, eine gemeinsame Veranstaltung der Nathanael-Gemeinde und der Melanchthon-Akademie\nSonntag\, 25.5.2025\, 17 Uhr: Finissage-Gottesdienst mit Videoclips zu der Frage „Warum brauche ich diese Kirche“
URL:https://www.evforum-bonn.de/veranstaltung/ausstellung-kirchen-als-vierte-orte-perspektiven-aus-nrw/
LOCATION:Nathanaelkirche\, Escher Straße 160\, Köln\, NRW\, 50739\, Germany
CATEGORIES:Aktuelles,Existenzielle Fragestellungen,Kunst - Musik - Literatur,Politik - Geschichte - Soziologie,Ressourcen - Umwelt - Klima,Theologie / Philosophie,Veranstaltungen von Gemeinden,Veranstaltungen von Institutionen und Verbänden
ATTACH;FMTTYPE=image/jpeg:https://www.evforum-bonn.de/wp-content/uploads/2025/05/baukulturnrw_nathanaelkirche_koeln_foto_felix_hemmers_03_low.2000x0-e1746776281810.jpg
ORGANIZER;CN="Baukultur Nordrhein-Westfalen":MAILTO:info@baukultur.nrw
END:VEVENT
BEGIN:VEVENT
DTSTART;TZID=Europe/Berlin:20250507T183000
DTEND;TZID=Europe/Berlin:20250507T203000
DTSTAMP:20260423T121416
CREATED:20250311T103328Z
LAST-MODIFIED:20250528T120802Z
UID:10005563-1746642600-1746649800@www.evforum-bonn.de
SUMMARY:"Wege durch die Trauer" - Trauerkurs
DESCRIPTION:Variante ohne Osterferien\n26.02 – 05.03 – 12.03 – 19.03 – 26.03 – 02.04 – 09.04. – 16.04 – 23.04 – 30.04. \nVariante mit Osterferien\n26.02 – 05.03 – 12.03 – 19.03 – 26.03 – 02.04 – 09.04. – 30.04 – 07.05 – 14.05. \nDer Kurs umfasst insgesamt zehn Kurseinheiten zu jeweils zwei Stunden (mit 15 Minuten Pause) und findet mittwochs ab 18:30 Uhr in den Räumlichkeiten der Friedenskirchengemeinde Bonn in der Franz-Bücheler-Str. 10\, 53129 Bonn statt. \n„Trauer- und Klageraum wünsche ich dir. Orte des Vertrauens\, in denen Gefühle sein dürfen\, Vielleicht auch verwandelt werden.“ (Pierre Stutz 2004) \nTrauern ist eine Fähigkeit\, die Trauernden helfen kann einen Weg zu finden\, um mit dem schmerzlichen Verlust leben zu lernen. Trauer braucht Raum\, Trauer braucht Zeit\, sie braucht die Anerkennung sowie die Gemeinschaft. Deshalb möchten wir trauernden Menschen den so wichtigen Klage- und Trauerraum anbieten. Neben Impulsen\, die Trauernden einen Zugang zu den eigenen Gefühlen sowie ein Verständnis dafür ermöglichen sollen\, wird der Kurs von persönlichem Austausch in der Gruppe geprägt sein. \nEine Teilnahme ist nur nach vorheriger Anmeldung möglich. Die Anzahl der Teilnehmenden ist auf etwa zehn Personen begrenzt. Anmeldeschluss ist der 19.02.2025 \nAnmeldung per E-Mail:  uwebrenmoehl@web.de  Telefon:  01733443516 \nKursleitung: Uwe Brenmöhl (Sterbebegleiter\, Trauerbegleiter (BvT zertifiziert)\, Psychologischer Berater) und Esther Goßmann (Trauerbegleiterin\, Hospizbegleiterin im ambulanten Kinder- und Jugendhospizdienst Bonn\, Sterbebegleiterin im ökumenischen Hospizdienst Königswinter e.V.)
URL:https://www.evforum-bonn.de/veranstaltung/wege-durch-die-trauer-trauerkurs/2025-05-07/
LOCATION:Gemeindehaus der Friedenskirchengemeinde\, Franz-Bücheler-Straße 10\, Bonn\, NRW\, 53129\, Germany
CATEGORIES:Altern und Alter,Existenzielle Fragestellungen,Lehrgang | Kurs,Theologie / Philosophie,Veranstaltungen von Gemeinden,Veranstaltungsreihen
ATTACH;FMTTYPE=image/jpeg:https://www.evforum-bonn.de/wp-content/uploads/2025/03/sunset-5139139_640-e1741686430302.jpg
END:VEVENT
BEGIN:VEVENT
DTSTART;TZID=Europe/Berlin:20250507T183000
DTEND;TZID=Europe/Berlin:20250507T203000
DTSTAMP:20260423T121416
CREATED:20250403T090126Z
LAST-MODIFIED:20251205T100229Z
UID:10005586-1746642600-1746649800@www.evforum-bonn.de
SUMMARY:Series I: Liebe
DESCRIPTION:(Selbst-) „Liebe“ mit Prof. Dr. Kinga Zeller am 07. Mai 2025 um 18:30 Uhr im Kirchenpavillon | Kaiserstraße 1 a\, Bonn\nTheologische Kernfragen\, aktuelle Forschung im Gespräch\, Impulse für die eigene Arbeit in Kirche\, Schule oder an einem selbst und dazu ein Gläschen Wein – das bietet die neue Reihe „Wine and Wisdom – mit Gott an der Bar“. Die Zusammenarbeit zwischen der Melanchthon-Akademie Köln und dem Evangelischen Forum Bonn bietet ein Format\, bei dem Dr. Katharina Opalka und Dr. Ann-Kathrin Armbruster von der Evangelisch-Theologischen Fakultät in Bonn mit nationalen und internationalen Gästen sich aktuellen und bleibend spannenden Themen der theologischen Forschung widmen.\n\nDie Veranstaltungsreihe startet im Kirchenpavillon Bonn mit drei Gesprächen zu „Glaube – Liebe – Hoffnung“.\nAlle sind eingeladen zum Mitdenken und Mitreden oder einfach zum Zuhören und Dabeisein. Der Eintritt ist frei.\n\nIn Zusammenarbeit mit der Evangelisch-Theologischen Fakultät Bonn und der Melanchthon-Akademie Köln\n\nUm Anmeldung wird gebeten
URL:https://www.evforum-bonn.de/veranstaltung/wine-and-wisdom25-05-07/
LOCATION:Ev. Kirchenpavillon Bonn\, Kaiserplatz 1a\, Bonn\, NRW\, 53113\, Germany
CATEGORIES:Aktuelles,Existenzielle Fragestellungen,Kirchenpavillon,Lesung - Vortrag,Philosophisch-psychologische Kaffeehausgespräche,Theologie / Philosophie,Veranstaltungen von Institutionen und Verbänden,Veranstaltungsreihen,wine and wisdom,Zentralprogramm
ATTACH;FMTTYPE=image/jpeg:https://www.evforum-bonn.de/wp-content/uploads/2025/01/wine-and-wisdom.jpg
END:VEVENT
BEGIN:VEVENT
DTSTART;TZID=Europe/Berlin:20250507T193000
DTEND;TZID=Europe/Berlin:20250507T210000
DTSTAMP:20260423T121416
CREATED:20250331T094719Z
LAST-MODIFIED:20250331T094719Z
UID:10005575-1746646200-1746651600@www.evforum-bonn.de
SUMMARY:NETTwerk
DESCRIPTION:Am 07. Mai 2025 um 19:30 Uhr via Zoom\n\nDas Online-Treffen richtet sich an alle\, die für Kirche hauptamtlich oder ehrenamtlich Content auf Social Media oder als Podcast veröffentlichen. Teilnehmende bekommen von Expert:innen relevante Informationen und Tipps\, außerdem gibt es Austausch und Vernetzungsmöglichkeiten. \nTHEMA am 7. Mai: STORYTELLING. Wie kann man auf Social Media oder im Podcast auch in aller Kürze eine gute Story erzählen? Was muss man unbedingt beachten? Für Anfänger aber auch auch für Creator:innen\, die bereits Storytelling kennen\, lohnt sich das Treffen\, denn wir haben einen besonderen Experten dabei: Wir freuen uns sehr\, dass Prof. Jørn Precht uns erklären wird\, wie wir gute Storys erzählen können.\nEr ist mehrfach preisgekrönter Drehbuchautor für Kino- und Fernsehproduktionen und ist an der Hochschule der Medien in Stuttgart tätig. \nAnmeldelink HIER – Mit Ihrer Anmeldung erhalten Sie die Zoom-Zugangsdaten \nAnsprechpartner:in: Dr. Bettina Förster\, Studienleiterin und Öffentlichkeitsbeauftragte | Themenbereich: Kirche und digitaler Wandel https://kirche-und-digitaler-wandel.ekir.de/ Tel.: 0228 479898-50 info@akademie.ekir.de
URL:https://www.evforum-bonn.de/veranstaltung/nettwerk/
LOCATION:ONLINE via Zoom\, externer Zoom Link\, Germany
CATEGORIES:Aktuelles,Fort- und Weiterbildung,KI Künstliche Intelligenz - Digital,Veranstaltungen von Institutionen und Verbänden,Veranstaltungsreihen
ATTACH;FMTTYPE=image/png:https://www.evforum-bonn.de/wp-content/uploads/2025/03/NETTwerk-e1743414305366.png
ORGANIZER;CN="Ev. Akademie im Rheinland":MAILTO:info@akademie.ekir.de
END:VEVENT
BEGIN:VEVENT
DTSTART;TZID=Europe/Berlin:20250507T200000
DTEND;TZID=Europe/Berlin:20250507T210000
DTSTAMP:20260423T121416
CREATED:20250407T111957Z
LAST-MODIFIED:20250407T111958Z
UID:10005607-1746648000-1746651600@www.evforum-bonn.de
SUMMARY:Religiöse Kindererziehung
DESCRIPTION:Impulse zur religiösen Kindererziehung – jeden Mittwoch (außer Ferien ab 20 Uhr in der Friedenskirche \nJeden Mittwochabend (außer in den Ferien) lädt Pastorin Annette Ziegler von 20–21 Uhr in die Friedenskirche Bonn-Kessenich ein\, um zentrale Fragen der religiösen Kindererziehung zu beleuchten. Begleitend durch ausgewählte Literatur und ergänzt durch Vorträge externer Fachleute bietet die Reihe praxisnahe Impulse und Raum für Austausch. \nWeitere Informationen: Tel. 0228 23 83 71 | E-Mail: buero@friedenskirche-bonn.de \n 
URL:https://www.evforum-bonn.de/veranstaltung/religioese-kindererziehung-2/2025-05-07/
LOCATION:Friedenskirche\, Franz-Bücheler-Str. 10\, Bonn\, 53129 \, Deutschland
CATEGORIES:Existenzielle Fragestellungen,Lesung - Vortrag,Pädagogische Bildung,Veranstaltungen von Gemeinden,Veranstaltungsreihen,Weiterbildung allgemein
ATTACH;FMTTYPE=image/png:https://www.evforum-bonn.de/wp-content/uploads/2025/04/Religioese-Kindererziehung-e1744024216838.png
END:VEVENT
END:VCALENDAR