BEGIN:VCALENDAR
VERSION:2.0
PRODID:-//Evangelisches Forum Bonn - ECPv6.15.20//NONSGML v1.0//EN
CALSCALE:GREGORIAN
METHOD:PUBLISH
X-WR-CALNAME:Evangelisches Forum Bonn
X-ORIGINAL-URL:https://www.evforum-bonn.de
X-WR-CALDESC:Veranstaltungen für Evangelisches Forum Bonn
REFRESH-INTERVAL;VALUE=DURATION:PT1H
X-Robots-Tag:noindex
X-PUBLISHED-TTL:PT1H
BEGIN:VTIMEZONE
TZID:Europe/Berlin
BEGIN:DAYLIGHT
TZOFFSETFROM:+0100
TZOFFSETTO:+0200
TZNAME:CEST
DTSTART:20240331T010000
END:DAYLIGHT
BEGIN:STANDARD
TZOFFSETFROM:+0200
TZOFFSETTO:+0100
TZNAME:CET
DTSTART:20241027T010000
END:STANDARD
BEGIN:DAYLIGHT
TZOFFSETFROM:+0100
TZOFFSETTO:+0200
TZNAME:CEST
DTSTART:20250330T010000
END:DAYLIGHT
BEGIN:STANDARD
TZOFFSETFROM:+0200
TZOFFSETTO:+0100
TZNAME:CET
DTSTART:20251026T010000
END:STANDARD
BEGIN:DAYLIGHT
TZOFFSETFROM:+0100
TZOFFSETTO:+0200
TZNAME:CEST
DTSTART:20260329T010000
END:DAYLIGHT
BEGIN:STANDARD
TZOFFSETFROM:+0200
TZOFFSETTO:+0100
TZNAME:CET
DTSTART:20261025T010000
END:STANDARD
END:VTIMEZONE
BEGIN:VEVENT
DTSTART;TZID=Europe/Berlin:20250508T100000
DTEND;TZID=Europe/Berlin:20250508T120000
DTSTAMP:20260423T121046
CREATED:20250116T103316Z
LAST-MODIFIED:20250116T103350Z
UID:10005193-1746698400-1746705600@www.evforum-bonn.de
SUMMARY:Gesprächskreis Lyrik II 2025
DESCRIPTION:An jedem 2. Donnerstag im Monat treffen sich Lyrik-Interessierte zum Austausch und Vortrag von ausgewählten Texten. \nDie Gruppe entscheidet welche Lyriker oder welche Themen behandelt werden sollen. \nLeitung: Antje Wille\, Tel. 64 48 13
URL:https://www.evforum-bonn.de/veranstaltung/gespraechskreis-lyrik-2025-ii-copy-copy-copy/
LOCATION:Die WOHNUNG\, Stresemannstr. 28\, Bonn\, 53123
CATEGORIES:Kunst - Musik - Literatur,Veranstaltungen von Gemeinden
ATTACH;FMTTYPE=image/jpeg:https://www.evforum-bonn.de/wp-content/uploads/2025/01/Literaturkreis.jpg
ORGANIZER;CN="Ev. Kirchengemeinde im Bonner Westen (Hardtberg)":MAILTO:hardtberg@ekir.de
END:VEVENT
BEGIN:VEVENT
DTSTART;TZID=Europe/Berlin:20250508T150000
DTEND;TZID=Europe/Berlin:20250508T170000
DTSTAMP:20260423T121046
CREATED:20250123T120708Z
LAST-MODIFIED:20250123T120744Z
UID:10005244-1746716400-1746723600@www.evforum-bonn.de
SUMMARY:Senior*innenkreis in der Friedenskirche
DESCRIPTION:Senior*innen ab Ende 70 – jeden 2. Donnerstag im Monat\, 15.00-17.00 Uhr \n„Unsere monatlichen Treffen stehen immer unter einem bestimmten Thema\, zu dem es einen (Film-)Vortrag mit anschließendem Austausch gibt. Außerdem feiern wir eine Andacht\, essen Kuchen\, trinken Kaffee\, und beten zum Abschluss. Besonders schön ist unsere Tradition\, dass sich alle\, die zwischen den Treffen Geburtstag hatten\, ein Lied wünschen dürfen\, das wir gemeinsam singen. \nEin- bis zweimal im Jahr machen wir einen Halbtagesausflug. \nWir freuen uns über eine regelmäßige Teilnahme\, um gut in Kontakt zu kommen. Es ist für uns aber auch in Ordnung\, wenn jemand nur gelegentlich dabei ist. \nDie Teilnahme ist kostenlos\, wir geben allerdings eine Spendenbox für Kaffee und Kuchen herum.“ \n 
URL:https://www.evforum-bonn.de/veranstaltung/seniorinnenkreis-in-der-friedenskirche-2-copy-copy-copy-copy/
LOCATION:Gemeindehaus der Friedenskirchengemeinde\, Franz-Bücheler-Straße 10\, Bonn\, NRW\, 53129\, Germany
CATEGORIES:Seniorenbildung,Veranstaltungen von Gemeinden
ATTACH;FMTTYPE=image/jpeg:https://www.evforum-bonn.de/wp-content/uploads/2022/12/Senior-e1751876645808.jpg
END:VEVENT
BEGIN:VEVENT
DTSTART;TZID=Europe/Berlin:20250508T160000
DTEND;TZID=Europe/Berlin:20250508T173000
DTSTAMP:20260423T121046
CREATED:20250815T084929Z
LAST-MODIFIED:20250815T085016Z
UID:10006162-1746720000-1746725400@www.evforum-bonn.de
SUMMARY:Christlich-Jüdisches Cafè
DESCRIPTION:Der Gesprächskreis zwischen Juden und Christen bietet Raum für einen offenen Dialog und gegenseitiges Verständnis. In wechselnden Themenabenden sprechen Referentinnen und Referenten aus jüdischer und christlicher Perspektive über Glaubensfragen\, Geschichte\, Kultur und aktuelle gesellschaftliche Entwicklungen. \n\nEinmal im Monat jeden 1. Donnerstag (außer in den Ferien/ an Feiertagen) sind Interessierte von 16 – ca\,. 17:30 Uhr herzlich eingeladen\, sich einzubringen\, Fragen zu stellen und im gemeinsamen Gespräch neue Blickwinkel zu entdecken. \n\nOrt: Meist im Gemeindesaal der Kreuzkirche\, Adenauerallee 6\, Bonn (Abweichungen möglich – bitte Ankündigung beachten)Veranstalter: Gesellschaft für Christlich-Jüdische Zusammenarbeit Bonn e.V.Weitere Informationen: www.gcjz-bonn.de · info@gcjz-bonn.de
URL:https://www.evforum-bonn.de/veranstaltung/christlich-juedisches-cafe-25-05/
LOCATION:Gemeindehaus/ -zentrum der Ev. Kreuzkirche\, An der Evangelischen Kirche 6\, Bonn\, NRW\, 53113
CATEGORIES:Bildung & Café,Migration - Kultur - Kultureller Austausch,Philosophisch-psychologische Kaffeehausgespräche,Politik - Geschichte - Soziologie,Theologie / Philosophie,Veranstaltungen von Gemeinden,Veranstaltungen von Institutionen und Verbänden,Veranstaltungsreihen
ATTACH;FMTTYPE=image/jpeg:https://www.evforum-bonn.de/wp-content/uploads/2025/06/Christlich-Juedisches-Cafe-e1750936329504.jpg
ORGANIZER;CN="GCJZ Gesellschaft f%C3%BCr Christlich-J%C3%BCdische Zusammenarbeit Bonn e.V.":MAILTO:info@gcjz-bonn.de
END:VEVENT
END:VCALENDAR