BEGIN:VCALENDAR
VERSION:2.0
PRODID:-//Evangelisches Forum Bonn - ECPv6.15.20//NONSGML v1.0//EN
CALSCALE:GREGORIAN
METHOD:PUBLISH
X-ORIGINAL-URL:https://www.evforum-bonn.de
X-WR-CALDESC:Veranstaltungen für Evangelisches Forum Bonn
REFRESH-INTERVAL;VALUE=DURATION:PT1H
X-Robots-Tag:noindex
X-PUBLISHED-TTL:PT1H
BEGIN:VTIMEZONE
TZID:Europe/Berlin
BEGIN:DAYLIGHT
TZOFFSETFROM:+0100
TZOFFSETTO:+0200
TZNAME:CEST
DTSTART:20240331T010000
END:DAYLIGHT
BEGIN:STANDARD
TZOFFSETFROM:+0200
TZOFFSETTO:+0100
TZNAME:CET
DTSTART:20241027T010000
END:STANDARD
BEGIN:DAYLIGHT
TZOFFSETFROM:+0100
TZOFFSETTO:+0200
TZNAME:CEST
DTSTART:20250330T010000
END:DAYLIGHT
BEGIN:STANDARD
TZOFFSETFROM:+0200
TZOFFSETTO:+0100
TZNAME:CET
DTSTART:20251026T010000
END:STANDARD
BEGIN:DAYLIGHT
TZOFFSETFROM:+0100
TZOFFSETTO:+0200
TZNAME:CEST
DTSTART:20260329T010000
END:DAYLIGHT
BEGIN:STANDARD
TZOFFSETFROM:+0200
TZOFFSETTO:+0100
TZNAME:CET
DTSTART:20261025T010000
END:STANDARD
END:VTIMEZONE
BEGIN:VEVENT
DTSTART;TZID=Europe/Berlin:20250515T100000
DTEND;TZID=Europe/Berlin:20250515T120000
DTSTAMP:20260423T121255
CREATED:20250123T114452Z
LAST-MODIFIED:20250123T114534Z
UID:10005232-1747303200-1747310400@www.evforum-bonn.de
SUMMARY:Männerfrühstück 2025
DESCRIPTION:Für den Mann ab 70 – Frühstück mit Vortrag und Diskussion – geplant 2025 – jeden 3. Donnerstag im Monat  \nZu den Treffen gibt es meist ein Thema\, mit dem die Runde sich nach dem Frühstück auseinandersetzt: \nMan hört einen Vortrag\, diskutiert gemeinsam oder schaut einen Filmbeitrag an. Einmal im Jahr ist ein Ausflug geplant. \nDie Themen und Ausflugsziele werden gemeinsam abgestimmt. \nEine regelmäßige Teilnahme ist nicht nötig: Man kommt nach Lust und Laune! \n  \n 
URL:https://www.evforum-bonn.de/veranstaltung/maennerfruehstueck-2023-copy-copy-2-copy-copy-copy-copy-copy-copy-copy-copy-copy-copy-copy/
LOCATION:Gemeindehaus der Friedenskirchengemeinde\, Franz-Bücheler-Straße 10\, Bonn\, NRW\, 53129\, Germany
CATEGORIES:Veranstaltungen von Gemeinden
ATTACH;FMTTYPE=image/jpeg:https://www.evforum-bonn.de/wp-content/uploads/2025/01/Maennerfruehstueck.jpg
END:VEVENT
BEGIN:VEVENT
DTSTART;TZID=Europe/Berlin:20250515T153000
DTEND;TZID=Europe/Berlin:20250515T170000
DTSTAMP:20260423T121255
CREATED:20250507T110114Z
LAST-MODIFIED:20250507T110249Z
UID:10005661-1747323000-1747328400@www.evforum-bonn.de
SUMMARY:Digital-Café am HHG
DESCRIPTION:Gemeinsame Aktion von YoungCaritas und dem Helmholtz-Gymnasium in Duisdorf. \nSchülerinnen und Schüler bieten im Rahmen ihrer „Weltverbesserer-AG“ für ältere Menschen ein kostenfreies Digital-Café mit Kaffee und Kuchen an. Sie bieten Hilfe bei allen Fragen rund um Handy oder Tablet. So bietet sich die Möglichkeit zum Austausch zwischen den Generationen in gemütlicher Atmosphäre. \nEine Anmeldung ist nicht erforderlich. Interessierte können einfach vorbeikommen. \nOrt:\nHelmholtz-Gymnasium\nHelmholtzstraße 18\n53123 Bonn \nKontakt: weltverbesserer@hhg-bonn.de
URL:https://www.evforum-bonn.de/veranstaltung/digital-cafe-am-hhg-25-05/
LOCATION:Helmholtz-Gymnasium\, Helhltzstraße 18\, Bonn\, NRW\, 53123\, Germany
CATEGORIES:Altern und Alter,Grips & Geist,KI Künstliche Intelligenz - Digital,Veranstaltungen von Gemeinden,Veranstaltungsreihen
ATTACH;FMTTYPE=image/jpeg:https://www.evforum-bonn.de/wp-content/uploads/2025/05/hands-820272_640-e1746615511644.jpg
ORGANIZER;CN="Ev. Johanniskirchengemeinde":MAILTO:d.gruss@bonn-evangelisch.de
END:VEVENT
BEGIN:VEVENT
DTSTART;TZID=Europe/Berlin:20250515T180000
DTEND;TZID=Europe/Berlin:20250515T210000
DTSTAMP:20260423T121255
CREATED:20250520T082201Z
LAST-MODIFIED:20250520T082247Z
UID:10005676-1747332000-1747342800@www.evforum-bonn.de
SUMMARY:Mitten im Leben: 25 JHR Krankenhausseelsorge Bonn
DESCRIPTION:25 Jahre lange jeder Euro für eine gute Tat: der Besuch eines Krankenhausclowns auf der Kinderstation\, der Zuschuss für eine anregende Diskussion über Menschenwürde im Sterben und so vieles mehr. Die Stiftung Krankenhausseelsorge wird 25 Jahre alt. Herzliche Einladung zu einem fröhlichen Fest\, Donnerstag\, 15. Mai 2025\,  ab 18.00 Uhr auf dem X-tra PLatz vor der Bonner Kreuzkirche. \nMitten im Leben: Feiern Sie mit uns 25 Jahre Stiftung Krankenhausseelsorge Bonn am 15. Mai vor der Kreuzkirche\nDas Motto der öffentlichen Jubiläumsfeier lautet „Mitten im Leben“ mit all seinen Facetten\, mit Andacht und Humor\, mit Frohsinn und Austausch untereinander. \nAlle Weggefährten dieser einzigartigen Stiftung des Evangelischen Kirchenkreises Bonn\, Förderer\, Spenderinnen\, Gründer und Interessierte sind herzlich willkommen. \nAm 15. Mai ab 18.00 Uhr auf dem Xtra-Platz und beim anschließenden Empfang vor und im Kirchenpavillon an der Kreuzkirche (am Kaiserplatz im Bonner Zentrum) erwartet Sie viel Fröhliches wie Nachdenkliches und ganz viel Gemeinschaft: \n\nZum Innehalten bringt uns: ein geistlicher Impuls mit persönlichen Statements zu Erfahrungen mit der Krankenhausseelsorge\nZum Lachen bringt uns: Ulrike Böhmer\, Kirchenkabarettistin\nIn Bewegung bringen uns die Lindy Hoppers\n\nund wir alle\, die wir ab 19.00 Uhr gemeinsam essen\, trinken\, reden und uns wohlfühlen. \nSuperintendent Dietmar Pistorius und der Vorsitzende der Stiftung Ulrich Hamacher sowie alle vom Team Krankenhausseelsorge in Bonn freuen sich auf Sie! \nSiehe auch: Startseite – Stiftung Krankenhausseelsorge \n(April 2025 / ger)
URL:https://www.evforum-bonn.de/veranstaltung/mitten-im-leben-25-jhr-krankenhausseelsorge-bonn/
LOCATION:Xtra-Platz Bonn\, Am Portal der Kreuzkirche\, Kaiserplatz 1\, Bonn\, NRW\, 53113\, Germany
CATEGORIES:Aktuelles,Gesundheit - Krankheit - Medizin,Kirchenpavillon,Seniorenbildung,Theologie / Philosophie,Wissenschaftsstadt,Xtra Platz Bonn,Zentralprogramm
ATTACH;FMTTYPE=image/jpeg:https://www.evforum-bonn.de/wp-content/uploads/2025/05/KKH-Seelsorge-Jubi-e1747729229834.jpg
END:VEVENT
END:VCALENDAR