BEGIN:VCALENDAR
VERSION:2.0
PRODID:-//Evangelisches Forum Bonn - ECPv6.15.20//NONSGML v1.0//EN
CALSCALE:GREGORIAN
METHOD:PUBLISH
X-ORIGINAL-URL:https://www.evforum-bonn.de
X-WR-CALDESC:Veranstaltungen für Evangelisches Forum Bonn
REFRESH-INTERVAL;VALUE=DURATION:PT1H
X-Robots-Tag:noindex
X-PUBLISHED-TTL:PT1H
BEGIN:VTIMEZONE
TZID:Europe/Berlin
BEGIN:DAYLIGHT
TZOFFSETFROM:+0100
TZOFFSETTO:+0200
TZNAME:CEST
DTSTART:20240331T010000
END:DAYLIGHT
BEGIN:STANDARD
TZOFFSETFROM:+0200
TZOFFSETTO:+0100
TZNAME:CET
DTSTART:20241027T010000
END:STANDARD
BEGIN:DAYLIGHT
TZOFFSETFROM:+0100
TZOFFSETTO:+0200
TZNAME:CEST
DTSTART:20250330T010000
END:DAYLIGHT
BEGIN:STANDARD
TZOFFSETFROM:+0200
TZOFFSETTO:+0100
TZNAME:CET
DTSTART:20251026T010000
END:STANDARD
BEGIN:DAYLIGHT
TZOFFSETFROM:+0100
TZOFFSETTO:+0200
TZNAME:CEST
DTSTART:20260329T010000
END:DAYLIGHT
BEGIN:STANDARD
TZOFFSETFROM:+0200
TZOFFSETTO:+0100
TZNAME:CET
DTSTART:20261025T010000
END:STANDARD
END:VTIMEZONE
BEGIN:VEVENT
DTSTART;TZID=Europe/Berlin:20250516T160000
DTEND;TZID=Europe/Berlin:20250516T173000
DTSTAMP:20260423T121412
CREATED:20250305T081313Z
LAST-MODIFIED:20250305T081313Z
UID:10005527-1747411200-1747416600@www.evforum-bonn.de
SUMMARY:Stadtführung - Bonn auf Evangelisch
DESCRIPTION:16.05.2025  um 16 Uhr – Treffpunkt: Ev. Kirchenpavillon\, Kaiserplatz 1a\, Bonn\nDer Rundgang durch die Innenstadt erzählt von Ketzern und Reformversuchen\, von den Anfängen der evangelischen Gemeinde im 19. Jahrhundert\, von prägenden Menschen\, sozialen Engagement und der Kirche im 20. Jahrhundert bis zur Gegenwart. \nTeilnahmegebühr pro Person: 8 Euro / ermäßigt 5 Euro. Dauer ca. 90 Minuten. \nEs führen Sie: Petra Clemens – Ellen Wagner \n-> mit Erreichen der Mindest-Teilnehmendenzahl erhalten Sie eine Bestätigung mit Zahlungsanweisung
URL:https://www.evforum-bonn.de/veranstaltung/stadtfuehrung-bonn-auf-evangelisch-16-05-25/
LOCATION:Stadtführung – indiv. Treffpunkt\, Bonn\, NRW\, 53113\, Germany
CATEGORIES:Evangelische Stadtführungen
ATTACH;FMTTYPE=image/jpeg:https://www.evforum-bonn.de/wp-content/uploads/2025/02/Stadtfuehrung-Kirchenfenster-e1744102285565.jpg
ORGANIZER;CN="Evangelisches Forum Bonn":MAILTO:info@evforum-bonn.de
END:VEVENT
END:VCALENDAR