BEGIN:VCALENDAR
VERSION:2.0
PRODID:-//Evangelisches Forum Bonn - ECPv6.15.20//NONSGML v1.0//EN
CALSCALE:GREGORIAN
METHOD:PUBLISH
X-ORIGINAL-URL:https://www.evforum-bonn.de
X-WR-CALDESC:Veranstaltungen für Evangelisches Forum Bonn
REFRESH-INTERVAL;VALUE=DURATION:PT1H
X-Robots-Tag:noindex
X-PUBLISHED-TTL:PT1H
BEGIN:VTIMEZONE
TZID:Europe/Berlin
BEGIN:DAYLIGHT
TZOFFSETFROM:+0100
TZOFFSETTO:+0200
TZNAME:CEST
DTSTART:20240331T010000
END:DAYLIGHT
BEGIN:STANDARD
TZOFFSETFROM:+0200
TZOFFSETTO:+0100
TZNAME:CET
DTSTART:20241027T010000
END:STANDARD
BEGIN:DAYLIGHT
TZOFFSETFROM:+0100
TZOFFSETTO:+0200
TZNAME:CEST
DTSTART:20250330T010000
END:DAYLIGHT
BEGIN:STANDARD
TZOFFSETFROM:+0200
TZOFFSETTO:+0100
TZNAME:CET
DTSTART:20251026T010000
END:STANDARD
BEGIN:DAYLIGHT
TZOFFSETFROM:+0100
TZOFFSETTO:+0200
TZNAME:CEST
DTSTART:20260329T010000
END:DAYLIGHT
BEGIN:STANDARD
TZOFFSETFROM:+0200
TZOFFSETTO:+0100
TZNAME:CET
DTSTART:20261025T010000
END:STANDARD
END:VTIMEZONE
BEGIN:VEVENT
DTSTART;TZID=Europe/Berlin:20250521T100000
DTEND;TZID=Europe/Berlin:20250521T113000
DTSTAMP:20260423T121230
CREATED:20250519T082343Z
LAST-MODIFIED:20250519T082626Z
UID:10005672-1747821600-1747827000@www.evforum-bonn.de
SUMMARY:Lesen am Vormittag mit Elke Volz
DESCRIPTION:„Lies nur\, lies nur. Du wirst wohl immer etwas finden\, was Du zuvor nicht gewusst hast.“ (Martin Luther) \n\n„Lesen am Vormittag“ gibt es seit Oktober 2006 einmal im Monat in der Bücherei an der Christuskirche. \nMan braucht nichts vorzubereiten\, man kann einfach kommen. \nElke Volz wählt Bücher aus der deutschsprachigen Literatur: Im Vorlesen werden die Erzählungen\, Novellen\, Romane zu einem berührenden\, spannenden Erlebnis. \nSie finden die Termine auch im Programm des Hauses der Familie.
URL:https://www.evforum-bonn.de/veranstaltung/lesen-am-vormittag-mit-elke-volz/
LOCATION:Bücherei Christuskirche Bonn\, Hohenzollernstraße 70\, Bonn\, NRW\, 53175\, Germany
CATEGORIES:Bibel und Buch,Grips & Geist,Kunst - Musik - Literatur,Lesung - Vortrag,Philosophisch-psychologische Kaffeehausgespräche,Theologie / Philosophie,Veranstaltungen von Gemeinden,Veranstaltungsreihen,Weiterbildung allgemein
ATTACH;FMTTYPE=image/png:https://www.evforum-bonn.de/wp-content/uploads/2025/05/reader-8211917_1280-e1747643170808.png
END:VEVENT
BEGIN:VEVENT
DTSTART;TZID=Europe/Berlin:20250521T190000
DTEND;TZID=Europe/Berlin:20250521T210000
DTSTAMP:20260423T121230
CREATED:20250108T124424Z
LAST-MODIFIED:20250502T074955Z
UID:10005094-1747854000-1747861200@www.evforum-bonn.de
SUMMARY:Literaturkreis 2025 - Jenny Erpenbeck "Kairos"
DESCRIPTION:Auch in diesem Jahr laden wir Sie herzlich zu unserem Literaturkreis ein! In der Regel treffen wir uns jeden 3. Mittwoch im Monat von 19.00 bis 20.30 Uhr  in der Bücherei der Matthäikirche\, um gemeinsam spannende\, bewegende und inspirierende Bücher zu entdecken und zu besprechen. \nFreuen Sie sich auf eine abwechslungsreiche Auswahl an Titeln und Autor*innen\, interessante Diskussionen und den Austausch mit anderen Literaturbegeisterten. \nDer Eintritt ist frei\, und eine Anmeldung nicht nötig.\nDas Bücherei-Team der Matthäikirche freut sich auf Sie! \nZu den Literaturkreis-Büchern für das Jahr 2025
URL:https://www.evforum-bonn.de/veranstaltung/literaturkreis-2025-jenny-erpenbeck-kairos/
LOCATION:Ev. Öffentliche Bücherei an der Matthäikirche\, Gutenbergstraße 10\, Bonn\, NRW\, 53123\, Germany
CATEGORIES:Grips & Geist,Kunst - Musik - Literatur,Veranstaltungen von Gemeinden,Veranstaltungsreihen
ATTACH;FMTTYPE=image/jpeg:https://www.evforum-bonn.de/wp-content/uploads/2025/01/Literaturkreis.jpg
ORGANIZER;CN="Ev. Kirchengemeinde im Bonner Westen (Hardtberg)":MAILTO:hardtberg@ekir.de
END:VEVENT
BEGIN:VEVENT
DTSTART;TZID=Europe/Berlin:20250521T190000
DTEND;TZID=Europe/Berlin:20250521T210000
DTSTAMP:20260423T121230
CREATED:20250317T122925Z
LAST-MODIFIED:20250402T095728Z
UID:10005566-1747854000-1747861200@www.evforum-bonn.de
SUMMARY:Scheiblettenkind
DESCRIPTION:Multimediale Lesung am 21. Mai 2025 um 19 Uhr im Kirchenpavillon Bonn\n„Scheiblettenkind“ – der Titel der Graphic Novel von Eva Müller ist nur eines der Schimpfwörter\, das der Protagonistin an den Kopf geworfen wird. Die autofiktionale Geschichte erzählt vom Aufwachsen in Armut und Unbildung\, beschreibt Herkunft sowie Entfremdung und schließlich Emanzipation als Künstlerin. Immer an der Seite der Protagonistin ist dabei die Schlange des Selbstzweifels\, die bis zum Ende nicht von ihr weicht. \nEva Müller erzählt in „Scheiblettenkind“ in klaren und eindrücklichen Bildern von Herkunft\, Klasse und Ungleichheit. Ungeschönt und ganz nah am Inneren ihrer autofiktionalen Figur illustriert sie die Bedeutung sozialer Herkunft. Auszüge aus ihrer Graphic Novel präsentiert sie in dieser multimedialen Lesung.\nBraucht es ein stärkeres Klassenbewusstsein? Welche Rolle kann Kunst beim Sprechen über Klasse spielen? Welche Bedeutung hat Kunst in einer Zeit in der Gesellschaft weiter auseinander driftet? \nDie Lesung und das anschließende Gespräch bieten den Raum\, über diese und weitere aktuelle Fragen zu Klasse\, Kunst und Emanzipation in entspannter Atmosphäre ins Gespräch zu kommen. \nReferentin: Eva Müller studierte Kunst in Hamburg und arbeitet dort als freie Comic Zeichnerin\, Autorin und Künstlerin. Ihre mehrfach ausgezeichneten Comics und Zeichnungen wurden in zahlreichen Büchern und Magazinen in mehreren Sprachen veröffentlicht. Als Artist in Residence ist sie regelmäßig in verschiedenen Ländern zu Gast. \nTeilnahme – kostenfrei | Anmeldung bitte per Mail an: gisela.haertel@ekir.de \n\nAnsprechpartner:in\n\nTill Kiehne\, Studienleiter – Themenbereich: Gesellschaftlicher Zusammenhalt\nhttps://www.kirche-gesellschaft-zusammenhalt.de/\nTel.: 0228 479898-50
URL:https://www.evforum-bonn.de/veranstaltung/scheiblettenkind/
LOCATION:Ev. Kirchenpavillon Bonn\, Kaiserplatz 1a\, Bonn\, NRW\, 53113\, Germany
CATEGORIES:Aktuelles,Kirchenpavillon,Lesung - Vortrag,Thematische Schwerpunkte,Veranstaltungen von Institutionen und Verbänden,Zentralprogramm
ORGANIZER;CN="Ev. Akademie im Rheinland":MAILTO:info@akademie.ekir.de
END:VEVENT
BEGIN:VEVENT
DTSTART;TZID=Europe/Berlin:20250521T193000
DTEND;TZID=Europe/Berlin:20250521T210000
DTSTAMP:20260423T121230
CREATED:20250805T092627Z
LAST-MODIFIED:20250805T092627Z
UID:10006113-1747855800-1747861200@www.evforum-bonn.de
SUMMARY:Lesekreis in Trinitatis
DESCRIPTION:Gemeinsam lesen\, reflektieren und entdecken wir klassische und zeitgenössische Literatur – von Goethe bis Juli Zeh\, von Weltliteratur bis Gegenwartsroman. Im Mittelpunkt steht der lebendige Austausch über Themen\, Sprache\, Stil und gesellschaftliche Relevanz der Texte. Der Lesekreis lädt zur Auseinandersetzung mit literarischen Werken ein und fördert zugleich das kritische Denken\, die sprachliche Ausdrucksfähigkeit und das Verständnis für kulturelle\, gesellschaftliche und ethische Themen. \nZielgruppe:Alle\, die Freude an guter Literatur haben und Lust auf inspirierende Gespräche mitbringen.Literaturkenntnisse sind nicht erforderlich – Offenheit und Interesse genügen. \nInformationen auf einen Blick:📆 Wann: Jeden 3. Mittwoch im Monat\, 19:30 Uhr | 📍 Wo: Gemeindehaus der Ev. Trinitatiskirchengemeinde Bonn \nEinstieg jederzeit möglich – Ansprechpartner:in: Susanne Müller Snmlrbonn@aol.com
URL:https://www.evforum-bonn.de/veranstaltung/lesekreis-in-trinitatis/2025-05-21/
LOCATION:Gemeindehaus der Trinitatiskirchengemeinde\, Brahmsstraße 14\, Bonn\, NRW\, 53121\, Germany
CATEGORIES:Bibel und Buch,Kunst - Musik - Literatur,Theologie / Philosophie,Veranstaltungen von Gemeinden,Veranstaltungsreihen
ATTACH;FMTTYPE=image/jpeg:https://www.evforum-bonn.de/wp-content/uploads/2025/01/Literaturkreis.jpg
END:VEVENT
BEGIN:VEVENT
DTSTART;TZID=Europe/Berlin:20250521T200000
DTEND;TZID=Europe/Berlin:20250521T210000
DTSTAMP:20260423T121230
CREATED:20250407T111957Z
LAST-MODIFIED:20250407T111958Z
UID:10005609-1747857600-1747861200@www.evforum-bonn.de
SUMMARY:Religiöse Kindererziehung
DESCRIPTION:Impulse zur religiösen Kindererziehung – jeden Mittwoch (außer Ferien ab 20 Uhr in der Friedenskirche \nJeden Mittwochabend (außer in den Ferien) lädt Pastorin Annette Ziegler von 20–21 Uhr in die Friedenskirche Bonn-Kessenich ein\, um zentrale Fragen der religiösen Kindererziehung zu beleuchten. Begleitend durch ausgewählte Literatur und ergänzt durch Vorträge externer Fachleute bietet die Reihe praxisnahe Impulse und Raum für Austausch. \nWeitere Informationen: Tel. 0228 23 83 71 | E-Mail: buero@friedenskirche-bonn.de \n 
URL:https://www.evforum-bonn.de/veranstaltung/religioese-kindererziehung-2/2025-05-21/
LOCATION:Friedenskirche\, Franz-Bücheler-Str. 10\, Bonn\, 53129 \, Deutschland
CATEGORIES:Existenzielle Fragestellungen,Lesung - Vortrag,Pädagogische Bildung,Veranstaltungen von Gemeinden,Veranstaltungsreihen,Weiterbildung allgemein
ATTACH;FMTTYPE=image/png:https://www.evforum-bonn.de/wp-content/uploads/2025/04/Religioese-Kindererziehung-e1744024216838.png
END:VEVENT
END:VCALENDAR