BEGIN:VCALENDAR
VERSION:2.0
PRODID:-//Evangelisches Forum Bonn - ECPv6.15.20//NONSGML v1.0//EN
CALSCALE:GREGORIAN
METHOD:PUBLISH
X-ORIGINAL-URL:https://www.evforum-bonn.de
X-WR-CALDESC:Veranstaltungen für Evangelisches Forum Bonn
REFRESH-INTERVAL;VALUE=DURATION:PT1H
X-Robots-Tag:noindex
X-PUBLISHED-TTL:PT1H
BEGIN:VTIMEZONE
TZID:Europe/Busingen
BEGIN:DAYLIGHT
TZOFFSETFROM:+0100
TZOFFSETTO:+0200
TZNAME:CEST
DTSTART:20240331T010000
END:DAYLIGHT
BEGIN:STANDARD
TZOFFSETFROM:+0200
TZOFFSETTO:+0100
TZNAME:CET
DTSTART:20241027T010000
END:STANDARD
BEGIN:DAYLIGHT
TZOFFSETFROM:+0100
TZOFFSETTO:+0200
TZNAME:CEST
DTSTART:20250330T010000
END:DAYLIGHT
BEGIN:STANDARD
TZOFFSETFROM:+0200
TZOFFSETTO:+0100
TZNAME:CET
DTSTART:20251026T010000
END:STANDARD
BEGIN:DAYLIGHT
TZOFFSETFROM:+0100
TZOFFSETTO:+0200
TZNAME:CEST
DTSTART:20260329T010000
END:DAYLIGHT
BEGIN:STANDARD
TZOFFSETFROM:+0200
TZOFFSETTO:+0100
TZNAME:CET
DTSTART:20261025T010000
END:STANDARD
END:VTIMEZONE
BEGIN:VTIMEZONE
TZID:Europe/Berlin
BEGIN:DAYLIGHT
TZOFFSETFROM:+0100
TZOFFSETTO:+0200
TZNAME:CEST
DTSTART:20240331T010000
END:DAYLIGHT
BEGIN:STANDARD
TZOFFSETFROM:+0200
TZOFFSETTO:+0100
TZNAME:CET
DTSTART:20241027T010000
END:STANDARD
BEGIN:DAYLIGHT
TZOFFSETFROM:+0100
TZOFFSETTO:+0200
TZNAME:CEST
DTSTART:20250330T010000
END:DAYLIGHT
BEGIN:STANDARD
TZOFFSETFROM:+0200
TZOFFSETTO:+0100
TZNAME:CET
DTSTART:20251026T010000
END:STANDARD
BEGIN:DAYLIGHT
TZOFFSETFROM:+0100
TZOFFSETTO:+0200
TZNAME:CEST
DTSTART:20260329T010000
END:DAYLIGHT
BEGIN:STANDARD
TZOFFSETFROM:+0200
TZOFFSETTO:+0100
TZNAME:CET
DTSTART:20261025T010000
END:STANDARD
END:VTIMEZONE
BEGIN:VEVENT
DTSTART;TZID=Europe/Busingen:20250522T163000
DTEND;TZID=Europe/Busingen:20250522T180000
DTSTAMP:20260423T121255
CREATED:20250109T111641Z
LAST-MODIFIED:20250110T175328Z
UID:10005125-1747931400-1747936800@www.evforum-bonn.de
SUMMARY:Mein Vorgebirge – eine biografische  Reise
DESCRIPTION:22.05.2025 – 16:30 Uhr – Evangelisches Gemeindeforum Auerberg \nDr. Michael Geffert hat in Kurzgeschichten und Skizzen den besonderen Reiz der Vorgebirgslandschaften festgehalten. Damit will er uns das Vorgebirge\, seine Menschen und Bauten nahebringen. Er wird ausgewählte Geschichten aus seinem Buch vorlesen und uns ihre Entstehungsgeschichte erzählen. Ebenso zeigt er auch Bilder aus seinem Buch. \nEintritt frei – Eine Spende für die Sozialberatung der Ev. Lukaskirchengemeinde wird erbeten \n 
URL:https://www.evforum-bonn.de/veranstaltung/mein-vorgebirge-eine-biografische-reise/
LOCATION:Ev. Gemeindeforum Auerberg\, Helsinkistraße 4\, Bonn\, 53117\, Deutschland
CATEGORIES:Aktuelles,Veranstaltungen von Gemeinden
ATTACH;FMTTYPE=image/jpeg:https://www.evforum-bonn.de/wp-content/uploads/2025/01/Lesung.jpg
END:VEVENT
BEGIN:VEVENT
DTSTART;TZID=Europe/Berlin:20250522T180000
DTEND;TZID=Europe/Berlin:20250522T210000
DTSTAMP:20260423T121255
CREATED:20250110T165254Z
LAST-MODIFIED:20250522T102328Z
UID:10005131-1747936800-1747947600@www.evforum-bonn.de
SUMMARY:Prävention - Basisschulung (3h) Online
DESCRIPTION:Fortbildungen zur Prävention von sexualisierter Gewalt \nDie Evangelische Kirche in Bonn lebt durch die lebendigen Beziehungen der Menschen miteinander und mit Gott. \nIn der Arbeit mit Kindern\, Jugendlichen und Erwachsenen entsteht eine persönliche Nähe und Gemeinschaft\, die von Vertrauen geprägt ist.\nUm sicher aufwachsen und leben zu können benötigen Kinder und Jugendliche Ansprechpartner*innen\, denen sie vertrauen können und die ihnen Zuwendung und Geborgenheit schenken. Sie brauchen Menschen\, die sie stark machen\, sie unterstützen\, Schutz und Sicherheit bieten und auf sie Acht geben. \nDas Evangelische Forum Bonn bietet Präventionsfortbildungen zum Thema sexualisierter Gewalt für ehrenamtliche Mitarbeiter*innen an. \nBitte sprechen Sie mit Ihrer Kirchengemeinde bzw. Organisation\, für die Sie ehrenamtlich arbeiten\, ab\, welche Fortbildung für Sie geeignet ist. \n Die Kursgebühren werden in der Regel von den entsprechenden Kirchengemeinden bzw. Organisationen übernommen. \nWenn Sie Fragen haben\, melden Sie sich bitte unter: info@evforum-bonn.de oder 0228 6880 320 \nEine Übersicht aller angebotenen Schulungstermine finden Sie auch hier: https://www.evforum-bonn.de/start/praeventionsschulungen/ \n  \nReferentin: Frau Merle Wieschhoff – www.merle-wieschhoff.de
URL:https://www.evforum-bonn.de/veranstaltung/praeventionsschulung_basis-22-05/
LOCATION:ONLINE via Zoom\, externer Zoom Link\, Germany
CATEGORIES:Fort- und Weiterbildung,Präventionsschulung,Veranstaltungsreihen
ATTACH;FMTTYPE=image/jpeg:https://www.evforum-bonn.de/wp-content/uploads/2025/01/achtgeben_starkmachen-1.jpg
ORGANIZER;CN="Evangelisches Forum Bonn":MAILTO:info@evforum-bonn.de
END:VEVENT
BEGIN:VEVENT
DTSTART;TZID=Europe/Berlin:20250522T190000
DTEND;TZID=Europe/Berlin:20250522T203000
DTSTAMP:20260423T121255
CREATED:20250218T085314Z
LAST-MODIFIED:20250218T085616Z
UID:10005514-1747940400-1747945800@www.evforum-bonn.de
SUMMARY:Tol’dot & Tarbut: Richard Lichtheim (1885 – 1963)
DESCRIPTION:22.05.2025 um 19 Uhr | Online via Zoom\n\nRichard Lichtheim (1885 – 1963) – Zwischen deutscher zionistischer Bewegung und internationaler Diplomatie\n\nDer Berliner jüdische Diplomat Richard Lichtheim vertrat im Laufe seiner politischen Karriere mehrfach die Interessen der zionistischen Bewegung: im Ersten Weltkrieg in Konstantinopel\, im Zweiten Weltkrieg in Genf. Dort verstand er als einer der ersten zeitgenössischen Beobachter\, dass es sich bei den nationalsozialistischen Massenmorden an den europäischen Judenheiten um ein Verbrechen ungekannten Ausmaßes handelte: um ihre  systematische und totale Vernichtung. Die sich wandelnden politischen Realitäten in Europa und Palästina ließen ihn auch seine Vorstellungen eines zukünftigen jüdischen Gemeinwesens mehrfach überdenken. Andrea Kirchner beleuchtet anhand seiner Biografie verschiedene politischen Strömungen innerhalb der zionistischen Bewegung sowie die Herausforderungen jüdischer Diplomatie in der ersten Hälfte des\n20. Jahrhunderts. \nDr. Andrea Kirchner\, Frankfurt/M. \nAnmeldung: externer Zoom Link\nDie Anmeldung erfogt über den QR-Code in der Ausschreibung oder über info@bildungswerk-bonn.de und 0228 42979-0.\nDie Teilnahme ist kostenfrei. \nOffizieller Flyer – TOLDOT & TARBUT_Sommersemester 2025
URL:https://www.evforum-bonn.de/veranstaltung/toldot-tarbut-2025-05-22/
LOCATION:ONLINE via Zoom\, externer Zoom Link\, Germany
CATEGORIES:Aktuelles,Toldot & Tarbut,Veranstaltungsreihen,Zentralprogramm
ATTACH;FMTTYPE=image/jpeg:https://www.evforum-bonn.de/wp-content/uploads/2024/08/toldot-und-tarbut-e1736348778526.jpg
ORGANIZER;CN="Katholisches Bildungsforum Bonn":MAILTO:fbs@bildungsforum-bonn.de
END:VEVENT
BEGIN:VEVENT
DTSTART;TZID=Europe/Berlin:20250522T193000
DTEND;TZID=Europe/Berlin:20250522T213000
DTSTAMP:20260423T121255
CREATED:20250313T093623Z
LAST-MODIFIED:20250313T093854Z
UID:10005565-1747942200-1747949400@www.evforum-bonn.de
SUMMARY:AK Muslime-Christen "Brücken zueinander-Gemeinsam engagiert in Bonn"
DESCRIPTION:Donnerstag\, 22. Mai 2025 um 19:30 Uhr im Saal der DiTiB-Moscheegemeinde (neben der Viktoriabrücke)\n\nKurze Impulsvorträge und Diskussion\n\nPfarrerin Charlotte Fischer (Ev. Trinitatiskirchengemeinde)\nPfarrer Dr. Peter Rieve (kath. Gemeinde St. Petrus)\nImam Abdlqalq Azrak (Al Muhajirin Moschee)\nImam Salih Çelik (DiTiB Akademie\, Köln)\nModeration: Pfarrer Michael Schäfer\, Lukaskirchengemeinde \nOffizieller Flyer zur Veranstaltung
URL:https://www.evforum-bonn.de/veranstaltung/ak-muslime-christen-bruecken-zueinander-gemeinsam-engagiert-in-bonn/
LOCATION:DiTiB – Zentralmoschee Bonn\, Hochstadenring 43\, Bonn\, NRW\, 53119\, Germany
CATEGORIES:Aktuelles,Migration - Kultur - Kultureller Austausch,Veranstaltungen von Institutionen und Verbänden,Zentralprogramm
ATTACH;FMTTYPE=image/jpeg:https://www.evforum-bonn.de/wp-content/uploads/2025/03/Flyer.jpg
END:VEVENT
END:VCALENDAR