BEGIN:VCALENDAR
VERSION:2.0
PRODID:-//Evangelisches Forum Bonn - ECPv6.15.20//NONSGML v1.0//EN
CALSCALE:GREGORIAN
METHOD:PUBLISH
X-WR-CALNAME:Evangelisches Forum Bonn
X-ORIGINAL-URL:https://www.evforum-bonn.de
X-WR-CALDESC:Veranstaltungen für Evangelisches Forum Bonn
REFRESH-INTERVAL;VALUE=DURATION:PT1H
X-Robots-Tag:noindex
X-PUBLISHED-TTL:PT1H
BEGIN:VTIMEZONE
TZID:Europe/Berlin
BEGIN:DAYLIGHT
TZOFFSETFROM:+0100
TZOFFSETTO:+0200
TZNAME:CEST
DTSTART:20240331T010000
END:DAYLIGHT
BEGIN:STANDARD
TZOFFSETFROM:+0200
TZOFFSETTO:+0100
TZNAME:CET
DTSTART:20241027T010000
END:STANDARD
BEGIN:DAYLIGHT
TZOFFSETFROM:+0100
TZOFFSETTO:+0200
TZNAME:CEST
DTSTART:20250330T010000
END:DAYLIGHT
BEGIN:STANDARD
TZOFFSETFROM:+0200
TZOFFSETTO:+0100
TZNAME:CET
DTSTART:20251026T010000
END:STANDARD
BEGIN:DAYLIGHT
TZOFFSETFROM:+0100
TZOFFSETTO:+0200
TZNAME:CEST
DTSTART:20260329T010000
END:DAYLIGHT
BEGIN:STANDARD
TZOFFSETFROM:+0200
TZOFFSETTO:+0100
TZNAME:CET
DTSTART:20261025T010000
END:STANDARD
END:VTIMEZONE
BEGIN:VEVENT
DTSTART;TZID=Europe/Berlin:20250603T090000
DTEND;TZID=Europe/Berlin:20250603T170000
DTSTAMP:20260423T105338
CREATED:20250916T065956Z
LAST-MODIFIED:20250916T070752Z
UID:10006226-1748941200-1748970000@www.evforum-bonn.de
SUMMARY:Gesprächsführungsseminar Teil 2
DESCRIPTION:Dieses Seminar ist fester Bestandteil der Ausbildung zur Notfallseelsorger:in und vermittelt praxisnah Grundlagen der Gesprächsführung in Krisensituationen. \nDie Teilnahme an allen drei Teilen ist verpflichtend. Die Seminartage finden jeweils von 09:00 bis 17:00 Uhr statt\, inklusive Pausen.Für Getränke ist gesorgt\, eine Mittagspause von 1\,5 Stunden ist eingeplant – Verpflegung bitte selbst mitbringen. \nTrainerin: Anne Bonn\, Kommunikationstrainerin AiP-Rheinland🔗 www.aip-im-rheinland.de🔗 www.anne-bonn.de \n\n📅 03. + 04. Juni 2025📍 Gemeindehaus der Ev. Kirchengemeinde Seelscheid • Pfarrer-Julius-Smend-Platz 3\, 53819 Neunkirchen-Seelscheid | (Navi: „Im Bungert“\, links von der Kirche) \n\n👉 Anmeldung per Mail an: langer@nfs-bn-rsk.de
URL:https://www.evforum-bonn.de/veranstaltung/ausbildung-notfallseelsorge_gespraechsfuehrungsseminar-2025-teil-2-3/2025-06-03/
LOCATION:Gemeindehaus der Ev. Kirchengemeinde Seelscheid\, Pfarrer-Julius-Smend-Platz 3\, Neunkirchen-Seelscheid\, NRW\, 53819\, Germany
CATEGORIES:Lehrgang | Kurs,Notfallseelsorge - Ausbildungskurs,Veranstaltungen von Institutionen und Verbänden,Veranstaltungsreihen
ATTACH;FMTTYPE=image/png:https://www.evforum-bonn.de/wp-content/uploads/2025/08/notfallseelsorge_logo_kursiv-1.png
ORGANIZER;CN="Notfallseelsorge Bonn Rhein-Sieg":MAILTO:info@nfs-bn-rsk.de
END:VEVENT
BEGIN:VEVENT
DTSTART;TZID=Europe/Berlin:20250603T180000
DTEND;TZID=Europe/Berlin:20250603T193000
DTSTAMP:20260423T105338
CREATED:20250527T091228Z
LAST-MODIFIED:20250527T091228Z
UID:10005686-1748973600-1748979000@www.evforum-bonn.de
SUMMARY:Vortrag "Kriege\, historische Orientierung und Deutschlands Erinnerungskultur"
DESCRIPTION:Vortrag von Prof. Dr. Martin Aust am Dienstag\, 3. Juni 2025\, 18 Uhr | Gedenkstätte Bonn (Seminarraum)\n\nMartin Aust ist Professor für Geschichte und Kultur Osteuropas an der Universität Bonn und Mitglied im Vorstand des Fördervereins der Gedenkstätte Bonn. \nKurz vor dem Überfall Russlands auf die Ukraine schloss er eine Buchveröffentlichung ab\, die sich mit Deutschlands Erinnerungsverantwortung für die Verfolgten und Opfer des deutschen Vernichtungskriegs im östlichen Europa von 1939 bis 1945 befasst. Eine zentrale Grundlage des Buches sind die Erzählungen und Berichte der Verfolgten und Überlebenden aus dem deutschen Vernichtungsfeldzug im Zweiten Weltkrieg. Aus heutigen Berichten von Menschen aus der Ukraine ergeben sich schockierende Parallelen. Die Geschichte war und ist allgegenwärtig. In Deutschland wollen die einen aus der erneuten Kriegserfahrung der Ukraine die Lehre ziehen\, dass es einer entschiedenen Unterstützung des angegriffenen Landes bedarf. Andere verweisen auf die Singularität des Holocaust und die deutsche Kriegserfahrung\, um sich gegen eine militärische Unterstützung der Ukraine und für Gespräche mit Machthaber Putin auszusprechen. \nMartin Aust zeigt in seinem Vortrag\, wie verschiedene Seiten und gesellschaftliche Gruppen historische Argumente in Russlands Krieg gegen die Ukraine beanspruchen und die Geschichtswissenschaft sich dazu verhalten kann. \nDie Teilnahme ist kostenlos\, um eine Anmeldung per Mail wird gebeten an: verein@ns-gedenkstaette-bonn.de.
URL:https://www.evforum-bonn.de/veranstaltung/vortrag-kriege-historische-orientierung-und-deutschlands-erinnerungskultur/
LOCATION:Gedenkstätte Bonn\, Franziskanerstraße 9\, Bonn\, NRW\, 53113\, Germany
CATEGORIES:Aktuelles,Demokratie-Krieg,Existenzielle Fragestellungen,Migration - Kultur - Kultureller Austausch,Politik - Geschichte - Soziologie,Veranstaltungen von Institutionen und Verbänden
ATTACH;FMTTYPE=image/jpeg:https://www.evforum-bonn.de/wp-content/uploads/2025/05/Gedenkstaette-Bonn-e1748337129909.jpg
ORGANIZER;CN="F%C3%B6rderverein Gedenkst%C3%A4tte und NS-Dokumentationszentrum e.V.":MAILTO:verein@ns-gedenkstaette-bonn.de
END:VEVENT
BEGIN:VEVENT
DTSTART;TZID=Europe/Berlin:20250603T193000
DTEND;TZID=Europe/Berlin:20250603T203000
DTSTAMP:20260423T105338
CREATED:20250725T113808Z
LAST-MODIFIED:20250725T113808Z
UID:10006040-1748979000-1748982600@www.evforum-bonn.de
SUMMARY:Lindy Hop | Offener Tanzunterricht
DESCRIPTION:Lindy Hop ist ein beschwingter Swing-Tanzstil mit Wurzeln in der afroamerikanischen Kultur der 1930er Jahre. In diesem offenen Tanzunterricht steht nicht nur die Freude an Bewegung im Mittelpunkt\, sondern auch das gemeinschaftliche Lernen: Vom ersten Grundschritt bis zur Improvisation können alle – mit oder ohne Vorkenntnisse – neue Schritte erlernen\, Koordination und Rhythmusgefühl schulen und dabei die Geschichte eines kulturell bedeutenden Tanzstils kennenlernen. \nDie Abende bieten Raum für Begegnung\, körperliche Aktivität und kulturelle Bildung – immer in respektvoller Atmosphäre und mit viel Spaß. Kommen Sie vorbei\, tanzen Sie mit! \n📍 Ort: Melanchthonhaus der Kreuzkirche📩 Anmeldung & Infos: lindyhop@justmail.de🕒 Wöchentlich dienstags um 19:30 Uhr (außer ggf. in den Ferien und an Feiertagen)
URL:https://www.evforum-bonn.de/veranstaltung/lindy-hop-offener-tanzunterricht/2025-06-03/
LOCATION:Melanchthon Haus der Kreuzkirche\, An der Evangelischen Kirche 6\, Bonn\, NRW\, 53113\, Germany
CATEGORIES:Gesundheit - Krankheit - Medizin,Lindy Hop,Tanz - Bewegung - Gesundheit,Veranstaltungen von Gemeinden,Veranstaltungsreihen
ATTACH;FMTTYPE=image/jpeg:https://www.evforum-bonn.de/wp-content/uploads/2025/07/Lindy-Hop_Foto-by-Lindy-Hop-e1753443452177.jpg
END:VEVENT
END:VCALENDAR