BEGIN:VCALENDAR
VERSION:2.0
PRODID:-//Evangelisches Forum Bonn - ECPv6.15.20//NONSGML v1.0//EN
CALSCALE:GREGORIAN
METHOD:PUBLISH
X-ORIGINAL-URL:https://www.evforum-bonn.de
X-WR-CALDESC:Veranstaltungen für Evangelisches Forum Bonn
REFRESH-INTERVAL;VALUE=DURATION:PT1H
X-Robots-Tag:noindex
X-PUBLISHED-TTL:PT1H
BEGIN:VTIMEZONE
TZID:Europe/Berlin
BEGIN:DAYLIGHT
TZOFFSETFROM:+0100
TZOFFSETTO:+0200
TZNAME:CEST
DTSTART:20240331T010000
END:DAYLIGHT
BEGIN:STANDARD
TZOFFSETFROM:+0200
TZOFFSETTO:+0100
TZNAME:CET
DTSTART:20241027T010000
END:STANDARD
BEGIN:DAYLIGHT
TZOFFSETFROM:+0100
TZOFFSETTO:+0200
TZNAME:CEST
DTSTART:20250330T010000
END:DAYLIGHT
BEGIN:STANDARD
TZOFFSETFROM:+0200
TZOFFSETTO:+0100
TZNAME:CET
DTSTART:20251026T010000
END:STANDARD
BEGIN:DAYLIGHT
TZOFFSETFROM:+0100
TZOFFSETTO:+0200
TZNAME:CEST
DTSTART:20260329T010000
END:DAYLIGHT
BEGIN:STANDARD
TZOFFSETFROM:+0200
TZOFFSETTO:+0100
TZNAME:CET
DTSTART:20261025T010000
END:STANDARD
END:VTIMEZONE
BEGIN:VEVENT
DTSTART;TZID=Europe/Berlin:20250604T090000
DTEND;TZID=Europe/Berlin:20250604T170000
DTSTAMP:20260423T121243
CREATED:20250916T065956Z
LAST-MODIFIED:20250916T070752Z
UID:10006227-1749027600-1749056400@www.evforum-bonn.de
SUMMARY:Gesprächsführungsseminar Teil 2
DESCRIPTION:Dieses Seminar ist fester Bestandteil der Ausbildung zur Notfallseelsorger:in und vermittelt praxisnah Grundlagen der Gesprächsführung in Krisensituationen. \nDie Teilnahme an allen drei Teilen ist verpflichtend. Die Seminartage finden jeweils von 09:00 bis 17:00 Uhr statt\, inklusive Pausen.Für Getränke ist gesorgt\, eine Mittagspause von 1\,5 Stunden ist eingeplant – Verpflegung bitte selbst mitbringen. \nTrainerin: Anne Bonn\, Kommunikationstrainerin AiP-Rheinland🔗 www.aip-im-rheinland.de🔗 www.anne-bonn.de \n\n📅 03. + 04. Juni 2025📍 Gemeindehaus der Ev. Kirchengemeinde Seelscheid • Pfarrer-Julius-Smend-Platz 3\, 53819 Neunkirchen-Seelscheid | (Navi: „Im Bungert“\, links von der Kirche) \n\n👉 Anmeldung per Mail an: langer@nfs-bn-rsk.de
URL:https://www.evforum-bonn.de/veranstaltung/ausbildung-notfallseelsorge_gespraechsfuehrungsseminar-2025-teil-2-3/2025-06-04/
LOCATION:Gemeindehaus der Ev. Kirchengemeinde Seelscheid\, Pfarrer-Julius-Smend-Platz 3\, Neunkirchen-Seelscheid\, NRW\, 53819\, Germany
CATEGORIES:Lehrgang | Kurs,Notfallseelsorge - Ausbildungskurs,Veranstaltungen von Institutionen und Verbänden,Veranstaltungsreihen
ATTACH;FMTTYPE=image/png:https://www.evforum-bonn.de/wp-content/uploads/2025/08/notfallseelsorge_logo_kursiv-1.png
ORGANIZER;CN="Notfallseelsorge Bonn Rhein-Sieg":MAILTO:info@nfs-bn-rsk.de
END:VEVENT
BEGIN:VEVENT
DTSTART;TZID=Europe/Berlin:20250604T180000
DTEND;TZID=Europe/Berlin:20250604T200000
DTSTAMP:20260423T121243
CREATED:20250123T125855Z
LAST-MODIFIED:20250610T094023Z
UID:10005252-1749060000-1749067200@www.evforum-bonn.de
SUMMARY:Gut vorbereitet vererben: Expertenvortrag zu Erbrecht und Testamentsgestaltung
DESCRIPTION:Abgesagt – zu wenig Anmeldungen_Stand 27.05.2025 \nAm 04. Juni 2025 um 18 Uhr im Saal an der Friedenskirche\, Franz-Bücheler-Str. 10 | 53129 Bonn\nWer sich frühzeitig mit dem eigenen Nachlass beschäftigt\, kann Streitigkeiten vermeiden und für Klarheit sorgen. Doch das Erbrecht ist komplex und wirft viele Fragen auf. Die Evangelische Friedenskirchengemeinde lädt daher zum Fachvortrag mit dem Titel „Erbrecht und Testamentsgestaltung“ ein. Die Veranstaltung findet statt \nRechtsanwalt Dr. Wolfgang Buerstedde\, Fachanwalt für Erbrecht\, wird praktische Tipps und einen fundierten Überblick über die wichtigsten Aspekte des Erbrechts geben. Themen sind unter anderem die gesetzliche Erbfolge\, Testamentsarten\, Pflichtteil\, steuerliche Aspekte und Möglichkeiten zur Vermeidung von Erbstreitigkeiten. \nDer Vortrag richtet sich an alle\, die ihre Nachlassregelung rechtssicher gestalten möchten und bietet zudem die Gelegenheit\, individuelle Fragen zu stellen. \nDie Teilnahme ist kostenlos. Anmeldung über das Gemeindebüro: Tel.: 0228 23 83 71 oder per E-Mail an buero@friedenskirche-bonn.de \n\n\n\n\n\n\n\n\n\n 
URL:https://www.evforum-bonn.de/veranstaltung/vortrag-testamentgestaltung/
LOCATION:Saal an der Friedenskirche\, Franz-Bücheler-Straße 10\, Bonn\, NRW\, 53129\, Germany
CATEGORIES:Aktuelles,Altern und Alter,Existenzielle Fragestellungen,Lesung - Vortrag,Veranstaltungen von Gemeinden
ATTACH;FMTTYPE=image/jpeg:https://www.evforum-bonn.de/wp-content/uploads/2025/01/testament-pixabay-e1737725632415.jpg
END:VEVENT
BEGIN:VEVENT
DTSTART;TZID=Europe/Berlin:20250604T190000
DTEND;TZID=Europe/Berlin:20250604T213000
DTSTAMP:20260423T121243
CREATED:20250528T112643Z
LAST-MODIFIED:20250528T112643Z
UID:10005749-1749063600-1749072600@www.evforum-bonn.de
SUMMARY:Erste Hilfe im Kindesnotfall
DESCRIPTION:Praxisnahe Veranstaltung für mehr Sicherheit im Ernstfall\nInformationsabend des Joki-Familienhauses\nReferent: Dr. Michael Brinkmann\, Allgemeinmediziner\, Notarzt. \n  Mittwoch\, 4. Juni 2025\n19.30 Uhr – ca. 21.30 Uhr\nGemeindehaus an der Johanniskirche\nEintritt frei\, begrenzte Teilnehmer_innenzahl\, daher ist eine verbindliche Anmeldung erforderlich\, Telefon: 64 09 48 oder baerbel.goddon@ekir.de \nWie kann in einem Notfall bei Kindern schnell und richtig gehandelt werden? Diese praxisorientierte Veranstaltung widmet sich genau dieser Frage und vermittelt lebensrettende Erste-Hilfe-Maßnahmen – vom Erkennen kritischer Situationen bis hin zur sicheren Durchführung notwendiger Handgriffe. Im Mittelpunkt stehen zahlreiche praktische Übungen\, die das nötige Wissen und die Handlungssicherheit stärken. Ziel der Veranstaltung ist es zudem\, Ersthelfer_innen darin zu bestärken\, auch in belastenden Notfallsituationen ruhig zu bleiben und überlegt zu handeln. \nDie Schulung richtet sich an alle\, die im Alltag mit Kindern zu tun haben – ob beruflich oder privat – und ihre Handlungskompetenz im Notfall erweitern möchten.
URL:https://www.evforum-bonn.de/veranstaltung/erste-hilfe-im-kindesnotfall/
LOCATION:Gemeindehaus der Ev. Johanniskirche\, Bahnhofstraße 63\, Bonn\, NRW\, 53123\, Germany
CATEGORIES:Aktuelles,Eltern-Kind-Pädagogik,Gesundheit - Krankheit - Medizin,Pädagogische Bildung,Veranstaltungen von Gemeinden,Veranstaltungen von Institutionen und Verbänden
ATTACH;FMTTYPE=image/jpeg:https://www.evforum-bonn.de/wp-content/uploads/2025/05/Erste_Hilfe_Kind_Kermit_Foto-Pixabay-Free-e1748431571177.jpg
END:VEVENT
BEGIN:VEVENT
DTSTART;TZID=Europe/Berlin:20250604T200000
DTEND;TZID=Europe/Berlin:20250604T210000
DTSTAMP:20260423T121243
CREATED:20250407T111957Z
LAST-MODIFIED:20250407T111958Z
UID:10005611-1749067200-1749070800@www.evforum-bonn.de
SUMMARY:Religiöse Kindererziehung
DESCRIPTION:Impulse zur religiösen Kindererziehung – jeden Mittwoch (außer Ferien ab 20 Uhr in der Friedenskirche \nJeden Mittwochabend (außer in den Ferien) lädt Pastorin Annette Ziegler von 20–21 Uhr in die Friedenskirche Bonn-Kessenich ein\, um zentrale Fragen der religiösen Kindererziehung zu beleuchten. Begleitend durch ausgewählte Literatur und ergänzt durch Vorträge externer Fachleute bietet die Reihe praxisnahe Impulse und Raum für Austausch. \nWeitere Informationen: Tel. 0228 23 83 71 | E-Mail: buero@friedenskirche-bonn.de \n 
URL:https://www.evforum-bonn.de/veranstaltung/religioese-kindererziehung-2/2025-06-04/
LOCATION:Friedenskirche\, Franz-Bücheler-Str. 10\, Bonn\, 53129 \, Deutschland
CATEGORIES:Existenzielle Fragestellungen,Lesung - Vortrag,Pädagogische Bildung,Veranstaltungen von Gemeinden,Veranstaltungsreihen,Weiterbildung allgemein
ATTACH;FMTTYPE=image/png:https://www.evforum-bonn.de/wp-content/uploads/2025/04/Religioese-Kindererziehung-e1744024216838.png
END:VEVENT
END:VCALENDAR