BEGIN:VCALENDAR
VERSION:2.0
PRODID:-//Evangelisches Forum Bonn - ECPv6.15.20//NONSGML v1.0//EN
CALSCALE:GREGORIAN
METHOD:PUBLISH
X-WR-CALNAME:Evangelisches Forum Bonn
X-ORIGINAL-URL:https://www.evforum-bonn.de
X-WR-CALDESC:Veranstaltungen für Evangelisches Forum Bonn
REFRESH-INTERVAL;VALUE=DURATION:PT1H
X-Robots-Tag:noindex
X-PUBLISHED-TTL:PT1H
BEGIN:VTIMEZONE
TZID:Europe/Berlin
BEGIN:DAYLIGHT
TZOFFSETFROM:+0100
TZOFFSETTO:+0200
TZNAME:CEST
DTSTART:20240331T010000
END:DAYLIGHT
BEGIN:STANDARD
TZOFFSETFROM:+0200
TZOFFSETTO:+0100
TZNAME:CET
DTSTART:20241027T010000
END:STANDARD
BEGIN:DAYLIGHT
TZOFFSETFROM:+0100
TZOFFSETTO:+0200
TZNAME:CEST
DTSTART:20250330T010000
END:DAYLIGHT
BEGIN:STANDARD
TZOFFSETFROM:+0200
TZOFFSETTO:+0100
TZNAME:CET
DTSTART:20251026T010000
END:STANDARD
BEGIN:DAYLIGHT
TZOFFSETFROM:+0100
TZOFFSETTO:+0200
TZNAME:CEST
DTSTART:20260329T010000
END:DAYLIGHT
BEGIN:STANDARD
TZOFFSETFROM:+0200
TZOFFSETTO:+0100
TZNAME:CET
DTSTART:20261025T010000
END:STANDARD
END:VTIMEZONE
BEGIN:VEVENT
DTSTART;TZID=Europe/Berlin:20250606T150000
DTEND;TZID=Europe/Berlin:20250606T170000
DTSTAMP:20260423T121049
CREATED:20250123T112544Z
LAST-MODIFIED:20250123T112615Z
UID:10005226-1749222000-1749229200@www.evforum-bonn.de
SUMMARY:Literaturkreis der Friedenskirchengemeinde
DESCRIPTION:„Im Literaturkreis für Erwachsene besprechen wir monatlich Bücher. Zuweilen tauschen wir uns mit Autor*innen und Buchhändler*innen über ihre und andere angesagte Texte aus.“\n\ngeplant 2025 – jeden 1. Freitag im Monat 15.00- 17.00 Uhr (ggf. nicht in den Ferien) \nThema des Tages entnehmen Sie bitte der Gemeindehomepage – Evangelische Friedenskirchengemeinde Bonn
URL:https://www.evforum-bonn.de/veranstaltung/literaturkreis-der-friedenskirchengemeinde-copy-copy-copy-copy/
LOCATION:Gemeindehaus der Friedenskirchengemeinde\, Franz-Bücheler-Straße 10\, Bonn\, NRW\, 53129\, Germany
CATEGORIES:Veranstaltungen von Gemeinden
ATTACH;FMTTYPE=image/jpeg:https://www.evforum-bonn.de/wp-content/uploads/2025/01/Literaturkreis.jpg
END:VEVENT
BEGIN:VEVENT
DTSTART;TZID=Europe/Berlin:20250606T200000
DTEND;TZID=Europe/Berlin:20250606T213000
DTSTAMP:20260423T121049
CREATED:20250602T111004Z
LAST-MODIFIED:20250602T112858Z
UID:10005780-1749240000-1749245400@www.evforum-bonn.de
SUMMARY:"Männerkreis"
DESCRIPTION:Austausch\, Impulse & Gemeinschaft \n\nIm Männerkreis treffen sich Männer aller Altersgruppen zum offenen Austausch über Fragen des Glaubens\, der Gesellschaft und des Lebensalltags. Nach einem kurzen Impuls oder Vortrag gibt es Gelegenheit zur Diskussion\, zum gemeinsamen Nachdenken und für gegenseitige Unterstützung. \nWir laden herzlich ein zu anregenden Abenden in freundschaftlicher Atmosphäre. Neue Teilnehmer sind jederzeit willkommen!
URL:https://www.evforum-bonn.de/veranstaltung/maennerkreis_thomas-kirche/
LOCATION:Christuskirche Bad Godesberg\, Wurzerstr. 31\, Bonn - Bad Godesberg\, NRW\, 53175\, Germany
CATEGORIES:Altern und Alter,Demokratie-Krieg,Existenzielle Fragestellungen,Gesundheit - Krankheit - Medizin,Grips & Geist,Kunst - Musik - Literatur,Lesung - Vortrag,Migration - Kultur - Kultureller Austausch,Philosophisch-psychologische Kaffeehausgespräche,Politik - Geschichte - Soziologie,Ressourcen - Umwelt - Klima,Theologie / Philosophie,Veranstaltungen von Gemeinden,Veranstaltungsreihen,Weiterbildung allgemein
ATTACH;FMTTYPE=image/png:https://www.evforum-bonn.de/wp-content/uploads/2025/06/Maennerkreis-e1748863717279.png
END:VEVENT
END:VCALENDAR