BEGIN:VCALENDAR
VERSION:2.0
PRODID:-//Evangelisches Forum Bonn - ECPv6.15.20//NONSGML v1.0//EN
CALSCALE:GREGORIAN
METHOD:PUBLISH
X-WR-CALNAME:Evangelisches Forum Bonn
X-ORIGINAL-URL:https://www.evforum-bonn.de
X-WR-CALDESC:Veranstaltungen für Evangelisches Forum Bonn
REFRESH-INTERVAL;VALUE=DURATION:PT1H
X-Robots-Tag:noindex
X-PUBLISHED-TTL:PT1H
BEGIN:VTIMEZONE
TZID:Europe/Berlin
BEGIN:DAYLIGHT
TZOFFSETFROM:+0100
TZOFFSETTO:+0200
TZNAME:CEST
DTSTART:20240331T010000
END:DAYLIGHT
BEGIN:STANDARD
TZOFFSETFROM:+0200
TZOFFSETTO:+0100
TZNAME:CET
DTSTART:20241027T010000
END:STANDARD
BEGIN:DAYLIGHT
TZOFFSETFROM:+0100
TZOFFSETTO:+0200
TZNAME:CEST
DTSTART:20250330T010000
END:DAYLIGHT
BEGIN:STANDARD
TZOFFSETFROM:+0200
TZOFFSETTO:+0100
TZNAME:CET
DTSTART:20251026T010000
END:STANDARD
BEGIN:DAYLIGHT
TZOFFSETFROM:+0100
TZOFFSETTO:+0200
TZNAME:CEST
DTSTART:20260329T010000
END:DAYLIGHT
BEGIN:STANDARD
TZOFFSETFROM:+0200
TZOFFSETTO:+0100
TZNAME:CET
DTSTART:20261025T010000
END:STANDARD
END:VTIMEZONE
BEGIN:VEVENT
DTSTART;TZID=Europe/Berlin:20250610T190000
DTEND;TZID=Europe/Berlin:20250610T203000
DTSTAMP:20260423T121045
CREATED:20250506T122101Z
LAST-MODIFIED:20250602T121222Z
UID:10005658-1749582000-1749587400@www.evforum-bonn.de
SUMMARY:Palästina-Israel: Gibt es trotz der desaströsen Gegenwart eine friedliche Zukunft?
DESCRIPTION:Am 10. Juni 2025 um 19 Uhr im Haus der Ev. Kirche Bonn\n\nKann die obsessive Gewalt in Gaza\, der Westbank und Israel dennoch eine Chance dafür bieten\, diesen ewigen Konflikt bald umfassend und gerecht beizulegen? Israel und Hamas scheinen an einer friedlichen Lösung kaum interessiert zu sein. Aber die palästinensische Bevölkerung erleidet weiterhin Hunger\, Angst und Hoffnungslosigkeit. Israel erreicht trotz kriegerischer Siege weder Frieden noch Sicherheit. Daher müssen beide Seiten nachhaltig nach friedlichen Perspektiven  suchen (Zweistaaten-\, Einstaatenlösung) \nReferent Dr. Aref Hajjai* – Autor:in von Heimatlos mit drei Heimaten \nOffizieller Flyer zur Veranstaltung \n\n*Über den/ die Autor:in >>\nDr. Aref Hajjaj wurde im Februar 1943 in Jaffa/Palästina geboren. Nach der Vertreibung 1948 wuchs er in Beirut und Kuwait auf. Er studierte in Heidelberg Politikwissenschaft\, Geschichte und Völkerrecht. Nach der Promotion arbeitete er im Deutschen AA als Übersetzer und Dozent für Arabistik und interkulturelle Kommunikation. Er ist Publizist und Vorsitzender des Palästina-Forums. 2010 erschien sein Buch „Angekommen in Deutschland – Der Preis der Integration“ im LIT-Verlag. Anfang 2017 erschien sein zweites Buch „Land ohne Hoffnung?“ im Schöningh-Verlag. Das Buch wurde u.a. in der FAZ und in der Rheinischen Post rezensiert. WDR 5 machte eine Sendung darüber. Er ist häufiger Interview-Gast u.a. bei deutschsprachigen und arabischen Sendern. Hajjaj ist mit einer Schweizerin verheiratet\, hat zwei erwachsene Kinder und lebt in Bonn. \nQuelle: Verlag / vlb
URL:https://www.evforum-bonn.de/veranstaltung/palaestina-israel/
LOCATION:Haus der Ev. Kirche Bonn\, Adenauerallee 37\, Bonn\, NRW\, 53113\, Germany
CATEGORIES:Aktuelles,Demokratie-Krieg,Existenzielle Fragestellungen,Haus der Ev. Kirche Bonn,Lesung - Vortrag,Politik - Geschichte - Soziologie,Theologie / Philosophie,Zentralprogramm
ATTACH;FMTTYPE=image/jpeg:https://www.evforum-bonn.de/wp-content/uploads/2025/05/Palaestina-Israel-Flyer-zur-Veranstaltung-e1746613324711.jpg
ORGANIZER;CN="Evangelisches Forum Bonn":MAILTO:info@evforum-bonn.de
END:VEVENT
BEGIN:VEVENT
DTSTART;TZID=Europe/Berlin:20250610T193000
DTEND;TZID=Europe/Berlin:20250610T203000
DTSTAMP:20260423T121045
CREATED:20250725T113808Z
LAST-MODIFIED:20250725T113808Z
UID:10006041-1749583800-1749587400@www.evforum-bonn.de
SUMMARY:Lindy Hop | Offener Tanzunterricht
DESCRIPTION:Lindy Hop ist ein beschwingter Swing-Tanzstil mit Wurzeln in der afroamerikanischen Kultur der 1930er Jahre. In diesem offenen Tanzunterricht steht nicht nur die Freude an Bewegung im Mittelpunkt\, sondern auch das gemeinschaftliche Lernen: Vom ersten Grundschritt bis zur Improvisation können alle – mit oder ohne Vorkenntnisse – neue Schritte erlernen\, Koordination und Rhythmusgefühl schulen und dabei die Geschichte eines kulturell bedeutenden Tanzstils kennenlernen. \nDie Abende bieten Raum für Begegnung\, körperliche Aktivität und kulturelle Bildung – immer in respektvoller Atmosphäre und mit viel Spaß. Kommen Sie vorbei\, tanzen Sie mit! \n📍 Ort: Melanchthonhaus der Kreuzkirche📩 Anmeldung & Infos: lindyhop@justmail.de🕒 Wöchentlich dienstags um 19:30 Uhr (außer ggf. in den Ferien und an Feiertagen)
URL:https://www.evforum-bonn.de/veranstaltung/lindy-hop-offener-tanzunterricht/2025-06-10/
LOCATION:Melanchthon Haus der Kreuzkirche\, An der Evangelischen Kirche 6\, Bonn\, NRW\, 53113\, Germany
CATEGORIES:Gesundheit - Krankheit - Medizin,Lindy Hop,Tanz - Bewegung - Gesundheit,Veranstaltungen von Gemeinden,Veranstaltungsreihen
ATTACH;FMTTYPE=image/jpeg:https://www.evforum-bonn.de/wp-content/uploads/2025/07/Lindy-Hop_Foto-by-Lindy-Hop-e1753443452177.jpg
END:VEVENT
BEGIN:VEVENT
DTSTART;TZID=Europe/Berlin:20250610T200000
DTEND;TZID=Europe/Berlin:20250610T220000
DTSTAMP:20260423T121045
CREATED:20250528T105619Z
LAST-MODIFIED:20250528T105619Z
UID:10005742-1749585600-1749592800@www.evforum-bonn.de
SUMMARY:Fotogruppe
DESCRIPTION:Jeden zweiten Dienstag im Monat 20:00-22:00 Uhr\n\n\nDie Fotogruppe trifft sich regelmäßig um dem gemeinsamen Hobby der Fotografie nachzugehen. Wir probieren zusammen unterschiedliche Motive und Lichtverhältnisse aus\, erlernen Fotografiertechniken und erleben eine schöne gemeinsame Zeit. Manche der Fotos auf unserer Website stammen von der Fotogruppe.Weitere Informationen
URL:https://www.evforum-bonn.de/veranstaltung/fotogruppe/2025-06-10/
LOCATION:Gemeindehaus der Friedenskirchengemeinde\, Franz-Bücheler-Straße 10\, Bonn\, NRW\, 53129\, Germany
CATEGORIES:Kunst - Musik - Literatur,Veranstaltungen von Gemeinden,Veranstaltungsreihen
ATTACH;FMTTYPE=image/jpeg:https://www.evforum-bonn.de/wp-content/uploads/2025/05/Kamera_Pixabay-Free_PublicDomainArchive-e1748429758644.jpg
END:VEVENT
END:VCALENDAR