BEGIN:VCALENDAR
VERSION:2.0
PRODID:-//Evangelisches Forum Bonn - ECPv6.15.20//NONSGML v1.0//EN
CALSCALE:GREGORIAN
METHOD:PUBLISH
X-WR-CALNAME:Evangelisches Forum Bonn
X-ORIGINAL-URL:https://www.evforum-bonn.de
X-WR-CALDESC:Veranstaltungen für Evangelisches Forum Bonn
REFRESH-INTERVAL;VALUE=DURATION:PT1H
X-Robots-Tag:noindex
X-PUBLISHED-TTL:PT1H
BEGIN:VTIMEZONE
TZID:Europe/Berlin
BEGIN:DAYLIGHT
TZOFFSETFROM:+0100
TZOFFSETTO:+0200
TZNAME:CEST
DTSTART:20240331T010000
END:DAYLIGHT
BEGIN:STANDARD
TZOFFSETFROM:+0200
TZOFFSETTO:+0100
TZNAME:CET
DTSTART:20241027T010000
END:STANDARD
BEGIN:DAYLIGHT
TZOFFSETFROM:+0100
TZOFFSETTO:+0200
TZNAME:CEST
DTSTART:20250330T010000
END:DAYLIGHT
BEGIN:STANDARD
TZOFFSETFROM:+0200
TZOFFSETTO:+0100
TZNAME:CET
DTSTART:20251026T010000
END:STANDARD
BEGIN:DAYLIGHT
TZOFFSETFROM:+0100
TZOFFSETTO:+0200
TZNAME:CEST
DTSTART:20260329T010000
END:DAYLIGHT
BEGIN:STANDARD
TZOFFSETFROM:+0200
TZOFFSETTO:+0100
TZNAME:CET
DTSTART:20261025T010000
END:STANDARD
END:VTIMEZONE
BEGIN:VEVENT
DTSTART;TZID=Europe/Berlin:20250611T150000
DTEND;TZID=Europe/Berlin:20250611T163000
DTSTAMP:20260423T122144
CREATED:20250707T082442Z
LAST-MODIFIED:20260202T111338Z
UID:10006006-1749654000-1749659400@www.evforum-bonn.de
SUMMARY:Seniorentreff Oedekoven
DESCRIPTION:Der Seniorenkreis in Oedekoven bietet einmal im Monat Gelegenheit zum Austausch\, gemeinsamen Erleben und Nachdenken. Nach einer gemütlichen Kaffeerunde mit selbstgebackenem Kuchen folgt jeweils ein thematisch gestalteter Teil: Das Programm reicht von Bibelarbeiten mit dem Pfarrer über Lichtbildvorträge und Referate zu wechselnden Themen bis hin zu musikalischen oder geselligen Angeboten. \nBesondere Höhepunkte sind Ausflüge in die Umgebung und die festliche Adventsfeier. Auch jüngere Senior*innen sind herzlich willkommen – ebenso wie Menschen\, die sich ehrenamtlich engagieren möchten. \n📅 Treffen: jeweils am 2. Mittwoch im Monat\, 15:00 Uhr👤 Kontakt: Rosemarie Backhaus\, Tel. 01577-4577824
URL:https://www.evforum-bonn.de/veranstaltung/seniorentreff-oedekoven/2025-06-11/
LOCATION:Gemeindezentrum der Kirchengemeinde am Kottenforst\, Herzogsfreudenweg 42\, Bonn\, 53125\, Deutschland
CATEGORIES:Altern und Alter,Angebote für Senioren,Lesung - Vortrag,Philosophisch-psychologische Kaffeehausgespräche,Seniorenbildung,Seniorenkreis -nachmittag,Thematische Schwerpunkte,Veranstaltungen von Gemeinden,Veranstaltungsreihen
ATTACH;FMTTYPE=image/jpeg:https://www.evforum-bonn.de/wp-content/uploads/2022/12/Senior-e1751876645808.jpg
END:VEVENT
BEGIN:VEVENT
DTSTART;TZID=Europe/Berlin:20250611T150000
DTEND;TZID=Europe/Berlin:20250611T170000
DTSTAMP:20260423T122144
CREATED:20250203T113045Z
LAST-MODIFIED:20250203T114533Z
UID:10005306-1749654000-1749661200@www.evforum-bonn.de
SUMMARY:Kulturnachmittag in Trinitatis
DESCRIPTION:11.06.2025 – Ev Trinitatiskirche Bonn\nSüdamerika – Spannungsreiche Vielfalt \nAnette Fischbach und Michael Kempen-Fischbach berichten von ihrer Reise durch Kolumbien\, Brasilien\, Chile und von den Galápagos-Inseln im Jahr 2024. \n\nAnsprechpartner\n\nPfarrer Uwe Grieser u.grieser@trinitatiskirche-bonn.de\nTel. 0228-9784021\nFax 0228-9784022
URL:https://www.evforum-bonn.de/veranstaltung/kulturnachmittag-in-trinitatis-06-25/
LOCATION:Gemeindehaus der Trinitatiskirchengemeinde\, Brahmsstraße 14\, Bonn\, NRW\, 53121\, Germany
CATEGORIES:Seniorenbildung,Veranstaltungen von Gemeinden
ATTACH;FMTTYPE=image/webp:https://www.evforum-bonn.de/wp-content/uploads/2025/02/suedamerika-e1738582435396.webp
END:VEVENT
BEGIN:VEVENT
DTSTART;TZID=Europe/Berlin:20250611T153000
DTEND;TZID=Europe/Berlin:20250611T173000
DTSTAMP:20260423T122144
CREATED:20250707T074754Z
LAST-MODIFIED:20250707T080023Z
UID:10005984-1749655800-1749663000@www.evforum-bonn.de
SUMMARY:Frauenkreis in Röttgen
DESCRIPTION:Der Frauenkreis in Röttgen ist offen für alle kulturell Interessierten – unabhängig von Alter\, Konfession oder Herkunft. Jeden zweiten Mittwoch im Monat lädt Dorothea Kropff zu einem thematisch gestalteten Nachmittag in die Thomaskirche ein. \nOb philosophische Fragen\, biografische Porträts\, Reiseberichte oder Ausstellungsbesuche – jedes Treffen widmet sich einem neuen Schwerpunkt. Eingebettet in eine Atmosphäre des Austauschs\, ergänzt durch passende Texte\, Bibelstellen und gemeinsames Singen\, entstehen lebendige Gespräche und neue Perspektiven. \nDie Treffen finden von 15:30 bis 17:30 Uhr statt\, bei Tee\, Kaffee und Gebäck. Neue Teilnehmende sind herzlich willkommen.📍 Ort: Thomaskirche\, Bonn-Röttgen \nWeitere Informationen: Dorothea Kropff\, Tel. 25 25 48📅 Nächste Termine jeweils am 2. Mittwoch im Monat
URL:https://www.evforum-bonn.de/veranstaltung/frauenkreis-in-roettgen-1-hj25/2025-06-11/
LOCATION:Ev. Thomaskirche Röttgen\, Herzogsfreudenweg 42\, Bonn Röttgen\, NRW\, 53125\, Germany
CATEGORIES:Altern und Alter,Existenzielle Fragestellungen,Kunst - Musik - Literatur,Lesung - Vortrag,Philosophisch-psychologische Kaffeehausgespräche,Theologie / Philosophie,Veranstaltungen von Gemeinden,Veranstaltungsreihen,Weiterbildung allgemein
ATTACH;FMTTYPE=image/jpeg:https://www.evforum-bonn.de/wp-content/uploads/2025/07/Frauen_Pixabay-Free_StockSnap-e1751874682102.jpg
END:VEVENT
BEGIN:VEVENT
DTSTART;TZID=Europe/Berlin:20250611T180000
DTEND;TZID=Europe/Berlin:20250611T210000
DTSTAMP:20260423T122144
CREATED:20250110T165610Z
LAST-MODIFIED:20250110T174303Z
UID:10005133-1749664800-1749675600@www.evforum-bonn.de
SUMMARY:Prävention - Basisschulung (3h) Online
DESCRIPTION:Fortbildungen zur Prävention von sexualisierter Gewalt \n \nDie Evangelische Kirche in Bonn lebt durch die lebendigen Beziehungen der Menschen miteinander und mit Gott. \nIn der Arbeit mit Kindern\, Jugendlichen und Erwachsenen entsteht eine persönliche Nähe und Gemeinschaft\, die von Vertrauen geprägt ist.\nUm sicher aufwachsen und leben zu können benötigen Kinder und Jugendliche Ansprechpartner*innen\, denen sie vertrauen können und die ihnen Zuwendung und Geborgenheit schenken. Sie brauchen Menschen\, die sie stark machen\, sie unterstützen\, Schutz und Sicherheit bieten und auf sie Acht geben. \nDas Evangelische Forum Bonn bietet Präventionsfortbildungen zum Thema sexualisierter Gewalt für ehrenamtliche Mitarbeiter*innen an. \nBitte sprechen Sie mit Ihrer Kirchengemeinde bzw. Organisation\, für die Sie ehrenamtlich arbeiten\, ab\, welche Fortbildung für Sie geeignet ist. \n Die Kursgebühren werden in der Regel von den entsprechenden Kirchengemeinden bzw. Organisationen übernommen. \nWenn Sie Fragen haben\, melden Sie sich bitte unter: info@evforum-bonn.de oder 0228 6880 320 \nEine Übersicht aller angebotenen Schulungstermine finden Sie auch hier: https://www.evforum-bonn.de/start/praeventionsschulungen/ \n  \nReferentin: Frau Merle Wieschhoff – www.merle-wieschhoff.de
URL:https://www.evforum-bonn.de/veranstaltung/praeventionsschulung_basis-11-06/
LOCATION:ONLINE via Zoom\, externer Zoom Link\, Germany
CATEGORIES:Fort- und Weiterbildung,Präventionsschulung,Veranstaltungsreihen
ATTACH;FMTTYPE=image/jpeg:https://www.evforum-bonn.de/wp-content/uploads/2025/01/achtgeben_starkmachen-1.jpg
ORGANIZER;CN="Evangelisches Forum Bonn":MAILTO:info@evforum-bonn.de
END:VEVENT
BEGIN:VEVENT
DTSTART;TZID=Europe/Berlin:20250611T193000
DTEND;TZID=Europe/Berlin:20250611T210000
DTSTAMP:20260423T122144
CREATED:20250116T101723Z
LAST-MODIFIED:20250116T101811Z
UID:10005185-1749670200-1749675600@www.evforum-bonn.de
SUMMARY:Matthäikreis
DESCRIPTION:Offener Gesprächsabend\, jeden 2. Mittwoch im Monat\, Vorträge zu verschiedenen Themen\, Gelegenheit zu Begegnung und Austausch. \nAnsprechpartner: Hildegard Berndt – Tel. 0228 62 41 33 \n  \n  \n 
URL:https://www.evforum-bonn.de/veranstaltung/mathhaeikreis-2025-copy-2-copy-copy/
LOCATION:Matthäikirche\, Gutenbergstr. 10\, Bonn\, 53123\, Germany
CATEGORIES:Veranstaltungen von Gemeinden
ATTACH;FMTTYPE=image/jpeg:https://www.evforum-bonn.de/wp-content/uploads/2025/01/gespraech-haende-tisch.jpg
ORGANIZER;CN="Ev. Kirchengemeinde im Bonner Westen (Hardtberg)":MAILTO:hardtberg@ekir.de
END:VEVENT
BEGIN:VEVENT
DTSTART;TZID=Europe/Berlin:20250611T200000
DTEND;TZID=Europe/Berlin:20250611T210000
DTSTAMP:20260423T122144
CREATED:20250407T111957Z
LAST-MODIFIED:20250407T111958Z
UID:10005612-1749672000-1749675600@www.evforum-bonn.de
SUMMARY:Religiöse Kindererziehung
DESCRIPTION:Impulse zur religiösen Kindererziehung – jeden Mittwoch (außer Ferien ab 20 Uhr in der Friedenskirche \nJeden Mittwochabend (außer in den Ferien) lädt Pastorin Annette Ziegler von 20–21 Uhr in die Friedenskirche Bonn-Kessenich ein\, um zentrale Fragen der religiösen Kindererziehung zu beleuchten. Begleitend durch ausgewählte Literatur und ergänzt durch Vorträge externer Fachleute bietet die Reihe praxisnahe Impulse und Raum für Austausch. \nWeitere Informationen: Tel. 0228 23 83 71 | E-Mail: buero@friedenskirche-bonn.de \n 
URL:https://www.evforum-bonn.de/veranstaltung/religioese-kindererziehung-2/2025-06-11/
LOCATION:Friedenskirche\, Franz-Bücheler-Str. 10\, Bonn\, 53129 \, Deutschland
CATEGORIES:Existenzielle Fragestellungen,Lesung - Vortrag,Pädagogische Bildung,Veranstaltungen von Gemeinden,Veranstaltungsreihen,Weiterbildung allgemein
ATTACH;FMTTYPE=image/png:https://www.evforum-bonn.de/wp-content/uploads/2025/04/Religioese-Kindererziehung-e1744024216838.png
END:VEVENT
END:VCALENDAR