BEGIN:VCALENDAR
VERSION:2.0
PRODID:-//Evangelisches Forum Bonn - ECPv6.15.20//NONSGML v1.0//EN
CALSCALE:GREGORIAN
METHOD:PUBLISH
X-ORIGINAL-URL:https://www.evforum-bonn.de
X-WR-CALDESC:Veranstaltungen für Evangelisches Forum Bonn
REFRESH-INTERVAL;VALUE=DURATION:PT1H
X-Robots-Tag:noindex
X-PUBLISHED-TTL:PT1H
BEGIN:VTIMEZONE
TZID:Europe/Berlin
BEGIN:DAYLIGHT
TZOFFSETFROM:+0100
TZOFFSETTO:+0200
TZNAME:CEST
DTSTART:20240331T010000
END:DAYLIGHT
BEGIN:STANDARD
TZOFFSETFROM:+0200
TZOFFSETTO:+0100
TZNAME:CET
DTSTART:20241027T010000
END:STANDARD
BEGIN:DAYLIGHT
TZOFFSETFROM:+0100
TZOFFSETTO:+0200
TZNAME:CEST
DTSTART:20250330T010000
END:DAYLIGHT
BEGIN:STANDARD
TZOFFSETFROM:+0200
TZOFFSETTO:+0100
TZNAME:CET
DTSTART:20251026T010000
END:STANDARD
BEGIN:DAYLIGHT
TZOFFSETFROM:+0100
TZOFFSETTO:+0200
TZNAME:CEST
DTSTART:20260329T010000
END:DAYLIGHT
BEGIN:STANDARD
TZOFFSETFROM:+0200
TZOFFSETTO:+0100
TZNAME:CET
DTSTART:20261025T010000
END:STANDARD
END:VTIMEZONE
BEGIN:VTIMEZONE
TZID:Europe/Busingen
BEGIN:DAYLIGHT
TZOFFSETFROM:+0100
TZOFFSETTO:+0200
TZNAME:CEST
DTSTART:20240331T010000
END:DAYLIGHT
BEGIN:STANDARD
TZOFFSETFROM:+0200
TZOFFSETTO:+0100
TZNAME:CET
DTSTART:20241027T010000
END:STANDARD
BEGIN:DAYLIGHT
TZOFFSETFROM:+0100
TZOFFSETTO:+0200
TZNAME:CEST
DTSTART:20250330T010000
END:DAYLIGHT
BEGIN:STANDARD
TZOFFSETFROM:+0200
TZOFFSETTO:+0100
TZNAME:CET
DTSTART:20251026T010000
END:STANDARD
BEGIN:DAYLIGHT
TZOFFSETFROM:+0100
TZOFFSETTO:+0200
TZNAME:CEST
DTSTART:20260329T010000
END:DAYLIGHT
BEGIN:STANDARD
TZOFFSETFROM:+0200
TZOFFSETTO:+0100
TZNAME:CET
DTSTART:20261025T010000
END:STANDARD
END:VTIMEZONE
BEGIN:VEVENT
DTSTART;TZID=Europe/Berlin:20250612T100000
DTEND;TZID=Europe/Berlin:20250612T120000
DTSTAMP:20260423T134854
CREATED:20250116T103357Z
LAST-MODIFIED:20250116T103437Z
UID:10005194-1749722400-1749729600@www.evforum-bonn.de
SUMMARY:Gesprächskreis Lyrik II 2025
DESCRIPTION:An jedem 2. Donnerstag im Monat treffen sich Lyrik-Interessierte zum Austausch und Vortrag von ausgewählten Texten. \nDie Gruppe entscheidet welche Lyriker oder welche Themen behandelt werden sollen. \nLeitung: Antje Wille\, Tel. 64 48 13
URL:https://www.evforum-bonn.de/veranstaltung/gespraechskreis-lyrik-2025-ii-copy-copy-copy-copy/
LOCATION:Die WOHNUNG\, Stresemannstr. 28\, Bonn\, 53123
CATEGORIES:Kunst - Musik - Literatur,Veranstaltungen von Gemeinden
ATTACH;FMTTYPE=image/jpeg:https://www.evforum-bonn.de/wp-content/uploads/2025/01/Literaturkreis.jpg
ORGANIZER;CN="Ev. Kirchengemeinde im Bonner Westen (Hardtberg)":MAILTO:hardtberg@ekir.de
END:VEVENT
BEGIN:VEVENT
DTSTART;TZID=Europe/Berlin:20250612T150000
DTEND;TZID=Europe/Berlin:20250612T170000
DTSTAMP:20260423T134854
CREATED:20250123T120750Z
LAST-MODIFIED:20250123T120817Z
UID:10005245-1749740400-1749747600@www.evforum-bonn.de
SUMMARY:Senior*innenkreis in der Friedenskirche
DESCRIPTION:Senior*innen ab Ende 70 – jeden 2. Donnerstag im Monat\, 15.00-17.00 Uhr \n„Unsere monatlichen Treffen stehen immer unter einem bestimmten Thema\, zu dem es einen (Film-)Vortrag mit anschließendem Austausch gibt. Außerdem feiern wir eine Andacht\, essen Kuchen\, trinken Kaffee\, und beten zum Abschluss. Besonders schön ist unsere Tradition\, dass sich alle\, die zwischen den Treffen Geburtstag hatten\, ein Lied wünschen dürfen\, das wir gemeinsam singen. \nEin- bis zweimal im Jahr machen wir einen Halbtagesausflug. \nWir freuen uns über eine regelmäßige Teilnahme\, um gut in Kontakt zu kommen. Es ist für uns aber auch in Ordnung\, wenn jemand nur gelegentlich dabei ist. \nDie Teilnahme ist kostenlos\, wir geben allerdings eine Spendenbox für Kaffee und Kuchen herum.“ \n 
URL:https://www.evforum-bonn.de/veranstaltung/seniorinnenkreis-in-der-friedenskirche-2-copy-copy-copy-copy-copy/
LOCATION:Gemeindehaus der Friedenskirchengemeinde\, Franz-Bücheler-Straße 10\, Bonn\, NRW\, 53129\, Germany
CATEGORIES:Seniorenbildung,Veranstaltungen von Gemeinden
ATTACH;FMTTYPE=image/jpeg:https://www.evforum-bonn.de/wp-content/uploads/2022/12/Senior-e1751876645808.jpg
END:VEVENT
BEGIN:VEVENT
DTSTART;TZID=Europe/Berlin:20250612T153000
DTEND;TZID=Europe/Berlin:20250612T170000
DTSTAMP:20260423T134854
CREATED:20250507T105844Z
LAST-MODIFIED:20250507T105939Z
UID:10005663-1749742200-1749747600@www.evforum-bonn.de
SUMMARY:Digital-Café am HHG
DESCRIPTION:Gemeinsame Aktion von YoungCaritas und dem Helmholtz-Gymnasium in Duisdorf. \nSchülerinnen und Schüler bieten im Rahmen ihrer „Weltverbesserer-AG“ für ältere Menschen ein kostenfreies Digital-Café mit Kaffee und Kuchen an. Sie bieten Hilfe bei allen Fragen rund um Handy oder Tablet. So bietet sich die Möglichkeit zum Austausch zwischen den Generationen in gemütlicher Atmosphäre. \nEine Anmeldung ist nicht erforderlich. Interessierte können einfach vorbeikommen. \nOrt:\nHelmholtz-Gymnasium\nHelmholtzstraße 18\n53123 Bonn \nKontakt: weltverbesserer@hhg-bonn.de
URL:https://www.evforum-bonn.de/veranstaltung/digital-cafe-am-hhg/
LOCATION:Helmholtz-Gymnasium\, Helhltzstraße 18\, Bonn\, NRW\, 53123\, Germany
CATEGORIES:Altern und Alter,Grips & Geist,KI Künstliche Intelligenz - Digital,Veranstaltungen von Gemeinden,Veranstaltungsreihen
ATTACH;FMTTYPE=image/jpeg:https://www.evforum-bonn.de/wp-content/uploads/2025/05/hands-820272_640-e1746615511644.jpg
ORGANIZER;CN="Ev. Johanniskirchengemeinde":MAILTO:d.gruss@bonn-evangelisch.de
END:VEVENT
BEGIN:VEVENT
DTSTART;TZID=Europe/Busingen:20250612T163000
DTEND;TZID=Europe/Busingen:20250612T190000
DTSTAMP:20260423T134854
CREATED:20250109T112810Z
LAST-MODIFIED:20250110T175243Z
UID:10005126-1749745800-1749754800@www.evforum-bonn.de
SUMMARY:Bonner Altstadt – das ehemalige Arbeiter und Handwerksviertel
DESCRIPTION:12. Juni 2025 – 16:30 Uhr – Treffpunkt: Maxstraße/Ecke Breite Straße (gegenüber Stadthaus/Elisabeth Selbert-Platz) \nErfahren Sie welche Zufälle zur Kirschblüte führten\, wo Pirandello wohnte und was es mit den Aufanischen Matronen auf sich hat. Themen sind auch genossenschaftlicher Wohnungsbau\, die wechselhafte Geschichte der Maxstraße und das „Ungetüm“ Stadthaus. \nEin Spaziergang mit Rainer SELmanN M.A. \nEine Veranstaltung aus dem Programm der Kirchengemeinden und Klupp´91: \nwww.lukaskirche-bonn.de\n(Gemeindeleben/Senioren)\nwww.thomas-morus-bonn.de\n(Gemeindeleben/Ökumene)
URL:https://www.evforum-bonn.de/veranstaltung/bonner-altstadt-das-ehemalige-arbeiter-und-handwerksviertel/
LOCATION:Offener Treffpunkt
CATEGORIES:Aktuelles,Veranstaltungen von Gemeinden
ATTACH;FMTTYPE=image/jpeg:https://www.evforum-bonn.de/wp-content/uploads/2025/01/Bonn-Marktplatz.jpg
END:VEVENT
BEGIN:VEVENT
DTSTART;TZID=Europe/Berlin:20250612T190000
DTEND;TZID=Europe/Berlin:20250612T203000
DTSTAMP:20260423T134854
CREATED:20250328T074538Z
LAST-MODIFIED:20250526T092513Z
UID:10005573-1749754800-1749760200@www.evforum-bonn.de
SUMMARY:"Essen ist politisch!" - Überzuckert? Was uns das Leben ver-süßt
DESCRIPTION:Überzuckert? Was uns das Leben ver-süßt. \nWas wäre unser Leben ohne Zucker? Torten\, Kuchen oder Plätzchen? Ohne Zucker unvorstellbar.   Eisbecher oder Milchshake? Sowieso. Auch in jedem Softdrink\, in Cocktails und sogar im Obstsaft  –  an der täglichen Dosis Zucker kommt man einfach nicht vorbei. Warum auch? Das bisschen Dolce vita gönn‘ ich mir. Ich weiß doch\, was mir gut tut und wo die Grenze ist. \nOb das wirklich so einfach ist? Wie versteckte Zucker den Konsum in die Höhe treiben\, was das mit uns macht und warum wir oft gar nicht wissen\, wo wieviel davon drin ist – darum geht es bei dieser Veranstaltung in der Reihe „Essen ist politisch!“ von Slow Food Bonn und dem Evangelischen Forum Bonn. Fachkundige Referentin und Gesprächspartnerin ist Katrin Böttner\, Ernährungsexpertin der Verbraucherzentrale NRW. \nDamit der Genuss nicht auf der Strecke bleibt\, bieten wir erfrischende Drinks und leckere Snacks – ganz ohne Zucker. \nAm 12. Juni 2025\, 19 – 20.30 Uhr | im Evangelischen Kirchenpavillon an der Kreuzkirche\, Kaiserplatz 1a\, Bonn \nAnsprechpartner: Thomas Großmann – bonn@slowfood.de \nUm Anmeldung wird gebeten – bitte nutzen Sie unser Formular unten! \nOffizieller Flyer zur Veranstaltung \nOffizielles Logo und Eigentum von SlowFood Deutschland
URL:https://www.evforum-bonn.de/veranstaltung/essen-ist-politisch_25-06-12/
LOCATION:Ev. Kirchenpavillon Bonn\, Kaiserplatz 1a\, Bonn\, NRW\, 53113\, Germany
CATEGORIES:Aktuelles,Essen ist politisch,Kirchenpavillon,Lesung - Vortrag,Philosophisch-psychologische Kaffeehausgespräche,Ressourcen - Umwelt - Klima,Veranstaltungsreihen
ATTACH;FMTTYPE=image/jpeg:https://www.evforum-bonn.de/wp-content/uploads/2025/03/Zucker-Geleegummi-e1745403692727.jpg
ORGANIZER;CN="SlowFood Bonn":MAILTO:bonn@slowfood.de
END:VEVENT
END:VCALENDAR