BEGIN:VCALENDAR
VERSION:2.0
PRODID:-//Evangelisches Forum Bonn - ECPv6.15.20//NONSGML v1.0//EN
CALSCALE:GREGORIAN
METHOD:PUBLISH
X-ORIGINAL-URL:https://www.evforum-bonn.de
X-WR-CALDESC:Veranstaltungen für Evangelisches Forum Bonn
REFRESH-INTERVAL;VALUE=DURATION:PT1H
X-Robots-Tag:noindex
X-PUBLISHED-TTL:PT1H
BEGIN:VTIMEZONE
TZID:Europe/Berlin
BEGIN:DAYLIGHT
TZOFFSETFROM:+0100
TZOFFSETTO:+0200
TZNAME:CEST
DTSTART:20240331T010000
END:DAYLIGHT
BEGIN:STANDARD
TZOFFSETFROM:+0200
TZOFFSETTO:+0100
TZNAME:CET
DTSTART:20241027T010000
END:STANDARD
BEGIN:DAYLIGHT
TZOFFSETFROM:+0100
TZOFFSETTO:+0200
TZNAME:CEST
DTSTART:20250330T010000
END:DAYLIGHT
BEGIN:STANDARD
TZOFFSETFROM:+0200
TZOFFSETTO:+0100
TZNAME:CET
DTSTART:20251026T010000
END:STANDARD
BEGIN:DAYLIGHT
TZOFFSETFROM:+0100
TZOFFSETTO:+0200
TZNAME:CEST
DTSTART:20260329T010000
END:DAYLIGHT
BEGIN:STANDARD
TZOFFSETFROM:+0200
TZOFFSETTO:+0100
TZNAME:CET
DTSTART:20261025T010000
END:STANDARD
END:VTIMEZONE
BEGIN:VEVENT
DTSTART;TZID=Europe/Berlin:20250613T153000
DTEND;TZID=Europe/Berlin:20250613T170000
DTSTAMP:20260423T163954
CREATED:20250610T102350Z
LAST-MODIFIED:20250610T102350Z
UID:10005792-1749828600-1749834000@www.evforum-bonn.de
SUMMARY:Repair Café in der Pauluskirche
DESCRIPTION:Repair Café im Gemeindesaal der Pauluskirche \nBringen Sie uns gern Ihre defekten Elektrogeräte\, Kinderspielzeuge\, Fahrräder oder Holzgegenstände vorbei! Wir begutachten alles und reparieren kostenlos\, was uns\nmöglich ist.
URL:https://www.evforum-bonn.de/veranstaltung/repair-cafe-in-der-pauluskirche/
LOCATION:Gemeindesaal an der Pauluskirche\, In der Maar 7\, Bonn\, NRW\, 53175\, Germany
CATEGORIES:Repair Café,Ressourcen - Umwelt - Klima,Veranstaltungen von Gemeinden,Veranstaltungsreihen
ATTACH;FMTTYPE=image/jpeg:https://www.evforum-bonn.de/wp-content/uploads/2025/02/repair-cafe-e1738660760187.jpg
END:VEVENT
BEGIN:VEVENT
DTSTART;TZID=Europe/Berlin:20250613T193000
DTEND;TZID=Europe/Berlin:20250613T210000
DTSTAMP:20260423T163954
CREATED:20250206T115136Z
LAST-MODIFIED:20250206T115635Z
UID:10005375-1749843000-1749848400@www.evforum-bonn.de
SUMMARY:Zeit für Bildung - Das Grab des Apostels Petrus in Rom
DESCRIPTION:Fragezeichen und Ausrufezeichen\n\n13.06.2025 – Evangelische Markuskirche in Hemmerich\nRom ist die Hauptstadt des Christentums – so jedenfalls hieß es lange und heißt es bis heute in vielen katholischen Kreisen. Am Neubau des Petersdoms ist die Einheit der Christenheit vor mehr als 500 Jahren zerbrochen\, denn der Ablasshandel sollte den Neubau finanzieren. Da kann man sich zurecht fragen\, was dran ist an der Urhypothese: in Rom liegt der Apostelfürst\, der erste und erwählte Jünger Jesu\, begraben. Simon Petrus\, auf den Jesus seine Kirche bauen wollte – ein überaus interpretationswürdiger Satz\, der vieles nach sich zog. Wir schauen auf die historischen Quellen\, auf Archäologische Funde und gehen auf Spurensuche mit Niels Wey\, der ein Jahr lang in Rom gelebt hat und zu dieser Frage forschen durfte. \nReferent:           Pfarrer Niels Wey \nAnmeldung:      Bitte unter evelyn.geupel@t-online.de \nBei unseren Veranstaltungen gibt es keine Zugangsbeschränkungen. – Die Kirche ist barrierefrei erreichbar – Der Eintritt ist frei!
URL:https://www.evforum-bonn.de/veranstaltung/zeit-fuer-bildung-06-25/
LOCATION:Ev. Markuskirche Hemmerich\, Rösberger Strasse 35\, Bornheim - Hemmerich\, NRW\, 53332\, Deutschland
CATEGORIES:Aktuelles,Veranstaltungen von Gemeinden,Veranstaltungsreihen,Zeit für Bildung
ATTACH;FMTTYPE=image/webp:https://www.evforum-bonn.de/wp-content/uploads/2025/02/das-grab-des-apostels-petrus-e1738842972991.webp
ORGANIZER;CN="Ev. Emmaus-Kirchengemeinde an Rhein u. Vorgebirge (Vorgebirge)":MAILTO:vorgebirge@ekir.de
END:VEVENT
END:VCALENDAR