BEGIN:VCALENDAR
VERSION:2.0
PRODID:-//Evangelisches Forum Bonn - ECPv6.15.20//NONSGML v1.0//EN
CALSCALE:GREGORIAN
METHOD:PUBLISH
X-ORIGINAL-URL:https://www.evforum-bonn.de
X-WR-CALDESC:Veranstaltungen für Evangelisches Forum Bonn
REFRESH-INTERVAL;VALUE=DURATION:PT1H
X-Robots-Tag:noindex
X-PUBLISHED-TTL:PT1H
BEGIN:VTIMEZONE
TZID:Europe/Berlin
BEGIN:DAYLIGHT
TZOFFSETFROM:+0100
TZOFFSETTO:+0200
TZNAME:CEST
DTSTART:20240331T010000
END:DAYLIGHT
BEGIN:STANDARD
TZOFFSETFROM:+0200
TZOFFSETTO:+0100
TZNAME:CET
DTSTART:20241027T010000
END:STANDARD
BEGIN:DAYLIGHT
TZOFFSETFROM:+0100
TZOFFSETTO:+0200
TZNAME:CEST
DTSTART:20250330T010000
END:DAYLIGHT
BEGIN:STANDARD
TZOFFSETFROM:+0200
TZOFFSETTO:+0100
TZNAME:CET
DTSTART:20251026T010000
END:STANDARD
BEGIN:DAYLIGHT
TZOFFSETFROM:+0100
TZOFFSETTO:+0200
TZNAME:CEST
DTSTART:20260329T010000
END:DAYLIGHT
BEGIN:STANDARD
TZOFFSETFROM:+0200
TZOFFSETTO:+0100
TZNAME:CET
DTSTART:20261025T010000
END:STANDARD
END:VTIMEZONE
BEGIN:VEVENT
DTSTART;TZID=Europe/Berlin:20250614T090000
DTEND;TZID=Europe/Berlin:20250614T180000
DTSTAMP:20260423T134806
CREATED:20250813T103950Z
LAST-MODIFIED:20250813T104326Z
UID:10006148-1749891600-1749924000@www.evforum-bonn.de
SUMMARY:Modul 8/10 Spezielle Klienten (uA Kinder\, Muslime\, Menschen mit Beeinträchtigung)
DESCRIPTION:Interne Kursveranstaltung. Dieses Modul ist Teil der Ausbildung Notfallseelsorge Bonn/Rhein-Sieg (10 Ganztagsmodule\, 09:00–18:00 Uhr).\nDie Teilnahme ist nur nach Zulassung möglich. 👉 Dieser Termin dient der Übersicht für eingeschriebene Teilnehmende. \nHinweise zur Anmeldung:\nDie Anmeldung erfolgt zweistufig (Vormerkung & telefonisches Vorgespräch – danach schriftliche Anmeldung).\nAlle Infos zum Verfahren: evforum-bonn.de/ausbildungskurs-zum-zur-notfallseelsorger-in \nOrganisatorisches (fix für alle Module): \n\nUhrzeit: 09:00–18:00 Uhr\nOrt: Collegium Josephinum Bonn (sofern nicht anders angegeben)\n\nGeplante Termine (jeden 1. Samstag im Monat\, außer in Ferien NRW & an Feiertagen):
URL:https://www.evforum-bonn.de/veranstaltung/ausbildung-notfallseelsorge_modul-8-von-10-2025/
LOCATION:Collegium Josephinum Bonn\, Kölnstraße 413\, Bonn\, NRW\, 53117\, Germany
CATEGORIES:Lehrgang | Kurs,Notfallseelsorge - Ausbildungskurs,Veranstaltungen von Institutionen und Verbänden,Veranstaltungsreihen
ATTACH;FMTTYPE=image/png:https://www.evforum-bonn.de/wp-content/uploads/2025/08/notfallseelsorge_logo_kursiv-1.png
ORGANIZER;CN="Notfallseelsorge Bonn Rhein-Sieg":MAILTO:info@nfs-bn-rsk.de
END:VEVENT
BEGIN:VEVENT
DTSTART;TZID=Europe/Berlin:20250614T100000
DTEND;TZID=Europe/Berlin:20250614T150000
DTSTAMP:20260423T134806
CREATED:20250616T093958Z
LAST-MODIFIED:20250616T093958Z
UID:10005806-1749895200-1749913200@www.evforum-bonn.de
SUMMARY:Sommersynode des Evangelischen Kirchenkreises Bonn
DESCRIPTION:Der evangelische Kirchenkreis in Bonn hält an seinen ambitionierten Klimaschutzzielen fest. So sollen alle auch nicht kirchlich genutzten Gebäude 2035\, also in zehn Jahren klimaneutral sein\, auch die Kindertagesstätten\, für die die Landeskirche jüngst eine Ausnahmegenehmigung erteilt hatte. „Der Klimaschutz bleibt bei uns auf der Prioritätenliste ganz oben\, auch weil das in Teilen der Politik und Gesellschaft gerade nicht mehr der Fall ist“\, betonte der Bonner Superintendent Dietmar Pistorius auf der Kreissynode am Samstag in Haus der Evangelischen Kirche . „Wir betreiben nicht ein bisschen Treibhausneutralität\, sondern ernsthaft.“ \nSynode mit Dank für Neugewählte und im ökumenischen Geist mit Stadtdechant Markus Hofmann (v.l.)\, den neuen Synodalbeauftragten Pfarrer Dirk Nolte und Ute Dreßen\, Superintendent Dietmar Pistorius\, Synodalassessorin Pfarrerin Dr. Caroline Tippmann\, dem stlv. Scriba Pfarrer Christian Bedarf und der Landessynodalin Ursula Biehler (Foto: J. Gerhardt) \n\n  \n  \n  \n  \nUm der Bewahrung der Schöpfung noch mehr Gewicht zu geben\, setzt der Kirchenkreis Bonn zudem einen eigenen Fachausschuss für Klimagerechtigkeit und Nachhaltigkeit ein\, dessen Vorsitzende Marie-Louise Thon (22)\, Theologiestudentin aus der Kirchengemeinde Vorgebirge\, auch Stimmrecht auf der Kreissynode hat. \nZustimmung auch von Wolfgang Albers\, langjähriger Polizeipräsident in Bonn und Köln und berufenes Mitglied der Bonner Synode\, der allerdings „etwas Realismus“ anmahnte gerade bei den komplexen Herausforderungen der Sanierung von Gebäuden. Laut Projektmanagerin für Klimagerechtigkeit des Kirchenkreises Annika Bohlen „sind die evangelischen Kirchengemeinden in Bonn da aber auf einem guten Weg“. Der ebenfalls berufene Synodale und Landesvorsitzende der Grünen in NRW Tim Achtermeyer warb dafür\, sich Ziele zu setzen\, für die man sich richtig anstrengen müsse\, um sie zu erreichen. Zudem dankte er seiner Kirche dafür\, weiter „mutig Themen zu setzen auch gegen den Mainstream der öffentlichen Meinung“. \n„Es geht oft besser als viele denken“\, betonte Wolfgang Schmiedecken und berichte von seiner Johanniskirche in Duisdorf\, wie gut dort zum Beispiel Infrarot-Untersitzheizungen wirken und man „nicht mehr sinnlos im Winter den ganze Kirchraum heizen muss“.
URL:https://www.evforum-bonn.de/veranstaltung/sommersynode-des-evangelischen-kirchenkreises-bonn/
LOCATION:Haus der Ev. Kirche Bonn\, Adenauerallee 37\, Bonn\, NRW\, 53113\, Germany
CATEGORIES:Aktuelles,Haus der Ev. Kirche Bonn,Ressourcen - Umwelt - Klima,Zentralprogramm
ATTACH;FMTTYPE=image/jpeg:https://www.evforum-bonn.de/wp-content/uploads/2016/07/haus-der-ev-kirche-bonn_bild-e1739960200368.jpg
END:VEVENT
BEGIN:VEVENT
DTSTART;TZID=Europe/Berlin:20250614T101500
DTEND;TZID=Europe/Berlin:20250614T130000
DTSTAMP:20260423T134806
CREATED:20250606T100231Z
LAST-MODIFIED:20250606T100417Z
UID:10005787-1749896100-1749906000@www.evforum-bonn.de
SUMMARY:Martin-Buber-Lesekreis
DESCRIPTION:Am 14. Juni 2025 um 10:15 Uhr im Gemeindezentrum Apostel – Sitzungsraum\n\nIm gemeinsamen Lesen und Diskutieren von Texten des jüdischen Religionsphilosophen Martin Buber widmen wir uns Fragen von Beziehung\, Dialog und Verantwortung. Der Lesekreis lädt ein zum offenen Austausch über Bubers Denken und dessen Bedeutung für unsere Zeit. Neue Interessierte sind herzlich willkommen! \nAnsprechpartner\nDr. Wolfgang Krone info@dialogisches-leben.de
URL:https://www.evforum-bonn.de/veranstaltung/martin-buber-lesekreis-1/
LOCATION:Gemeindehaus der Apostelkirche\, Lievelingsweg 162\, Bonn\, NRW\, 53119\, Germany
CATEGORIES:Arbeitskreis,Existenzielle Fragestellungen,Lesung - Vortrag,Migration - Kultur - Kultureller Austausch,Philosophisch-psychologische Kaffeehausgespräche,Theologie / Philosophie,Veranstaltungen von Gemeinden,Veranstaltungsreihen
END:VEVENT
BEGIN:VEVENT
DTSTART;TZID=Europe/Berlin:20250614T110000
DTEND;TZID=Europe/Berlin:20250614T123000
DTSTAMP:20260423T134806
CREATED:20250602T105548Z
LAST-MODIFIED:20251114T132234Z
UID:10005752-1749898800-1749904200@www.evforum-bonn.de
SUMMARY:Café Kontakt
DESCRIPTION:Im Café Kontakt der Christuskirche Bonn treffen sich Menschen unterschiedlicher Herkunft zum offenen Austausch. Bei einer Tasse Kaffee gibt es die Möglichkeit\, Fragen des Alltags zu klären\, Kontakte zu knüpfen und Unterstützung zu erhalten – sei es zu Themen wie Wohnen\, Sprache\, Schule oder Kultur. \nEhrenamtliche begleiten die Treffen und stehen bei individuellen Anliegen zur Seite – auf Deutsch\, Arabisch und Ukrainisch. Das Café versteht sich als ein niedrigschwelliges Bildungsangebot zur Förderung gesellschaftlicher Teilhabe und Orientierung im Alltag. \n📍 Ort: Jugendraum der Christuskirche\, Friesenstraße 2\, 53175 Bonn📧 Kontakt: Ibrahim Al-Haifi – ialhaifi@gmail.com🔗 Weitere Informationen auf der Website der Thomas-Kirchengemeinde📩 Mail: cafekontakt@thomas-kirchengemeinde.de
URL:https://www.evforum-bonn.de/veranstaltung/cafe-kontakt-series-2025/2025-06-14/
LOCATION:Jugendraum der Christuskirche\, Friesenstraße 2\, Bonn\, NRW\, 53175\, Germany
CATEGORIES:Bildung & Café,Migration - Kultur - Kultureller Austausch,Philosophisch-psychologische Kaffeehausgespräche,Theologie / Philosophie,Veranstaltungen von Gemeinden,Veranstaltungsreihen
ATTACH;FMTTYPE=image/jpeg:https://www.evforum-bonn.de/wp-content/uploads/2025/05/hands-8331123_1280-e1747643850165.jpg
END:VEVENT
BEGIN:VEVENT
DTSTART;TZID=Europe/Berlin:20250614T180000
DTEND;TZID=Europe/Berlin:20250614T200000
DTSTAMP:20260423T134806
CREATED:20250526T120351Z
LAST-MODIFIED:20250526T120652Z
UID:10005684-1749924000-1749931200@www.evforum-bonn.de
SUMMARY:„Entschuldigen Sie\,  dass ich jandle!“
DESCRIPTION:Der in Wien geborene Dichter Ernst Jandl hat die Lyrik revolutioniert: Seine Laut- und Sprechgedichte verbinden Poesie und Performance\, Avantgarde und Populärkultur\, sie schwanken zwischen der Liebe\nzur Sprache und ihrer Zertrümmerung\, zwischen anarchischem Witz und existenziellem Ernst. Viele seiner Gedichte wie „Ottos Mops“ oder „Fünfter sein“ sind darüber hinaus Klassiker der Kinderliteratur. \nErnst Jandl wäre in diesem Jahr 100 Jahre alt geworden. Deshalb nähern wir uns in diesem Glanzlicht-Gottesdienst mit Ingmar Jochem und dem Büchereiteam dem Leben und Werk dieses ungewöhnlichen Dichters. Und da Ernst Jandl immer wieder mit Jazz-Musikern künstlerisch zusammengearbeitet hat\, gibt es dazu jazzige Klänge mit Gotthard Fermor am Klavier. Herzliche Einladung! \n\nAm Samstag. 14. Juni 2025 um 18 Uhr – Rigal`sche Kapelle\, Kurfürstenallee 11 in Bonn\n\nFür das Vorbereitungsteam: Ingmar Jochem
URL:https://www.evforum-bonn.de/veranstaltung/entschuldigen-sie-dass-ich-jandle/
LOCATION:Rigal`sche Kapelle\, Kurfürstenallee 11\, Bonn - Bad Godesberg\, NRW\, 53177\, Germany
CATEGORIES:Bibel - Bibelgespräch,Gottesdienst und Bildung,Kunst - Musik - Literatur,Lesung - Vortrag,Philosophisch-psychologische Kaffeehausgespräche,Theologie / Philosophie,Veranstaltungen von Gemeinden,Veranstaltungsreihen
ATTACH;FMTTYPE=image/jpeg:https://www.evforum-bonn.de/wp-content/uploads/2025/05/Literaturgottesdienst_Ernst-Jandl-e1748261163625.jpg
END:VEVENT
END:VCALENDAR