BEGIN:VCALENDAR
VERSION:2.0
PRODID:-//Evangelisches Forum Bonn - ECPv6.15.20//NONSGML v1.0//EN
CALSCALE:GREGORIAN
METHOD:PUBLISH
X-WR-CALNAME:Evangelisches Forum Bonn
X-ORIGINAL-URL:https://www.evforum-bonn.de
X-WR-CALDESC:Veranstaltungen für Evangelisches Forum Bonn
REFRESH-INTERVAL;VALUE=DURATION:PT1H
X-Robots-Tag:noindex
X-PUBLISHED-TTL:PT1H
BEGIN:VTIMEZONE
TZID:Europe/Berlin
BEGIN:DAYLIGHT
TZOFFSETFROM:+0100
TZOFFSETTO:+0200
TZNAME:CEST
DTSTART:20240331T010000
END:DAYLIGHT
BEGIN:STANDARD
TZOFFSETFROM:+0200
TZOFFSETTO:+0100
TZNAME:CET
DTSTART:20241027T010000
END:STANDARD
BEGIN:DAYLIGHT
TZOFFSETFROM:+0100
TZOFFSETTO:+0200
TZNAME:CEST
DTSTART:20250330T010000
END:DAYLIGHT
BEGIN:STANDARD
TZOFFSETFROM:+0200
TZOFFSETTO:+0100
TZNAME:CET
DTSTART:20251026T010000
END:STANDARD
BEGIN:DAYLIGHT
TZOFFSETFROM:+0100
TZOFFSETTO:+0200
TZNAME:CEST
DTSTART:20260329T010000
END:DAYLIGHT
BEGIN:STANDARD
TZOFFSETFROM:+0200
TZOFFSETTO:+0100
TZNAME:CET
DTSTART:20261025T010000
END:STANDARD
END:VTIMEZONE
BEGIN:VEVENT
DTSTART;TZID=Europe/Berlin:20250615T110000
DTEND;TZID=Europe/Berlin:20250615T140000
DTSTAMP:20260423T121115
CREATED:20250807T083739Z
LAST-MODIFIED:20250807T084750Z
UID:10006126-1749985200-1749996000@www.evforum-bonn.de
SUMMARY:Kirche kunterbunt
DESCRIPTION:Spielen\, toben\, quatschen\, kreativ sein – und vor allem: zusammen Zeit verbringen!Viermal im Jahr laden die evangelischen Gemeinden in Bad Godesberg zur bunten Familienzeit ein. Willkommen sind Babys\, Kinder\, Eltern\, Großeltern – und alle\, die einen lebendigen Sonntagnachmittag mitgestalten möchten. \nWir sagen gemeinsam Hallo zu Gott und zueinander\, hören eine kindgerechte biblische Geschichte und entdecken bei kreativen Angeboten\, was uns gut tut und was wir daraus machen wollen. Mit kleinen und großen Impulsen gehen wir am Ende satt und gesegnet nach Hause. \n🕚 Immer von 11:00–14:00 Uhr📍 Wechselnde Orte in Bad Godesberg🍲 Ein einfaches Mittagessen ist inklusive. \nWeitere Informationen und Anmeldung
URL:https://www.evforum-bonn.de/veranstaltung/kirche-kunterbunt-25-06/
LOCATION:Ev. Johanneskirche Bad Godesberg\, Zanderstr. 51\, Bonn\, NRW\, 53177\, Germany
CATEGORIES:Bibel - Bibelgespräch,Pädagogische Bildung,Philosophisch-psychologische Kaffeehausgespräche,Veranstaltungen von Gemeinden,Veranstaltungsreihen
ATTACH;FMTTYPE=image/jpeg:https://www.evforum-bonn.de/wp-content/uploads/2025/08/Kirche-kunterbunt-e1754555504265.jpg
END:VEVENT
BEGIN:VEVENT
DTSTART;TZID=Europe/Berlin:20250615T110000
DTEND;TZID=Europe/Berlin:20250615T143000
DTSTAMP:20260423T121115
CREATED:20250612T081016Z
LAST-MODIFIED:20250612T081055Z
UID:10005794-1749985200-1749997800@www.evforum-bonn.de
SUMMARY:Veteranentag „Das Karfreitagsgefecht. Deutsche Soldaten im Feuer der Taliban.“
DESCRIPTION:Würdigung und Wertschätzung für den Dienst in Uniform \nDer opfervolle Dienst am Gemeinwesen verdient Anerkennung und Respekt! Mit einem Militärgottesdienst und einer Lesung laden wir Sie herzlich ein zum diesjährigen Veteranentag: Zwischen Mut und Kameradschaft\, Triumph und Trauer erfahren wir aus erster Hand\, was es bedeutet\, das Recht und die Freiheit des deutschen Volkes im Einsatz tapfer zu verteidigen. \nProgramm des Veteranentages am Sonntag\, den 15. Juni 2025 \n11.00 – 12.00 Uhr Militärgottesdienst in der Matthäikirche\nmit Pfarrer Schwikart und Militärdekan Söffing \n12.00 – 12.30 Uhr Kaffeepause mit Imbiss\, Infoständen\n(u. a. Reservistenverband)\nund Demokratie-Bus der Konrad-Adenauer-Stiftung \n12.30 – 14.00 Uhr „Das Karfreitagsgefecht. Deutsche Soldaten im Feuer der Taliban.“\nLesung mit Wolf Gregis
URL:https://www.evforum-bonn.de/veranstaltung/veteranentag_hardtberg_matthaei/
LOCATION:Matthäikirche\, Gutenbergstr. 10\, Bonn\, 53123\, Germany
CATEGORIES:Aktuelles,Demokratie-Krieg,Existenzielle Fragestellungen,Lesung - Vortrag,Politik - Geschichte - Soziologie,Theologie / Philosophie,Veranstaltungen von Gemeinden
ATTACH;FMTTYPE=image/png:https://www.evforum-bonn.de/wp-content/uploads/2025/06/LOGO-Veteranentagweb-300x200-1-e1749715760131.png
ORGANIZER;CN="Ev. Kirchengemeinde im Bonner Westen (Hardtberg)":MAILTO:hardtberg@ekir.de
END:VEVENT
BEGIN:VEVENT
DTSTART;TZID=Europe/Berlin:20250615T170000
DTEND;TZID=Europe/Berlin:20250615T190000
DTSTAMP:20260423T121115
CREATED:20250815T082453Z
LAST-MODIFIED:20250815T083305Z
UID:10006155-1750006800-1750014000@www.evforum-bonn.de
SUMMARY:Weißt du\, wer ich bin? Gesprächskreis zwischen Juden und Christen
DESCRIPTION:Im Gesprächskreis „Weißt du\, wer ich bin?“ werden zentrale Fragen des Glaubens und aktuelle Themen aus jüdischer und christlicher Perspektive beleuchtet. Jüdische und christliche Referentinnen und Referenten geben Impulse\, die zum Zuhören\, Nachfragen und offenen Austausch anregen. Die Begegnung möchte das gegenseitige Verständnis fördern und einen Beitrag zum interreligiösen Dialog leisten. \nWann? 1x monatlich (außer in den Ferien)  am 3. Sonntag von 17 – ca. 19 Uhr (uU wechselnde Veranstaltungsorte) – weitere Informationen zum jeweiligen Tagesthema erhalten Sie unter/ bei:📧 info@gcjz-bonn.de🌐 www.gcjz-bonn.de
URL:https://www.evforum-bonn.de/veranstaltung/weisst-du-wer-ich-bin-gespraechskreis-zwischen-juden-und-christen-25-06/
LOCATION:Gemeindehaus/ -zentrum der Ev. Kreuzkirche\, An der Evangelischen Kirche 6\, Bonn\, NRW\, 53113
CATEGORIES:Bibel - Bibelgespräch,Migration - Kultur - Kultureller Austausch,Philosophisch-psychologische Kaffeehausgespräche,Politik - Geschichte - Soziologie,Theologie / Philosophie,Veranstaltungen von Gemeinden,Veranstaltungen von Institutionen und Verbänden,Veranstaltungsreihen
ATTACH;FMTTYPE=image/png:https://www.evforum-bonn.de/wp-content/uploads/2025/04/logo-Gesellschaft-CJZ-Bonn-e.V.png
ORGANIZER;CN="GCJZ Gesellschaft f%C3%BCr Christlich-J%C3%BCdische Zusammenarbeit Bonn e.V.":MAILTO:info@gcjz-bonn.de
END:VEVENT
BEGIN:VEVENT
DTSTART;TZID=Europe/Berlin:20250615T180000
DTEND;TZID=Europe/Berlin:20250615T200000
DTSTAMP:20260423T121115
CREATED:20250204T082718Z
LAST-MODIFIED:20250205T071922Z
UID:10005318-1750010400-1750017600@www.evforum-bonn.de
SUMMARY:Musik & Wort um 6 - Musikalische Abendandacht
DESCRIPTION:15.06.2025 ab 18 Uhr – Aegidienkapelle Bonn-Buschdorf\nJeden 3. Sonntag im Monat – Gottesdienst der Reihe „Musik & Wort um Sechs“ in der kleinen Aegidienkapelle Bonn-Buschdorf – Andacht mit Schwerpunkt „klassische Musik“ \nGemeindebüro\nTel: 02222 951120 – E-Mail: gemeindebuero.hersel@ekir.de
URL:https://www.evforum-bonn.de/veranstaltung/musik-wort-um-6-2025-copy-copy-copy-copy/
LOCATION:St. Aegidius\, Buschdorfer Str. 60\, Bonn\, NRW\, 53117\, Germany
CATEGORIES:Kunst - Musik - Literatur,Veranstaltungen von Gemeinden
ATTACH;FMTTYPE=image/webp:https://www.evforum-bonn.de/wp-content/uploads/2025/02/musik-und-wort-e1738657162373.webp
ORGANIZER;CN="Ev. Emmaus-Kirchengemeinde an Rhein u. Vorgebirge (Hersel)":MAILTO:gemeindebuero.hersel@ekir.de
END:VEVENT
END:VCALENDAR