BEGIN:VCALENDAR
VERSION:2.0
PRODID:-//Evangelisches Forum Bonn - ECPv6.15.20//NONSGML v1.0//EN
CALSCALE:GREGORIAN
METHOD:PUBLISH
X-ORIGINAL-URL:https://www.evforum-bonn.de
X-WR-CALDESC:Veranstaltungen für Evangelisches Forum Bonn
REFRESH-INTERVAL;VALUE=DURATION:PT1H
X-Robots-Tag:noindex
X-PUBLISHED-TTL:PT1H
BEGIN:VTIMEZONE
TZID:Europe/Berlin
BEGIN:DAYLIGHT
TZOFFSETFROM:+0100
TZOFFSETTO:+0200
TZNAME:CEST
DTSTART:20240331T010000
END:DAYLIGHT
BEGIN:STANDARD
TZOFFSETFROM:+0200
TZOFFSETTO:+0100
TZNAME:CET
DTSTART:20241027T010000
END:STANDARD
BEGIN:DAYLIGHT
TZOFFSETFROM:+0100
TZOFFSETTO:+0200
TZNAME:CEST
DTSTART:20250330T010000
END:DAYLIGHT
BEGIN:STANDARD
TZOFFSETFROM:+0200
TZOFFSETTO:+0100
TZNAME:CET
DTSTART:20251026T010000
END:STANDARD
BEGIN:DAYLIGHT
TZOFFSETFROM:+0100
TZOFFSETTO:+0200
TZNAME:CEST
DTSTART:20260329T010000
END:DAYLIGHT
BEGIN:STANDARD
TZOFFSETFROM:+0200
TZOFFSETTO:+0100
TZNAME:CET
DTSTART:20261025T010000
END:STANDARD
END:VTIMEZONE
BEGIN:VEVENT
DTSTART;TZID=Europe/Berlin:20250619T090000
DTEND;TZID=Europe/Berlin:20250619T160000
DTSTAMP:20260423T104310
CREATED:20250514T104810Z
LAST-MODIFIED:20250514T104915Z
UID:10005671-1750323600-1750348800@www.evforum-bonn.de
SUMMARY:WDTD 5 - What does Theology do\, Actually? (Tag 2)
DESCRIPTION:18. & 19. Juni 2025* | Universität Bonn\, Heussallee 18–24 | Eintritt frei \nDie internationale Tagung „What Does Theology Do? 5“ (WDTD 5) widmet sich dem Thema „Macht in der Praxis“. Im Zentrum stehen Fragen nach sozialer Position\, Privilegien und Verantwortung in der Praktischen Theologie. Diskutiert werden diese Themen in Bezug auf verschiedene kirchliche Praxisfelder – etwa Diakonie\, (pastorale) Begleitung\, Bildung\, Gemeindearbeit\, Verkündigung und theologische Ausbildung – stets mit Blick auf interkulturelle Perspektiven in einer post-homogenen Gesellschaft. \nTagungssprachen: Englisch & DeutschTeilnahme kostenfrei – Anmeldung über Formular oder per E-Mail an: \nDr. Matthew Ryan Robinson | 📧 whatdoestheologydo@gmail.com | +49 228 73-69031 \n*eine Anmeldung für Einzeltage ist möglich! \nOffizieller Flyer zur Veranstaltung
URL:https://www.evforum-bonn.de/veranstaltung/wdtd-5-what_does-theology_do_tag2/
LOCATION:Universität Bonn – Forum Internationale Wissenschaft\, Heussallee 18-24\, Bonn\, NRW\, 53113\, Germany
CATEGORIES:Aktuelles,Existenzielle Fragestellungen,Fort- und Weiterbildung,KI Künstliche Intelligenz - Digital,Lehrgang | Kurs,Lesung - Vortrag,Philosophisch-psychologische Kaffeehausgespräche,Theologie / Philosophie,Veranstaltungen von Institutionen und Verbänden,Zentralprogramm
ATTACH;FMTTYPE=image/jpeg:https://www.evforum-bonn.de/wp-content/uploads/2025/05/wdtd_logo.jpg
END:VEVENT
BEGIN:VEVENT
DTSTART;TZID=Europe/Berlin:20250619T100000
DTEND;TZID=Europe/Berlin:20250619T120000
DTSTAMP:20260423T104310
CREATED:20250123T114540Z
LAST-MODIFIED:20250123T114612Z
UID:10005233-1750327200-1750334400@www.evforum-bonn.de
SUMMARY:Männerfrühstück 2025
DESCRIPTION:Für den Mann ab 70 – Frühstück mit Vortrag und Diskussion – geplant 2025 – jeden 3. Donnerstag im Monat  \nZu den Treffen gibt es meist ein Thema\, mit dem die Runde sich nach dem Frühstück auseinandersetzt: \nMan hört einen Vortrag\, diskutiert gemeinsam oder schaut einen Filmbeitrag an. Einmal im Jahr ist ein Ausflug geplant. \nDie Themen und Ausflugsziele werden gemeinsam abgestimmt. \nEine regelmäßige Teilnahme ist nicht nötig: Man kommt nach Lust und Laune! \n  \n 
URL:https://www.evforum-bonn.de/veranstaltung/maennerfruehstueck-2023-copy-copy-2-copy-copy-copy-copy-copy-copy-copy-copy-copy-copy-copy-copy/
LOCATION:Gemeindehaus der Friedenskirchengemeinde\, Franz-Bücheler-Straße 10\, Bonn\, NRW\, 53129\, Germany
CATEGORIES:Veranstaltungen von Gemeinden
ATTACH;FMTTYPE=image/jpeg:https://www.evforum-bonn.de/wp-content/uploads/2025/01/Maennerfruehstueck.jpg
END:VEVENT
END:VCALENDAR